- Раздел: Животные
- Дата съёмки: 18.12.2013 22:18
- Дата загрузки фото: 18.12.2013 22:57
- Оригинальная фотография: 1936 x 2000 (2,0 Мб)
- Технические характеристики:
- Фотоаппарат: Sony SLT-A55V
- Выдержка: 1/80
- Гиперфокальное расстояние: inf m
- Диафрагма: 2,0
- Светочувствительность: 100
- Фокусное расстояние: 50,0 mm (35 mm equivalent: 50,0 mm)
- Экспокоррекция: -0,3
- Полный EXIF
- Adobe
- ColorTransform: YCbCr
- Composite
- Aperture: 2,0
- CircleOfConfusion: 0,020 mm
- FOV: 39,0 deg
- FocalLength35efl: 50,0 mm (35 mm equivalent: 50,0 mm)
- GPSAltitude: 172,6 m Above Sea Level
- GPSDateTime: 2013:09:02 16:01:44Z
- GPSLatitude: 47 deg 45' 1,00" N
- GPSLongitude: 39 deg 58' 44,00" E
- GPSPosition: 47 deg 45' 1,00" N, 39 deg 58' 44,00" E
- HyperfocalDistance: inf m
- LensID: Minolta AF 50mm F1.7
- ScaleFactor35efl: 1,5
- ShutterSpeed: 1/80
- ExifIFD
- ApertureValue: 2,0
- BrightnessValue: -0,25
- Contrast: High
- CreateDate: 2013:12:18 22:18:53
- CustomRendered: Normal
- DateTimeOriginal: 2013:12:18 22:18:53
- ExposureCompensation: -0,3
- ExposureMode: Auto
- ExposureProgram: Aperture-priority AE
- ExposureTime: 1/80
- FNumber: 2,0
- Flash: On, Fired
- FocalLength: 50,0 mm
- FocalLengthIn35mmFormat: 75 mm
- ISO: 100
- LensInfo: 50mm f/1.7
- LensModel: 50mm F1.7
- LightSource: Unknown
- MaxApertureValue: 1,7
- MeteringMode: Center-weighted average
- RecommendedExposureIndex: 100
- Saturation: Normal
- SceneCaptureType: Standard
- SceneType: Directly photographed
- SensitivityType: Recommended Exposure Index
- Sharpness: Hard
- ShutterSpeedValue: 1/80
- WhiteBalance: Auto
- GPS
- GPSAltitude: 172,6 m
- GPSAltitudeRef: Above Sea Level
- GPSDateStamp: 2013:09:02
- GPSDifferential: No Correction
- GPSLatitude: 47 deg 45' 1,00"
- GPSLatitudeRef: North
- GPSLongitude: 39 deg 58' 44,00"
- GPSLongitudeRef: East
- GPSMapDatum: WGS-84
- GPSMeasureMode: 3-Dimensional Measurement
- GPSSpeed: 106,6
- GPSSpeedRef: km/h
- GPSStatus: Measurement Void
- GPSTimeStamp: 16:01:44
- GPSTrack: 124,11
- GPSTrackRef: True North
- GPSVersionID: 2.3.0.0
- ICC-header
- ICC-meas
- ICC-view
- IFD0
- ImageDescription: SONY DSC
- Make: SONY
- Model: SLT-A55V
- ModifyDate: 2013:12:18 19:29:23
- IFD1
- IPTC
- Caption-Abstract: SONY DSC
- DateCreated: 2013:12:18
- System
- XMP-aux
- Lens: 50mm F1.7
- LensID: 25501
- XMP-crs
- AlreadyApplied: True
- BlueHue: 0
- BlueSaturation: 0
- Brightness: +57
- ChromaticAberrationB: 0
- ChromaticAberrationR: 0
- Clarity: 0
- ColorNoiseReduction: 25
- ColorNoiseReductionDetail: 50
- ColorTemperature: 3800
- Contrast: +85
- ConvertToGrayscale: False
- CropAngle: 0
- CropBottom: 1
- CropConstrainToWarp: 0
- CropHeight: 1936
- CropLeft: 0.141667
- CropRight: 0.722222
- CropTop: 0
- CropUnit: pixels
- CropWidth: 2000
- Defringe: 0
- Exposure: -0.80
- FillLight: 62
- GrainAmount: 0
- GreenHue: 0
- GreenSaturation: 0
- HasCrop: True
- HasSettings: True
- HighlightRecovery: 24
- HueAdjustmentAqua: 0
- HueAdjustmentBlue: 0
- HueAdjustmentGreen: 0
- HueAdjustmentMagenta: 0
- HueAdjustmentOrange: 0
- HueAdjustmentPurple: 0
- HueAdjustmentRed: +100
- HueAdjustmentYellow: 0
- LensManualDistortionAmount: 0
- LensProfileEnable: 0
- LensProfileSetup: LensDefaults
- LuminanceAdjustmentAqua: 0
- LuminanceAdjustmentBlue: 0
- LuminanceAdjustmentGreen: 0
- LuminanceAdjustmentMagenta: 0
- LuminanceAdjustmentOrange: 0
- LuminanceAdjustmentPurple: 0
- LuminanceAdjustmentRed: 0
- LuminanceAdjustmentYellow: 0
- LuminanceNoiseReductionContrast: 0
- LuminanceNoiseReductionDetail: 50
- LuminanceSmoothing: 36
- ParametricDarks: 0
- ParametricHighlightSplit: 75
- ParametricHighlights: 0
- ParametricLights: 0
- ParametricMidtoneSplit: 50
- ParametricShadowSplit: 25
- ParametricShadows: 0
- PerspectiveHorizontal: 0
- PerspectiveRotate: 0.0
- PerspectiveScale: 100
- PerspectiveVertical: 0
- PostCropVignetteAmount: -47
- PostCropVignetteFeather: 50
- PostCropVignetteHighlightContrast: 0
- PostCropVignetteMidpoint: 50
- PostCropVignetteRoundness: 0
- PostCropVignetteStyle: 1
- ProcessVersion: 5.7
- RedHue: 0
- RedSaturation: 0
- Saturation: -24
- SaturationAdjustmentAqua: 0
- SaturationAdjustmentBlue: 0
- SaturationAdjustmentGreen: 0
- SaturationAdjustmentMagenta: 0
- SaturationAdjustmentOrange: 0
- SaturationAdjustmentPurple: 0
- SaturationAdjustmentRed: -100
- SaturationAdjustmentYellow: 0
- ShadowTint: 0
- Shadows: 32
- SharpenDetail: 25
- SharpenEdgeMasking: 0
- SharpenRadius: +1.0
- Sharpness: 143
- SplitToningBalance: 0
- SplitToningHighlightHue: 0
- SplitToningHighlightSaturation: 0
- SplitToningShadowHue: 0
- SplitToningShadowSaturation: 0
- Tint: +2
- ToneCurve: 0, 0, 32, 22, 64, 56, 128, 128, 192, 196, 255, 255
- ToneCurveName: Medium Contrast
- Version: 6.6
- Vibrance: -100
- VignetteAmount: 0
- WhiteBalance: Custom
- XMP-dc
- Description: SONY DSC
- Format: image/jpeg
- XMP-xmp
- ModifyDate: 2013:12:18 19:29:23Z
- XMP-xmpMM