- Раздел: Портрет
- Дата съёмки: 21.12.2013 19:16
- Дата загрузки фото: 23.12.2013 13:50
- Оригинальная фотография: 2007 x 1338 (1,8 Мб)
- Технические характеристики:
- Фотоаппарат: Canon EOS 1100D
- Выдержка: 1/100
- Гиперфокальное расстояние: inf m
- Диафрагма: 1,8
- Светочувствительность: 800
- Фокусное расстояние: 85,0 mm (35 mm equivalent: 255,0 mm)
- Полный EXIF
- Adobe
- ColorTransform: YCbCr
- Composite
- Aperture: 1,8
- CircleOfConfusion: 0,009 mm
- FOV: 8,0 deg
- FocalLength35efl: 85,0 mm (35 mm equivalent: 255,0 mm)
- HyperfocalDistance: inf m
- LensID: Canon EF 85mm f/1.8 USM
- ScaleFactor35efl: 3,3
- ShutterSpeed: 1/100
- ExifIFD
- ApertureValue: 1,8
- ColorSpace: sRGB
- CreateDate: 2013:12:21 19:16:09
- CustomRendered: Normal
- DateTimeOriginal: 2013:12:21 19:16:09
- ExifImageHeight: 1338
- ExifImageWidth: 2007
- ExposureCompensation: 0
- ExposureMode: Manual
- ExposureProgram: Manual
- ExposureTime: 1/100
- FNumber: 1,8
- Flash: Off, Did not fire
- FocalLength: 85,0 mm
- ISO: 800
- LensInfo: 85mm f/?
- LensModel: EF85mm f/1.8 USM
- LensSerialNumber: 0000033d54
- MaxApertureValue: 1,8
- MeteringMode: Multi-segment
- RecommendedExposureIndex: 800
- SceneCaptureType: Standard
- SensitivityType: Recommended Exposure Index
- SerialNumber: 203063013267
- ShutterSpeedValue: 1/100
- WhiteBalance: Auto
- ICC-header
- ICC-meas
- ICC-view
- IFD0
- Artist: snake
- Copyright: snake
- Make: Canon
- Model: Canon EOS 1100D
- ModifyDate: 2013:12:22 16:27:28
- Orientation: Horizontal (normal)
- IFD1
- IPTC
- By-line: snake
- CopyrightNotice: snake
- DateCreated: 2013:12:21
- System
- XMP-aux
- ApproximateFocusDistance: 7,27
- Firmware: 1.0.5
- FlashCompensation: 0
- ImageNumber: 0
- Lens: EF85mm f/1.8 USM
- LensID: 155
- XMP-crs
- AlreadyApplied: True
- AutoLateralCA: 0
- Blacks2012: -7
- BlueHue: 0
- BlueSaturation: 0
- Brightness: +50
- Clarity: 0
- Clarity2012: +10
- ColorNoiseReduction: 25
- ColorNoiseReductionDetail: 50
- ColorTemperature: 3000
- Contrast: +25
- Contrast2012: +29
- ConvertToGrayscale: False
- Defringe: 0
- Exposure: 0.00
- Exposure2012: +1.00
- FillLight: 0
- GrainAmount: 0
- GreenHue: 0
- GreenSaturation: 0
- HasCrop: False
- HasSettings: True
- HighlightRecovery: 0
- Highlights2012: -7
- HueAdjustmentAqua: 0
- HueAdjustmentBlue: 0
- HueAdjustmentGreen: 0
- HueAdjustmentMagenta: 0
- HueAdjustmentOrange: 0
- HueAdjustmentPurple: 0
- HueAdjustmentRed: 0
- HueAdjustmentYellow: 0
- LensManualDistortionAmount: 0
- LensProfileEnable: 0
- LensProfileSetup: LensDefaults
- LuminanceAdjustmentAqua: 0
- LuminanceAdjustmentBlue: 0
- LuminanceAdjustmentGreen: 0
- LuminanceAdjustmentMagenta: 0
- LuminanceAdjustmentOrange: 0
- LuminanceAdjustmentPurple: 0
- LuminanceAdjustmentRed: 0
- LuminanceAdjustmentYellow: 0
- LuminanceSmoothing: 0
- ParametricDarks: 0
- ParametricHighlightSplit: 75
- ParametricHighlights: -14
- ParametricLights: -7
- ParametricMidtoneSplit: 50
- ParametricShadowSplit: 25
- ParametricShadows: 0
- PerspectiveHorizontal: 0
- PerspectiveRotate: 0.0
- PerspectiveScale: 100
- PerspectiveVertical: 0
- PostCropVignetteAmount: 0
- ProcessVersion: 6.7
- RawFileName: IMG_6282.CR2
- RedHue: 0
- RedSaturation: 0
- Saturation: +11
- SaturationAdjustmentAqua: 0
- SaturationAdjustmentBlue: 0
- SaturationAdjustmentGreen: 0
- SaturationAdjustmentMagenta: 0
- SaturationAdjustmentOrange: 0
- SaturationAdjustmentPurple: 0
- SaturationAdjustmentRed: 0
- SaturationAdjustmentYellow: 0
- ShadowTint: 0
- Shadows: 5
- Shadows2012: -7
- SharpenDetail: 10
- SharpenEdgeMasking: 90
- SharpenRadius: +1.6
- Sharpness: 105
- SplitToningBalance: 0
- SplitToningHighlightHue: 0
- SplitToningHighlightSaturation: 0
- SplitToningShadowHue: 0
- SplitToningShadowSaturation: 0
- Tint: -12
- ToneCurve: 0, 0, 32, 22, 64, 56, 128, 128, 192, 196, 255, 255
- ToneCurveBlue: 0, 0, 255, 255
- ToneCurveGreen: 0, 0, 255, 255
- ToneCurveName: Medium Contrast
- ToneCurveName2012: Linear
- ToneCurvePV2012: 0, 0, 255, 255
- ToneCurvePV2012Blue: 0, 0, 255, 255
- ToneCurvePV2012Green: 0, 0, 255, 255
- ToneCurvePV2012Red: 0, 0, 255, 255
- ToneCurveRed: 0, 0, 255, 255
- Version: 7.0
- Vibrance: 0
- VignetteAmount: 0
- WhiteBalance: Custom
- Whites2012: +7
- XMP-dc
- Creator: snake
- Format: image/jpeg
- Rights: snake
- XMP-xmp
- CreateDate: 2013:12:21 19:16:09.34
- ModifyDate: 2013:12:22 16:27:28+03:00
- XMP-xmpMM
- Просмотров: 227
- Рейтинг: голосов еще нет
- Отзывов: 0