- Раздел: Портрет
- Дата съёмки: 29.12.2013 12:43
- Дата загрузки фото: 05.01.2014 12:32
- Оригинальная фотография: 2136 x 1424 (2,2 Мб)
- Технические характеристики:
- Фотоаппарат: Canon EOS 1100D
- Выдержка: 1/125
- Гиперфокальное расстояние: inf m
- Диафрагма: 1,8
- Светочувствительность: 400
- Фокусное расстояние: 85,0 mm (35 mm equivalent: 255,0 mm)
- Полный EXIF
- Adobe
- ColorTransform: YCbCr
- Composite
- Aperture: 1,8
- CircleOfConfusion: 0,010 mm
- FOV: 8,0 deg
- FocalLength35efl: 85,0 mm (35 mm equivalent: 255,0 mm)
- HyperfocalDistance: inf m
- LensID: Canon EF 85mm f/1.8 USM
- ScaleFactor35efl: 3,1
- ShutterSpeed: 1/125
- ExifIFD
- ApertureValue: 1,8
- ColorSpace: sRGB
- CreateDate: 2013:12:29 12:43:37
- CustomRendered: Normal
- DateTimeOriginal: 2013:12:29 12:43:37
- ExifImageHeight: 1424
- ExifImageWidth: 2136
- ExposureCompensation: 0
- ExposureMode: Manual
- ExposureProgram: Manual
- ExposureTime: 1/125
- FNumber: 1,8
- Flash: Off, Did not fire
- FocalLength: 85,0 mm
- ISO: 400
- LensInfo: 85mm f/?
- LensModel: EF85mm f/1.8 USM
- LensSerialNumber: 0000033d54
- MaxApertureValue: 1,8
- MeteringMode: Multi-segment
- RecommendedExposureIndex: 400
- SceneCaptureType: Standard
- SensitivityType: Recommended Exposure Index
- SerialNumber: 203063013267
- ShutterSpeedValue: 1/125
- WhiteBalance: Auto
- ICC-header
- ICC-meas
- ICC-view
- IFD0
- Artist: snake
- Copyright: snake
- Make: Canon
- Model: Canon EOS 1100D
- ModifyDate: 2014:01:04 22:40:59
- Orientation: Horizontal (normal)
- IFD1
- IPTC
- By-line: snake
- CopyrightNotice: snake
- DateCreated: 2013:12:29
- System
- XMP-aux
- ApproximateFocusDistance: 4294967295
- Firmware: 1.0.5
- FlashCompensation: 0
- ImageNumber: 0
- Lens: EF85mm f/1.8 USM
- LensID: 155
- XMP-crs
- AlreadyApplied: True
- AutoLateralCA: 0
- Blacks2012: 0
- BlueHue: 0
- BlueSaturation: 0
- Brightness: +50
- Clarity: 0
- Clarity2012: +10
- ColorNoiseReduction: 25
- ColorNoiseReductionDetail: 50
- ColorTemperature: 3200
- Contrast: +25
- Contrast2012: 0
- ConvertToGrayscale: False
- Defringe: 0
- Exposure: 0.00
- Exposure2012: 0.00
- FillLight: 0
- GrainAmount: 0
- GreenHue: 0
- GreenSaturation: 0
- HasCrop: False
- HasSettings: True
- HighlightRecovery: 0
- Highlights2012: 0
- HueAdjustmentAqua: 0
- HueAdjustmentBlue: 0
- HueAdjustmentGreen: 0
- HueAdjustmentMagenta: 0
- HueAdjustmentOrange: 0
- HueAdjustmentPurple: 0
- HueAdjustmentRed: 0
- HueAdjustmentYellow: 0
- LensManualDistortionAmount: 0
- LensProfileEnable: 0
- LensProfileSetup: LensDefaults
- LuminanceAdjustmentAqua: 0
- LuminanceAdjustmentBlue: 0
- LuminanceAdjustmentGreen: 0
- LuminanceAdjustmentMagenta: 0
- LuminanceAdjustmentOrange: 0
- LuminanceAdjustmentPurple: 0
- LuminanceAdjustmentRed: 0
- LuminanceAdjustmentYellow: 0
- LuminanceNoiseReductionContrast: 0
- LuminanceNoiseReductionDetail: 50
- LuminanceSmoothing: 20
- ParametricDarks: 0
- ParametricHighlightSplit: 75
- ParametricHighlights: 0
- ParametricLights: 0
- ParametricMidtoneSplit: 50
- ParametricShadowSplit: 25
- ParametricShadows: 0
- PerspectiveHorizontal: 0
- PerspectiveRotate: 0.0
- PerspectiveScale: 100
- PerspectiveVertical: 0
- PostCropVignetteAmount: 0
- ProcessVersion: 6.7
- RawFileName: IMG_7261.CR2
- RedHue: 0
- RedSaturation: 0
- Saturation: 0
- SaturationAdjustmentAqua: 0
- SaturationAdjustmentBlue: 0
- SaturationAdjustmentGreen: 0
- SaturationAdjustmentMagenta: 0
- SaturationAdjustmentOrange: 0
- SaturationAdjustmentPurple: 0
- SaturationAdjustmentRed: 0
- SaturationAdjustmentYellow: 0
- ShadowTint: 0
- Shadows: 5
- Shadows2012: 0
- SharpenDetail: 51
- SharpenEdgeMasking: 73
- SharpenRadius: +1.0
- Sharpness: 49
- SplitToningBalance: 0
- SplitToningHighlightHue: 0
- SplitToningHighlightSaturation: 0
- SplitToningShadowHue: 0
- SplitToningShadowSaturation: 0
- Tint: +5
- ToneCurve: 0, 0, 32, 22, 64, 56, 128, 128, 192, 196, 255, 255
- ToneCurveBlue: 0, 0, 255, 255
- ToneCurveGreen: 0, 0, 255, 255
- ToneCurveName: Medium Contrast
- ToneCurveName2012: Linear
- ToneCurvePV2012: 0, 0, 255, 255
- ToneCurvePV2012Blue: 0, 0, 255, 255
- ToneCurvePV2012Green: 0, 0, 255, 255
- ToneCurvePV2012Red: 0, 0, 255, 255
- ToneCurveRed: 0, 0, 255, 255
- Version: 7.0
- Vibrance: +30
- VignetteAmount: 0
- WhiteBalance: As Shot
- Whites2012: 0
- XMP-dc
- Creator: snake
- Format: image/jpeg
- Rights: snake
- XMP-xmp
- CreateDate: 2013:12:29 12:43:37.42
- ModifyDate: 2014:01:04 22:40:59+03:00
- XMP-xmpMM
- Просмотров: 236
- Рейтинг: голосов еще нет
- Отзывов: 0