Primoplan 1.9 |
![](img/title-line.gif) |
![](img/title-shadow.gif) | |
Primoplan 1.9
- Раздел: Другое, разное
- Дата съёмки: 04.01.2014 19:02
- Дата загрузки фото: 05.01.2014 13:30
- Оригинальная фотография: 1200 x 883 (649 Кб)
- Технические характеристики:
- Фотоаппарат: Pentax K-x
- Выдержка: 1/125
- Светочувствительность: 400
- Экспокоррекция: +1,7
- Полный EXIF
- Adobe
- ColorTransform: YCbCr
- Composite
- LensID: M-42 or No Lens
- ShutterSpeed: 1/125
- ExifIFD
- CFAPattern: [Blue,Green][Green,Red]
- ColorSpace: Uncalibrated
- Contrast: Normal
- CreateDate: 2014:01:04 19:02:41
- CustomRendered: Normal
- DateTimeOriginal: 2014:01:04 19:02:41
- ExifImageHeight: 883
- ExifImageWidth: 1200
- ExposureCompensation: +1,7
- ExposureMode: Manual
- ExposureProgram: Aperture-priority AE
- ExposureTime: 1/125
- Flash: Off, Did not fire
- ISO: 400
- MeteringMode: Center-weighted average
- Saturation: Normal
- SceneCaptureType: Standard
- SensingMethod: One-chip color area
- Sharpness: Soft
- ShutterSpeedValue: 1/125
- SubjectDistanceRange: Unknown
- WhiteBalance: Auto
- ICC-header
- IFD0
- Artist: SAMURAEV
- Copyright: SAMURAEV
- Make: PENTAX
- Model: PENTAX K-x
- ModifyDate: 2014:01:05 08:48:11
- Orientation: Horizontal (normal)
- IFD1
- IPTC
- By-line: SAMURAEV
- CopyrightNotice: SAMURAEV
- DateCreated: 2014:01:04
- System
- XMP-aux
- XMP-crs
- AlreadyApplied: True
- AutoLateralCA: 0
- AutoWhiteVersion: 134348800
- Blacks2012: -41
- BlueHue: 0
- BlueSaturation: 0
- Clarity2012: +19
- ColorNoiseReduction: 25
- ColorNoiseReductionDetail: 50
- ColorNoiseReductionSmoothness: 50
- ColorTemperature: 4900
- Contrast2012: 0
- ConvertToGrayscale: False
- CropAngle: 0
- CropBottom: 1
- CropConstrainToWarp: 1
- CropLeft: 0.097489
- CropRight: 1
- CropTop: 0
- DefringeGreenAmount: 0
- DefringeGreenHueHi: 60
- DefringeGreenHueLo: 40
- DefringePurpleAmount: 0
- DefringePurpleHueHi: 70
- DefringePurpleHueLo: 30
- Exposure2012: 0.00
- GrainAmount: 0
- GreenHue: +21
- GreenSaturation: -7
- HasCrop: True
- HasSettings: True
- Highlights2012: 0
- HueAdjustmentAqua: 0
- HueAdjustmentBlue: 0
- HueAdjustmentGreen: 0
- HueAdjustmentMagenta: 0
- HueAdjustmentOrange: 0
- HueAdjustmentPurple: 0
- HueAdjustmentRed: 0
- HueAdjustmentYellow: 0
- LensManualDistortionAmount: 0
- LensProfileEnable: 0
- LensProfileSetup: LensDefaults
- LuminanceAdjustmentAqua: 0
- LuminanceAdjustmentBlue: 0
- LuminanceAdjustmentGreen: 0
- LuminanceAdjustmentMagenta: 0
- LuminanceAdjustmentOrange: 0
- LuminanceAdjustmentPurple: 0
- LuminanceAdjustmentRed: 0
- LuminanceAdjustmentYellow: 0
- LuminanceSmoothing: 0
- ParametricDarks: 0
- ParametricHighlightSplit: 75
- ParametricHighlights: 0
- ParametricLights: 0
- ParametricMidtoneSplit: 50
- ParametricShadowSplit: 25
- ParametricShadows: 0
- PerspectiveAspect: 0
- PerspectiveHorizontal: 0
- PerspectiveRotate: 0.0
- PerspectiveScale: 100
- PerspectiveUpright: 0
- PerspectiveVertical: 0
- PostCropVignetteAmount: 0
- ProcessVersion: 6.7
- RawFileName: IMGP2719.PEF
- RedHue: +12
- RedSaturation: -54
- Saturation: 0
- SaturationAdjustmentAqua: 0
- SaturationAdjustmentBlue: 0
- SaturationAdjustmentGreen: 0
- SaturationAdjustmentMagenta: 0
- SaturationAdjustmentOrange: 0
- SaturationAdjustmentPurple: 0
- SaturationAdjustmentRed: 0
- SaturationAdjustmentYellow: 0
- ShadowTint: 0
- Shadows2012: 0
- SharpenDetail: 25
- SharpenEdgeMasking: 0
- SharpenRadius: +1.0
- Sharpness: 96
- SplitToningBalance: 0
- SplitToningHighlightHue: 0
- SplitToningHighlightSaturation: 0
- SplitToningShadowHue: 0
- SplitToningShadowSaturation: 0
- Tint: +8
- ToneCurveName2012: Linear
- ToneCurvePV2012: 0, 0, 255, 255
- ToneCurvePV2012Blue: 0, 0, 255, 255
- ToneCurvePV2012Green: 0, 0, 255, 255
- ToneCurvePV2012Red: 0, 0, 255, 255
- Version: 8.2
- Vibrance: 0
- VignetteAmount: 0
- WhiteBalance: As Shot
- Whites2012: +48
- XMP-dc
- Creator: SAMURAEV
- Format: image/jpeg
- Rights: SAMURAEV
- XMP-xmp
- CreatorTool: K-x Ver 1.01
- ModifyDate: 2014:01:05 08:48:11+04:00
- Rating: 0
- XMP-xmpMM
- Просмотров: 228
- Рейтинг: голосов еще нет
- Отзывов: 0
Получить код для блога
Вставка фотографии в текущем разрешении |
Вставка миниатюры |
HTML (для вставки в блог):
BBCode (для вставки в форум):
Ссылка на фото:
Ссылка на миниатюру:
- Послать ссылку другу
Комментарии к фотографии |