- Раздел: Другое, разное
- Дата съёмки: 30.01.2014 12:17
- Дата загрузки фото: 03.02.2014 19:41
- Оригинальная фотография: 3872 x 2592 (2,5 Мб)
- Технические характеристики:
- Фотоаппарат: Nikon 1 J1
- Выдержка: 1/2000
- Гиперфокальное расстояние: inf m
- Диафрагма: 4,5
- Светочувствительность: 200
- Фокусное расстояние: 10,0 mm (35 mm equivalent: 20,0 mm)
- Экспокоррекция: -2/3
- Полный EXIF
- Adobe
- ColorTransform: YCbCr
- Composite
- Aperture: 4,5
- CircleOfConfusion: 0,011 mm
- FOV: 83,0 deg
- FocalLength35efl: 10,0 mm (35 mm equivalent: 20,0 mm)
- HyperfocalDistance: inf m
- ScaleFactor35efl: 2,8
- ShutterSpeed: 1/2000
- ExifIFD
- ApertureValue: 4,5
- Contrast: Normal
- CreateDate: 2014:01:30 12:17:58
- CustomRendered: Normal
- DateTimeOriginal: 2014:01:30 12:17:58
- DigitalZoomRatio: 1
- ExposureCompensation: -2/3
- ExposureMode: Auto
- ExposureProgram: Aperture-priority AE
- ExposureTime: 1/2000
- FNumber: 4,5
- Flash: No Flash
- FocalLength: 10,7 mm
- FocalLengthIn35mmFormat: 28 mm
- GainControl: None
- ISO: 200
- LensInfo: 10-30mm f/3.5-5.6
- LensModel: 1 NIKKOR VR 10-30mm f/3.5-5.6
- LightSource: Unknown
- MaxApertureValue: 3,5
- MeteringMode: Multi-segment
- Saturation: Normal
- SceneCaptureType: Standard
- SceneType: Directly photographed
- SensingMethod: One-chip color area
- SensitivityType: Recommended Exposure Index
- SerialNumber: 64017224
- Sharpness: Normal
- ShutterSpeedValue: 1/2000
- SubjectDistanceRange: Unknown
- WhiteBalance: Auto
- ICC-header
- ICC-meas
- ICC-view
- IFD0
- Make: NIKON CORPORATION
- Model: NIKON 1 J1
- ModifyDate: 2014:01:31 04:16:37
- IFD1
- IPTC
- DateCreated: 2014:01:30
- System
- XMP-aux
- ImageNumber: 724
- Lens: 1 NIKKOR VR 10-30mm f/3.5-5.6
- XMP-crs
- AlreadyApplied: True
- BlueHue: 0
- BlueSaturation: 0
- Brightness: +50
- ChromaticAberrationB: 0
- ChromaticAberrationR: 0
- Clarity: -22
- ColorNoiseReduction: 31
- ColorNoiseReductionDetail: 50
- ColorTemperature: 5400
- Contrast: +25
- ConvertToGrayscale: False
- Defringe: 0
- Exposure: +0.87
- FillLight: 10
- GrainAmount: 0
- GreenHue: 0
- GreenSaturation: 0
- HasCrop: False
- HasSettings: True
- HighlightRecovery: 0
- HueAdjustmentAqua: 0
- HueAdjustmentBlue: 0
- HueAdjustmentGreen: 0
- HueAdjustmentMagenta: 0
- HueAdjustmentOrange: 0
- HueAdjustmentPurple: 0
- HueAdjustmentRed: 0
- HueAdjustmentYellow: 0
- LensManualDistortionAmount: 0
- LensProfileChromaticAberrationScale: 100
- LensProfileDistortionScale: 100
- LensProfileEnable: 1
- LensProfileFilename: NIKON 1 J1 (Nikon 1 NIKKOR VR 10-30mm f3.5-5.6) - RAW.lcp
- LensProfileSetup: LensDefaults
- LensProfileVignettingScale: 100
- LuminanceAdjustmentAqua: 0
- LuminanceAdjustmentBlue: 0
- LuminanceAdjustmentGreen: 0
- LuminanceAdjustmentMagenta: 0
- LuminanceAdjustmentOrange: 0
- LuminanceAdjustmentPurple: 0
- LuminanceAdjustmentRed: 0
- LuminanceAdjustmentYellow: 0
- LuminanceNoiseReductionContrast: 0
- LuminanceNoiseReductionDetail: 50
- LuminanceSmoothing: 45
- ParametricDarks: 0
- ParametricHighlightSplit: 75
- ParametricHighlights: 0
- ParametricLights: 0
- ParametricMidtoneSplit: 50
- ParametricShadowSplit: 25
- ParametricShadows: 0
- PerspectiveHorizontal: 0
- PerspectiveRotate: 0.0
- PerspectiveScale: 100
- PerspectiveVertical: 0
- PostCropVignetteAmount: 0
- ProcessVersion: 5.7
- RedHue: 0
- RedSaturation: 0
- Saturation: 0
- SaturationAdjustmentAqua: 0
- SaturationAdjustmentBlue: 0
- SaturationAdjustmentGreen: 0
- SaturationAdjustmentMagenta: 0
- SaturationAdjustmentOrange: 0
- SaturationAdjustmentPurple: 0
- SaturationAdjustmentRed: 0
- SaturationAdjustmentYellow: 0
- ShadowTint: 0
- Shadows: 5
- SharpenDetail: 25
- SharpenEdgeMasking: 0
- SharpenRadius: +1.0
- Sharpness: 25
- SplitToningBalance: 0
- SplitToningHighlightHue: 0
- SplitToningHighlightSaturation: 0
- SplitToningShadowHue: 0
- SplitToningShadowSaturation: 0
- Tint: +4
- ToneCurve: 0, 0, 32, 22, 64, 56, 128, 128, 192, 196, 255, 255
- ToneCurveName: Medium Contrast
- Version: 6.6
- Vibrance: 0
- VignetteAmount: 0
- WhiteBalance: As Shot
- XMP-dc
- XMP-xmp
- CreateDate: 2014:01:30 12:17:58.00
- ModifyDate: 2014:01:31 04:16:37+02:00
- XMP-xmpMM
- Просмотров: 195
- Рейтинг: голосов еще нет
- Отзывов: 0