- Раздел: Тесты фототехники
- Дата съёмки: 21.07.2012 12:55
- Дата загрузки фото: 05.02.2014 23:17
- Оригинальная фотография: 5184 x 3456 (11,3 Мб)
- Технические характеристики:
- Фотоаппарат: Canon EOS 7D
- Выдержка: 1/1250
- Гиперфокальное расстояние: inf m
- Диафрагма: 2,8
- Светочувствительность: 200
- Фокусное расстояние: 200,0 mm (35 mm equivalent: 200,0 mm)
- Полный EXIF
- Adobe
- ColorTransform: YCbCr
- Composite
- Aperture: 2,8
- CircleOfConfusion: 0,019 mm
- DOF: inf (0,00 m - inf)
- FOV: 10,0 deg
- Flash: Off, Did not fire
- FocalLength35efl: 200,0 mm (35 mm equivalent: 200,0 mm)
- HyperfocalDistance: inf m
- LensID: Canon EF 70-200mm f/2.8L IS II USM
- ScaleFactor35efl: 1,6
- ShutterSpeed: 1/1250
- ExifIFD
- ApertureValue: 2,8
- CreateDate: 2012:07:21 12:55:33
- CustomRendered: Normal
- DateTimeOriginal: 2012:07:21 12:55:33
- ExposureCompensation: 0
- ExposureMode: Auto
- ExposureProgram: Aperture-priority AE
- ExposureTime: 1/1250
- FNumber: 2,8
- FocalLength: 200,0 mm
- ISO: 200
- MaxApertureValue: 2,8
- MeteringMode: Multi-segment
- SceneCaptureType: Standard
- ShutterSpeedValue: 1/1250
- SubjectDistance: 1,71 m
- WhiteBalance: Auto
- ICC-header
- IFD0
- Artist: Max Glushkov
- Make: Canon
- Model: Canon EOS 7D
- ModifyDate: 2012:08:04 22:34:34
- IFD1
- IPTC
- By-line: Max Glushkov
- System
- XMP-aux
- Firmware: 1.2.2
- FlashCompensation: 0
- ImageNumber: 0
- Lens: EF70-200mm f/2.8L IS II USM
- LensID: 251
- LensInfo: 70-200mm f/?
- SerialNumber: 880501249
- XMP-crs
- AlreadyApplied: True
- BlueHue: 0
- BlueSaturation: 0
- Brightness: +2
- ChromaticAberrationB: 0
- ChromaticAberrationR: 0
- Clarity: +21
- ColorNoiseReduction: 25
- ColorNoiseReductionDetail: 50
- ColorTemperature: 4950
- Contrast: +28
- ConvertToGrayscale: False
- Defringe: 0
- Exposure: +0.15
- FillLight: 20
- GrainAmount: 0
- GreenHue: 0
- GreenSaturation: 0
- HasCrop: False
- HasSettings: True
- HighlightRecovery: 0
- HueAdjustmentAqua: 0
- HueAdjustmentBlue: 0
- HueAdjustmentGreen: 0
- HueAdjustmentMagenta: 0
- HueAdjustmentOrange: 0
- HueAdjustmentPurple: 0
- HueAdjustmentRed: 0
- HueAdjustmentYellow: 0
- LuminanceAdjustmentAqua: 0
- LuminanceAdjustmentBlue: 0
- LuminanceAdjustmentGreen: 0
- LuminanceAdjustmentMagenta: 0
- LuminanceAdjustmentOrange: 0
- LuminanceAdjustmentPurple: 0
- LuminanceAdjustmentRed: 0
- LuminanceAdjustmentYellow: 0
- LuminanceSmoothing: 0
- ParametricDarks: 0
- ParametricHighlightSplit: 75
- ParametricHighlights: 0
- ParametricLights: 0
- ParametricMidtoneSplit: 50
- ParametricShadowSplit: 25
- ParametricShadows: 0
- PostCropVignetteAmount: 0
- ProcessVersion: 5.7
- RawFileName: IMG_9105.CR2
- RedHue: 0
- RedSaturation: 0
- Saturation: 0
- SaturationAdjustmentAqua: 0
- SaturationAdjustmentBlue: 0
- SaturationAdjustmentGreen: 0
- SaturationAdjustmentMagenta: 0
- SaturationAdjustmentOrange: 0
- SaturationAdjustmentPurple: 0
- SaturationAdjustmentRed: 0
- SaturationAdjustmentYellow: 0
- ShadowTint: 0
- Shadows: 3
- SharpenDetail: 35
- SharpenEdgeMasking: 0
- SharpenRadius: +0.8
- Sharpness: 39
- SplitToningBalance: 0
- SplitToningHighlightHue: 0
- SplitToningHighlightSaturation: 0
- SplitToningShadowHue: 0
- SplitToningShadowSaturation: 0
- Tint: +35
- ToneCurve: 0, 0, 32, 22, 64, 56, 128, 128, 192, 196, 255, 255
- ToneCurveName: Medium Contrast
- Version: 6.0
- Vibrance: +18
- VignetteAmount: 0
- WhiteBalance: As Shot
- XMP-dc
- XMP-exif
- DateTimeDigitized: 2012:07:21 12:55:33.00+04:00
- DateTimeOriginal: 2012:07:21 12:55:33.00+04:00
- ExifImageHeight: 3456
- ExifImageWidth: 5184
- FlashFired: False
- FlashFunction: False
- FlashMode: Off
- FlashRedEyeMode: False
- FlashReturn: No return detection
- XMP-tiff
- ImageHeight: 3456
- ImageWidth: 5184
- XMP-xmp
- CreateDate: 2012:07:21 12:55:33.00+04:00
- ModifyDate: 2012:08:04 22:34:34+04:00
- Rating: 0
- Просмотров: 360
- Рейтинг: голосов еще нет
- Отзывов: 0