- Раздел: Другое, разное
- Дата съёмки: 22.09.2013 08:45
- Дата загрузки фото: 13.02.2014 16:43
- Оригинальная фотография: 2526 x 3775 (7,8 Мб)
- Технические характеристики:
- Фотоаппарат: Nikon D3000
- Выдержка: 1/125
- Гиперфокальное расстояние: inf m
- Диафрагма: 2,2
- Светочувствительность: 100
- Фокусное расстояние: 50,0 mm (35 mm equivalent: 50,0 mm)
- Экспокоррекция: -1/3
- Полный EXIF
- Adobe
- ColorTransform: YCbCr
- Composite
- Aperture: 2,2
- CircleOfConfusion: 0,020 mm
- FOV: 39,0 deg
- FocalLength35efl: 50,0 mm (35 mm equivalent: 50,0 mm)
- HyperfocalDistance: inf m
- LensID: AF-S Nikkor 50mm f/1.4G
- ScaleFactor35efl: 1,5
- ShutterSpeed: 1/125
- ExifIFD
- ApertureValue: 2,2
- CFAPattern: [Green,Blue][Red,Green]
- Contrast: Normal
- CreateDate: 2013:09:22 08:45:38
- CustomRendered: Normal
- DateTimeOriginal: 2013:09:22 08:45:38
- DigitalZoomRatio: 1
- ExposureCompensation: -1/3
- ExposureMode: Manual
- ExposureProgram: Manual
- ExposureTime: 1/125
- FNumber: 2,2
- Flash: No Flash
- FocalLength: 50,0 mm
- FocalLengthIn35mmFormat: 75 mm
- GainControl: None
- ISO: 100
- LensInfo: 50mm f/1.4
- LensModel: 50.0 mm f/1.4
- LightSource: Unknown
- MaxApertureValue: 1,4
- MeteringMode: Center-weighted average
- Saturation: Low
- SceneCaptureType: Standard
- SceneType: Directly photographed
- SensingMethod: One-chip color area
- SerialNumber: 6016022
- Sharpness: Soft
- ShutterSpeedValue: 1/125
- SubjectDistanceRange: Unknown
- WhiteBalance: Auto
- ICC-header
- ICC-meas
- ICC-view
- IFD0
- Make: NIKON CORPORATION
- Model: NIKON D3000
- ModifyDate: 2013:10:04 18:58:54
- IFD1
- IPTC
- DateCreated: 2013:09:22
- System
- XMP-aux
- ApproximateFocusDistance: 3,98
- ImageNumber: 23956
- Lens: 50.0 mm f/1.4
- LensID: 160
- XMP-crs
- AlreadyApplied: True
- AutoLateralCA: 0
- Blacks2012: -29
- BlueHue: -21
- BlueSaturation: -34
- Clarity2012: -9
- ColorNoiseReduction: 25
- ColorNoiseReductionDetail: 50
- ColorTemperature: 6200
- Contrast2012: 0
- ConvertToGrayscale: False
- CropAngle: 1
- CropBottom: 1
- CropConstrainToWarp: 0
- CropHeight: 2526
- CropLeft: 0.0184
- CropRight: 0.9816
- CropTop: 0
- CropUnit: pixels
- CropWidth: 3775
- DefringeGreenAmount: 0
- DefringeGreenHueHi: 60
- DefringeGreenHueLo: 40
- DefringePurpleAmount: 0
- DefringePurpleHueHi: 70
- DefringePurpleHueLo: 30
- Exposure2012: -0.21
- GrainAmount: 29
- GrainFrequency: 31
- GrainSize: 14
- GreenHue: -9
- GreenSaturation: +64
- HasCrop: True
- HasSettings: True
- Highlights2012: +9
- HueAdjustmentAqua: 0
- HueAdjustmentBlue: 0
- HueAdjustmentGreen: 0
- HueAdjustmentMagenta: 0
- HueAdjustmentOrange: +5
- HueAdjustmentPurple: 0
- HueAdjustmentRed: 0
- HueAdjustmentYellow: -41
- LensManualDistortionAmount: 0
- LensProfileEnable: 0
- LensProfileSetup: LensDefaults
- LuminanceAdjustmentAqua: 0
- LuminanceAdjustmentBlue: 0
- LuminanceAdjustmentGreen: 0
- LuminanceAdjustmentMagenta: 0
- LuminanceAdjustmentOrange: +19
- LuminanceAdjustmentPurple: 0
- LuminanceAdjustmentRed: -14
- LuminanceAdjustmentYellow: +33
- LuminanceSmoothing: 0
- ParametricDarks: 0
- ParametricHighlightSplit: 75
- ParametricHighlights: 0
- ParametricLights: 0
- ParametricMidtoneSplit: 50
- ParametricShadowSplit: 25
- ParametricShadows: 0
- PerspectiveHorizontal: 0
- PerspectiveRotate: 0.0
- PerspectiveScale: 100
- PerspectiveVertical: 0
- PostCropVignetteAmount: 0
- ProcessVersion: 6.7
- RedHue: +6
- RedSaturation: -15
- Saturation: -40
- SaturationAdjustmentAqua: -11
- SaturationAdjustmentBlue: -56
- SaturationAdjustmentGreen: 0
- SaturationAdjustmentMagenta: -17
- SaturationAdjustmentOrange: -17
- SaturationAdjustmentPurple: -17
- SaturationAdjustmentRed: -17
- SaturationAdjustmentYellow: 0
- ShadowTint: -26
- Shadows2012: +100
- SharpenDetail: 25
- SharpenEdgeMasking: 0
- SharpenRadius: +1.0
- Sharpness: 25
- SplitToningBalance: -48
- SplitToningHighlightHue: 61
- SplitToningHighlightSaturation: 44
- SplitToningShadowHue: 226
- SplitToningShadowSaturation: 21
- Tint: -3
- ToneCurveName2012: Custom
- ToneCurvePV2012: 0, 23, 73, 41, 196, 188, 255, 244
- ToneCurvePV2012Blue: 0, 21, 66, 66, 188, 197, 255, 242
- ToneCurvePV2012Green: 0, 12, 69, 57, 191, 195, 255, 243
- ToneCurvePV2012Red: 2, 19, 68, 66, 189, 189, 255, 244
- Version: 7.4
- Vibrance: +38
- VignetteAmount: 0
- WhiteBalance: Custom
- Whites2012: +23
- XMP-dc
- XMP-xmp
- CreateDate: 2013:09:22 08:45:38.00
- ModifyDate: 2013:10:04 18:58:54+04:00
- XMP-xmpMM
- Просмотров: 198
- Рейтинг: голосов еще нет
- Отзывов: 0