- Раздел: Другое, разное
- Дата съёмки: 26.04.2009 16:28
- Дата загрузки фото: 14.02.2014 03:15
- Оригинальная фотография: 2736 x 3648 (1,2 Мб)
- Технические характеристики:
- Фотоаппарат: Olympus E-420
- Выдержка: 1/50
- Гиперфокальное расстояние: inf m
- Диафрагма: 4,9
- Светочувствительность: 400
- Фокусное расстояние: 27,0 mm (35 mm equivalent: 54,0 mm)
- Полный EXIF
- Adobe
- ColorTransform: YCbCr
- Composite
- Aperture: 4,9
- CircleOfConfusion: 0,015 mm
- FOV: 36,0 deg
- FocalLength35efl: 27,0 mm (35 mm equivalent: 54,0 mm)
- HyperfocalDistance: inf m
- ScaleFactor35efl: 2,0
- ShutterSpeed: 1/50
- ExifIFD
- ApertureValue: 4,9
- Contrast: Normal
- CreateDate: 2009:04:26 16:28:50
- CustomRendered: Normal
- DateTimeOriginal: 2009:04:26 16:28:50
- DigitalZoomRatio: 1
- ExposureCompensation: 0
- ExposureMode: Auto
- ExposureProgram: Program AE
- ExposureTime: 1/50
- FNumber: 4,9
- Flash: On, Did not fire
- FocalLength: 27,0 mm
- FocalLengthIn35mmFormat: 54 mm
- GainControl: High gain up
- ISO: 400
- LensInfo: 14-42mm f/3.5-5.6
- LensModel: OLYMPUS 14-42mm Lens
- LensSerialNumber: 212612598
- LightSource: Unknown
- MaxApertureValue: 3,5
- MeteringMode: Multi-segment
- Saturation: Normal
- SceneCaptureType: Standard
- SerialNumber: G21548081
- Sharpness: Normal
- ShutterSpeedValue: 1/50
- WhiteBalance: Auto
- ICC-header
- ICC-meas
- ICC-view
- IFD0
- ImageDescription: OLYMPUS DIGITAL CAMERA
- Make: OLYMPUS IMAGING CORP.
- Model: E-420
- ModifyDate: 2013:11:03 20:51:03
- IFD1
- IPTC
- Caption-Abstract: OLYMPUS DIGITAL CAMERA
- DateCreated: 2009:04:26
- Keywords: 2009, Владивосток, Дальний Восток, Приморский край, Россия, апрель, весна, девушка, девушки, красота, позирование
- System
- XMP-aux
- FlashCompensation: 0
- Lens: OLYMPUS 14-42mm Lens
- XMP-crs
- AlreadyApplied: True
- AutoLateralCA: 0
- Blacks2012: -5
- BlueHue: 0
- BlueSaturation: 0
- CameraProfile: Embedded
- Clarity2012: -5
- ColorNoiseReduction: 20
- ColorNoiseReductionDetail: 50
- Contrast2012: 0
- ConvertToGrayscale: False
- DefringeGreenAmount: 0
- DefringeGreenHueHi: 60
- DefringeGreenHueLo: 40
- DefringePurpleAmount: 0
- DefringePurpleHueHi: 70
- DefringePurpleHueLo: 30
- Exposure2012: +0.46
- GrainAmount: 0
- GreenHue: 0
- GreenSaturation: 0
- HasCrop: False
- HasSettings: True
- Highlights2012: -10
- HueAdjustmentAqua: 0
- HueAdjustmentBlue: 0
- HueAdjustmentGreen: 0
- HueAdjustmentMagenta: 0
- HueAdjustmentOrange: 0
- HueAdjustmentPurple: 0
- HueAdjustmentRed: 0
- HueAdjustmentYellow: 0
- IncrementalTemperature: 0
- IncrementalTint: 0
- LensManualDistortionAmount: 0
- LensProfileEnable: 0
- LensProfileSetup: LensDefaults
- LuminanceAdjustmentAqua: 0
- LuminanceAdjustmentBlue: 0
- LuminanceAdjustmentGreen: 0
- LuminanceAdjustmentMagenta: 0
- LuminanceAdjustmentOrange: 0
- LuminanceAdjustmentPurple: 0
- LuminanceAdjustmentRed: 0
- LuminanceAdjustmentYellow: 0
- LuminanceNoiseReductionContrast: 30
- LuminanceNoiseReductionDetail: 50
- LuminanceSmoothing: 30
- ParametricDarks: 0
- ParametricHighlightSplit: 75
- ParametricHighlights: 0
- ParametricLights: 0
- ParametricMidtoneSplit: 50
- ParametricShadowSplit: 25
- ParametricShadows: 0
- PerspectiveHorizontal: 0
- PerspectiveRotate: 0.0
- PerspectiveScale: 100
- PerspectiveVertical: 0
- PostCropVignetteAmount: 0
- ProcessVersion: 6.7
- RedHue: 0
- RedSaturation: 0
- Saturation: 0
- SaturationAdjustmentAqua: 0
- SaturationAdjustmentBlue: 0
- SaturationAdjustmentGreen: 0
- SaturationAdjustmentMagenta: 0
- SaturationAdjustmentOrange: 0
- SaturationAdjustmentPurple: 0
- SaturationAdjustmentRed: 0
- SaturationAdjustmentYellow: 0
- ShadowTint: 0
- Shadows2012: 0
- SharpenDetail: 25
- SharpenEdgeMasking: 10
- SharpenRadius: +1.0
- Sharpness: 10
- SplitToningBalance: 0
- SplitToningHighlightHue: 0
- SplitToningHighlightSaturation: 0
- SplitToningShadowHue: 0
- SplitToningShadowSaturation: 0
- ToneCurveName2012: Linear
- ToneCurvePV2012: 0, 0, 255, 255
- ToneCurvePV2012Blue: 0, 0, 255, 255
- ToneCurvePV2012Green: 0, 0, 255, 255
- ToneCurvePV2012Red: 0, 0, 255, 255
- Version: 7.1
- Vibrance: 0
- VignetteAmount: 0
- WhiteBalance: As Shot
- Whites2012: -10
- XMP-dc
- Description: OLYMPUS DIGITAL CAMERA
- Format: image/jpeg
- Subject: 2009, Владивосток, Дальний Восток, Приморский край, Россия, апрель, весна, девушка, девушки, красота, позирование
- XMP-xmp
- ModifyDate: 2013:11:03 20:51:03+11:00
- XMP-xmpMM
- Просмотров: 224
- Рейтинг: голосов еще нет
- Отзывов: 0