- Раздел: Природа
- Дата съёмки: 02.09.2007 12:18
- Дата загрузки фото: 14.02.2014 21:59
- Оригинальная фотография: 2501 x 2501 (2,3 Мб)
- Технические характеристики:
- Фотоаппарат: Canon DIGITAL IXUS 900Ti
- Выдержка: 1/400
- Гиперфокальное расстояние: inf m
- Диафрагма: 2,8
- Светочувствительность: 75
- Фокусное расстояние: 7,0 mm (35 mm equivalent: 42,0 mm)
- Полный EXIF
- Adobe
- ColorTransform: YCbCr
- Composite
- Aperture: 2,8
- CircleOfConfusion: 0,005 mm
- FOV: 46,0 deg
- FocalLength35efl: 7,0 mm (35 mm equivalent: 42,0 mm)
- HyperfocalDistance: inf m
- ScaleFactor35efl: 6,1
- ShutterSpeed: 1/400
- ExifIFD
- ApertureValue: 2,8
- ColorSpace: sRGB
- CreateDate: 2007:09:02 12:18:03
- CustomRendered: Normal
- DateTimeOriginal: 2007:09:02 12:18:03
- DigitalZoomRatio: 1
- ExposureCompensation: 0
- ExposureMode: Auto
- ExposureTime: 1/400
- FNumber: 2,8
- Flash: Auto, Did not fire
- FocalLength: 7,7 mm
- ISO: 75
- LensInfo: 7.7-23.1mm f/?
- LensModel: 7.7-23.1 mm
- MaxApertureValue: 2,8
- MeteringMode: Multi-segment
- SceneCaptureType: Standard
- SensingMethod: One-chip color area
- ShutterSpeedValue: 1/400
- WhiteBalance: Auto
- ICC-header
- ICC-meas
- ICC-view
- IFD0
- Make: Canon
- Model: Canon DIGITAL IXUS 900Ti
- ModifyDate: 2014:02:14 23:56:46
- IFD1
- IPTC
- DateCreated: 2007:09:02
- System
- XMP-aux
- ApproximateFocusDistance: 0,11
- Firmware: 1.00
- FlashCompensation: 0
- Lens: 7.7-23.1 mm
- XMP-crs
- AlreadyApplied: True
- AutoLateralCA: 0
- AutoWhiteVersion: 134348800
- Blacks2012: 0
- BlueHue: 0
- BlueSaturation: 0
- CameraProfile: Embedded
- CircularGradientBasedCorrectionsCorrectionActive: true
- CircularGradientBasedCorrectionsCorrectionAmount: 1.000000
- CircularGradientBasedCorrectionsCorrectionMasksAngle: -33.362800
- CircularGradientBasedCorrectionsCorrectionMasksBottom: 0.823227
- CircularGradientBasedCorrectionsCorrectionMasksFeather: +50
- CircularGradientBasedCorrectionsCorrectionMasksFlipped: true
- CircularGradientBasedCorrectionsCorrectionMasksLeft: 0.669429
- CircularGradientBasedCorrectionsCorrectionMasksMaskValue: 1.000000
- CircularGradientBasedCorrectionsCorrectionMasksMidpoint: +50
- CircularGradientBasedCorrectionsCorrectionMasksRight: 0.798297
- CircularGradientBasedCorrectionsCorrectionMasksRoundness: 0
- CircularGradientBasedCorrectionsCorrectionMasksTop: 0.732425
- CircularGradientBasedCorrectionsCorrectionMasksVersion: +2
- CircularGradientBasedCorrectionsCorrectionMasksWhat: Mask/CircularGradient
- CircularGradientBasedCorrectionsLocalBrightness: 0.000000
- CircularGradientBasedCorrectionsLocalClarity2012: 0.000000
- CircularGradientBasedCorrectionsLocalContrast2012: 0.000000
- CircularGradientBasedCorrectionsLocalDefringe: 0.000000
- CircularGradientBasedCorrectionsLocalExposure2012: -0.752500
- CircularGradientBasedCorrectionsLocalHighlights2012: 0.000000
- CircularGradientBasedCorrectionsLocalLuminanceNoise: 0.000000
- CircularGradientBasedCorrectionsLocalMoire: 0.000000
- CircularGradientBasedCorrectionsLocalSaturation: 0.000000
- CircularGradientBasedCorrectionsLocalShadows2012: 0.000000
- CircularGradientBasedCorrectionsLocalSharpness: 0.000000
- CircularGradientBasedCorrectionsLocalTemperature: 0.000000
- CircularGradientBasedCorrectionsLocalTint: 0.000000
- CircularGradientBasedCorrectionsLocalToningHue: 0.000000
- CircularGradientBasedCorrectionsLocalToningSaturation: 0.000000
- CircularGradientBasedCorrectionsWhat: Correction
- Clarity2012: +100
- ColorNoiseReduction: 27
- ColorNoiseReductionDetail: 100
- ColorNoiseReductionSmoothness: 0
- Contrast2012: 0
- ConvertToGrayscale: False
- CropAngle: 0
- CropBottom: 0.914164
- CropConstrainToWarp: 0
- CropLeft: 0.089635
- CropRight: 0.775258
- CropTop: 0
- DefringeGreenAmount: 0
- DefringeGreenHueHi: 60
- DefringeGreenHueLo: 40
- DefringePurpleAmount: 0
- DefringePurpleHueHi: 70
- DefringePurpleHueLo: 30
- Exposure2012: 0.00
- GrainAmount: 0
- GreenHue: 0
- GreenSaturation: 0
- HasCrop: True
- HasSettings: True
- Highlights2012: 0
- HueAdjustmentAqua: 0
- HueAdjustmentBlue: 0
- HueAdjustmentGreen: 0
- HueAdjustmentMagenta: 0
- HueAdjustmentOrange: 0
- HueAdjustmentPurple: 0
- HueAdjustmentRed: 0
- HueAdjustmentYellow: 0
- IncrementalTemperature: 0
- IncrementalTint: 0
- LensManualDistortionAmount: 0
- LensProfileEnable: 0
- LensProfileSetup: LensDefaults
- LuminanceAdjustmentAqua: 0
- LuminanceAdjustmentBlue: 0
- LuminanceAdjustmentGreen: +100
- LuminanceAdjustmentMagenta: 0
- LuminanceAdjustmentOrange: -100
- LuminanceAdjustmentPurple: 0
- LuminanceAdjustmentRed: 0
- LuminanceAdjustmentYellow: +100
- LuminanceNoiseReductionContrast: 0
- LuminanceNoiseReductionDetail: 72
- LuminanceSmoothing: 16
- ParametricDarks: 0
- ParametricHighlightSplit: 75
- ParametricHighlights: 0
- ParametricLights: 0
- ParametricMidtoneSplit: 50
- ParametricShadowSplit: 25
- ParametricShadows: 0
- PerspectiveAspect: 0
- PerspectiveHorizontal: 0
- PerspectiveRotate: 0.0
- PerspectiveScale: 100
- PerspectiveUpright: 0
- PerspectiveVertical: 0
- PostCropVignetteAmount: -100
- PostCropVignetteFeather: 50
- PostCropVignetteHighlightContrast: 100
- PostCropVignetteMidpoint: 38
- PostCropVignetteRoundness: 0
- PostCropVignetteStyle: 1
- ProcessVersion: 6.7
- RedHue: 0
- RedSaturation: 0
- Saturation: 0
- SaturationAdjustmentAqua: 0
- SaturationAdjustmentBlue: 0
- SaturationAdjustmentGreen: -100
- SaturationAdjustmentMagenta: 0
- SaturationAdjustmentOrange: 0
- SaturationAdjustmentPurple: 0
- SaturationAdjustmentRed: 0
- SaturationAdjustmentYellow: -100
- ShadowTint: 0
- Shadows2012: 0
- SharpenDetail: 25
- SharpenEdgeMasking: 0
- SharpenRadius: +1.0
- Sharpness: 0
- SplitToningBalance: 0
- SplitToningHighlightHue: 0
- SplitToningHighlightSaturation: 0
- SplitToningShadowHue: 0
- SplitToningShadowSaturation: 0
- ToneCurveName2012: Linear
- ToneCurvePV2012: 0, 0, 255, 255
- ToneCurvePV2012Blue: 0, 0, 255, 255
- ToneCurvePV2012Green: 0, 0, 255, 255
- ToneCurvePV2012Red: 0, 0, 255, 255
- Version: 8.3
- Vibrance: 0
- VignetteAmount: 0
- WhiteBalance: Custom
- Whites2012: 0
- XMP-dc
- XMP-xmp
- ModifyDate: 2014:02:14 23:56:46+06:00
- XMP-xmpMM
- Просмотров: 539
- Рейтинг: голосов еще нет
- Отзывов: 0