- Раздел: Отдых, развлечения
- Дата съёмки: 09.05.2013 13:49
- Дата загрузки фото: 18.02.2014 17:13
- Оригинальная фотография: 7360 x 4912 (22,8 Мб)
- Технические характеристики:
- Фотоаппарат: Nikon D800
- Выдержка: 1/1000
- Гиперфокальное расстояние: inf m
- Диафрагма: 6,3
- Светочувствительность: 320
- Фокусное расстояние: 70,0 mm (35 mm equivalent: 70,0 mm)
- Полный EXIF
- Adobe
- ColorTransform: YCbCr
- Composite
- Aperture: 6,3
- CircleOfConfusion: 0,030 mm
- FOV: 28,0 deg
- FocalLength35efl: 70,0 mm (35 mm equivalent: 70,0 mm)
- GPSAltitude: 586 m Above Sea Level
- GPSDateTime: 2013:05:09 11:00:49Z
- GPSLatitude: 42 deg 28' 14,00" N
- GPSLongitude: 15 deg 19' 32,00" E
- GPSPosition: 42 deg 28' 14,00" N, 15 deg 19' 32,00" E
- HyperfocalDistance: inf m
- LensID: AF-S Nikkor 70-200mm f/2.8G ED VR II
- ScaleFactor35efl: 1,0
- ShutterSpeed: 1/1000
- ExifIFD
- ApertureValue: 6,3
- CFAPattern: [Red,Green][Green,Blue]
- Contrast: Normal
- CreateDate: 2013:05:09 13:49:30
- CustomRendered: Normal
- DateTimeOriginal: 2013:05:09 13:49:30
- DigitalZoomRatio: 1
- ExposureCompensation: 0
- ExposureMode: Auto
- ExposureProgram: Aperture-priority AE
- ExposureTime: 1/1000
- FNumber: 6,3
- Flash: Off, Did not fire
- FocalLength: 70,0 mm
- FocalLengthIn35mmFormat: 70 mm
- GainControl: None
- ISO: 320
- LensInfo: 70-200mm f/2.8
- LensModel: 70.0-200.0 mm f/2.8
- LightSource: Unknown
- MaxApertureValue: 2,8
- MeteringMode: Multi-segment
- Saturation: Normal
- SceneCaptureType: Standard
- SceneType: Directly photographed
- SensingMethod: One-chip color area
- SensitivityType: Recommended Exposure Index
- SerialNumber: 6027351
- Sharpness: Normal
- ShutterSpeedValue: 1/1000
- SubjectDistanceRange: Unknown
- WhiteBalance: Auto
- GPS
- GPSAltitude: 586 m
- GPSAltitudeRef: Above Sea Level
- GPSDateStamp: 2013:05:09
- GPSLatitude: 42 deg 28' 14,00"
- GPSLatitudeRef: North
- GPSLongitude: 15 deg 19' 32,00"
- GPSLongitudeRef: East
- GPSSatellites: 08
- GPSTimeStamp: 11:00:49
- GPSVersionID: 2.3.0.0
- ICC-header
- ICC-meas
- ICC-view
- IFD0
- Make: NIKON CORPORATION
- Model: NIKON D800
- ModifyDate: 2013:06:03 10:37:28
- IFD1
- IPTC
- City: Anacapri
- Country-PrimaryLocationName: Italy
- DateCreated: 2013:05:09
- Province-State: Campania
- System
- XMP-aux
- ApproximateFocusDistance: 4294967295
- ImageNumber: 10480
- Lens: 70.0-200.0 mm f/2.8
- LensID: 162
- XMP-crs
- AlreadyApplied: True
- AutoLateralCA: 0
- Blacks2012: -58
- BlueHue: 0
- BlueSaturation: 0
- Brightness: +50
- Clarity: 0
- Clarity2012: 0
- ColorNoiseReduction: 25
- ColorNoiseReductionDetail: 50
- ColorTemperature: 5100
- Contrast: +25
- Contrast2012: 0
- ConvertToGrayscale: False
- Defringe: 0
- Exposure: 0.00
- Exposure2012: +0.58
- FillLight: 0
- GrainAmount: 0
- GreenHue: 0
- GreenSaturation: 0
- HasCrop: False
- HasSettings: True
- HighlightRecovery: 0
- Highlights2012: 0
- HueAdjustmentAqua: 0
- HueAdjustmentBlue: 0
- HueAdjustmentGreen: 0
- HueAdjustmentMagenta: 0
- HueAdjustmentOrange: 0
- HueAdjustmentPurple: 0
- HueAdjustmentRed: 0
- HueAdjustmentYellow: 0
- LensManualDistortionAmount: 0
- LensProfileEnable: 0
- LensProfileSetup: LensDefaults
- LuminanceAdjustmentAqua: 0
- LuminanceAdjustmentBlue: 0
- LuminanceAdjustmentGreen: 0
- LuminanceAdjustmentMagenta: 0
- LuminanceAdjustmentOrange: 0
- LuminanceAdjustmentPurple: 0
- LuminanceAdjustmentRed: 0
- LuminanceAdjustmentYellow: 0
- LuminanceSmoothing: 0
- ParametricDarks: 0
- ParametricHighlightSplit: 75
- ParametricHighlights: 0
- ParametricLights: 0
- ParametricMidtoneSplit: 50
- ParametricShadowSplit: 25
- ParametricShadows: 0
- PerspectiveHorizontal: 0
- PerspectiveRotate: 0.0
- PerspectiveScale: 100
- PerspectiveVertical: 0
- PostCropVignetteAmount: 0
- ProcessVersion: 6.7
- RedHue: 0
- RedSaturation: 0
- Saturation: 0
- SaturationAdjustmentAqua: 0
- SaturationAdjustmentBlue: 0
- SaturationAdjustmentGreen: 0
- SaturationAdjustmentMagenta: 0
- SaturationAdjustmentOrange: 0
- SaturationAdjustmentPurple: 0
- SaturationAdjustmentRed: 0
- SaturationAdjustmentYellow: 0
- ShadowTint: 0
- Shadows: 5
- Shadows2012: 0
- SharpenDetail: 25
- SharpenEdgeMasking: 0
- SharpenRadius: +1.0
- Sharpness: 25
- SplitToningBalance: 0
- SplitToningHighlightHue: 0
- SplitToningHighlightSaturation: 0
- SplitToningShadowHue: 0
- SplitToningShadowSaturation: 0
- Tint: +16
- ToneCurve: 0, 0, 255, 255
- ToneCurveBlue: 0, 0, 255, 255
- ToneCurveGreen: 0, 0, 255, 255
- ToneCurveName: Linear
- ToneCurveName2012: Linear
- ToneCurvePV2012: 0, 0, 255, 255
- ToneCurvePV2012Blue: 0, 0, 255, 255
- ToneCurvePV2012Green: 0, 0, 255, 255
- ToneCurvePV2012Red: 0, 0, 255, 255
- ToneCurveRed: 0, 0, 255, 255
- Version: 7.0
- Vibrance: 0
- VignetteAmount: 0
- WhiteBalance: As Shot
- Whites2012: 0
- XMP-dc
- XMP-xmp
- CreateDate: 2013:05:09 13:49:30.90
- ModifyDate: 2013:06:03 10:37:28+04:00
- XMP-xmpMM
- Просмотров: 179
- Рейтинг: голосов еще нет
- Отзывов: 0