- Раздел: Другое, разное
- Дата съёмки: неизвестно
- Дата загрузки фото: 08.05.2014 23:16
- Оригинальная фотография: 1685 x 2000 (851 Кб)
- Технические характеристики:
- Фотоаппарат: Olympus E-PM1
- Выдержка: 1/50
- Гиперфокальное расстояние: inf m
- Диафрагма: 6,3
- Светочувствительность: 800
- Фокусное расстояние: 42,0 mm (35 mm equivalent: 84,0 mm)
- Полный EXIF
- Adobe
- ColorTransform: YCbCr
- Composite
- Aperture: 6,3
- CircleOfConfusion: 0,015 mm
- FOV: 24,0 deg
- FocalLength35efl: 42,0 mm (35 mm equivalent: 84,0 mm)
- HyperfocalDistance: inf m
- ScaleFactor35efl: 2,0
- ShutterSpeed: 1/50
- ExifIFD
- ApertureValue: 6,3
- CFAPattern: [Red,Green][Green,Blue]
- Contrast: Normal
- CustomRendered: Normal
- DigitalZoomRatio: 1
- ExposureCompensation: 0
- ExposureMode: Auto
- ExposureProgram: Aperture-priority AE
- ExposureTime: 1/50
- FNumber: 6,3
- Flash: Auto, Did not fire
- FocalLength: 42,0 mm
- FocalLengthIn35mmFormat: 84 mm
- GainControl: High gain up
- ISO: 800
- LensInfo: 14-42mm f/3.5-5.6
- LensModel: OLYMPUS M.14-42mm F3.5-5.6 II R
- LensSerialNumber: ABG327528
- LightSource: Other
- MaxApertureValue: 3,5
- MeteringMode: Multi-segment
- Saturation: Normal
- SceneCaptureType: Standard
- SerialNumber: BB9520788
- Sharpness: Normal
- ShutterSpeedValue: 1/50
- WhiteBalance: Manual
- ICC-header
- ICC-meas
- ICC-view
- IFD0
- ImageDescription: OLYMPUS DIGITAL CAMERA
- Make: OLYMPUS IMAGING CORP.
- Model: E-PM1
- ModifyDate: 2014:05:08 22:08:35
- IFD1
- IPTC
- Caption-Abstract: OLYMPUS DIGITAL CAMERA
- System
- XMP-aux
- ApproximateFocusDistance: 2,74
- FlashCompensation: 0
- Lens: OLYMPUS M.14-42mm F3.5-5.6 II R
- XMP-crs
- AlreadyApplied: True
- AutoLateralCA: 0
- Blacks2012: -21
- BlueHue: 0
- BlueSaturation: 0
- Clarity2012: 0
- ColorNoiseReduction: 25
- ColorNoiseReductionDetail: 50
- ColorTemperature: 5200
- Contrast2012: +16
- ConvertToGrayscale: False
- CropAngle: 0
- CropBottom: 1
- CropConstrainToWarp: 0
- CropHeight: 1685
- CropLeft: 0.110048
- CropRight: 1
- CropTop: 0
- CropUnit: pixels
- CropWidth: 2000
- DefringeGreenAmount: 0
- DefringeGreenHueHi: 60
- DefringeGreenHueLo: 40
- DefringePurpleAmount: 0
- DefringePurpleHueHi: 70
- DefringePurpleHueLo: 30
- Exposure2012: -0.65
- GrainAmount: 0
- GreenHue: 0
- GreenSaturation: 0
- HasCrop: True
- HasSettings: True
- Highlights2012: -3
- HueAdjustmentAqua: 0
- HueAdjustmentBlue: 0
- HueAdjustmentGreen: 0
- HueAdjustmentMagenta: 0
- HueAdjustmentOrange: 0
- HueAdjustmentPurple: 0
- HueAdjustmentRed: 0
- HueAdjustmentYellow: 0
- LensManualDistortionAmount: 0
- LensProfileEnable: 0
- LensProfileSetup: LensDefaults
- LuminanceAdjustmentAqua: 0
- LuminanceAdjustmentBlue: 0
- LuminanceAdjustmentGreen: 0
- LuminanceAdjustmentMagenta: 0
- LuminanceAdjustmentOrange: 0
- LuminanceAdjustmentPurple: 0
- LuminanceAdjustmentRed: 0
- LuminanceAdjustmentYellow: 0
- LuminanceSmoothing: 0
- ParametricDarks: 0
- ParametricHighlightSplit: 75
- ParametricHighlights: 0
- ParametricLights: 0
- ParametricMidtoneSplit: 50
- ParametricShadowSplit: 25
- ParametricShadows: 0
- PerspectiveHorizontal: 0
- PerspectiveRotate: 0.0
- PerspectiveScale: 100
- PerspectiveVertical: 0
- PostCropVignetteAmount: 0
- ProcessVersion: 6.7
- RedHue: 0
- RedSaturation: 0
- Saturation: 0
- SaturationAdjustmentAqua: 0
- SaturationAdjustmentBlue: 0
- SaturationAdjustmentGreen: 0
- SaturationAdjustmentMagenta: 0
- SaturationAdjustmentOrange: 0
- SaturationAdjustmentPurple: 0
- SaturationAdjustmentRed: 0
- SaturationAdjustmentYellow: 0
- ShadowTint: 0
- Shadows2012: +3
- SharpenDetail: 25
- SharpenEdgeMasking: 0
- SharpenRadius: +1.0
- Sharpness: 25
- SplitToningBalance: 0
- SplitToningHighlightHue: 0
- SplitToningHighlightSaturation: 0
- SplitToningShadowHue: 0
- SplitToningShadowSaturation: 0
- Tint: +3
- ToneCurveName2012: Linear
- ToneCurvePV2012: 0, 0, 255, 255
- ToneCurvePV2012Blue: 0, 0, 255, 255
- ToneCurvePV2012Green: 0, 0, 255, 255
- ToneCurvePV2012Red: 0, 0, 255, 255
- Version: 7.4
- Vibrance: 0
- VignetteAmount: 0
- WhiteBalance: As Shot
- Whites2012: +1
- XMP-dc
- Description: OLYMPUS DIGITAL CAMERA
- Format: image/jpeg
- XMP-xmp
- Label: Red
- ModifyDate: 2014:05:08 22:08:35+03:00
- XMP-xmpMM
- Просмотров: 315
- Рейтинг: голосов еще нет
- Отзывов: 0