- Раздел: Репортаж
- Дата съёмки: 09.05.2014 06:54
- Дата загрузки фото: 09.05.2014 16:53
- Оригинальная фотография: 3694 x 2166 (2,7 Мб)
- Технические характеристики:
- Фотоаппарат: Nikon D3
- Выдержка: 1/160
- Гиперфокальное расстояние: inf m
- Диафрагма: 7,1
- Светочувствительность: 400
- Фокусное расстояние: 66,0 mm (35 mm equivalent: 66,0 mm)
- Экспокоррекция: -2/3
- Полный EXIF
- Adobe
- ColorTransform: YCbCr
- Composite
- Aperture: 7,1
- CircleOfConfusion: 0,030 mm
- FOV: 30,0 deg
- FocalLength35efl: 66,0 mm (35 mm equivalent: 66,0 mm)
- HyperfocalDistance: inf m
- LensID: AF-S VR Zoom-Nikkor 24-120mm f/3.5-5.6G IF-ED
- ScaleFactor35efl: 1,0
- ShutterSpeed: 1/160
- ExifIFD
- ApertureValue: 7,1
- CFAPattern: [Red,Green][Green,Blue]
- Contrast: Normal
- CreateDate: 2014:05:09 06:54:57
- CustomRendered: Normal
- DateTimeOriginal: 2014:05:09 06:54:57
- DigitalZoomRatio: 1
- ExposureCompensation: -2/3
- ExposureMode: Auto
- ExposureProgram: Aperture-priority AE
- ExposureTime: 1/160
- FNumber: 7,1
- Flash: No Flash
- FocalLength: 66,0 mm
- FocalLengthIn35mmFormat: 66 mm
- GainControl: Low gain up
- ISO: 400
- LensInfo: 24-120mm f/3.5-5.6
- LensModel: 24.0-120.0 mm f/3.5-5.6
- LightSource: Unknown
- MaxApertureValue: 5,3
- MeteringMode: Multi-segment
- Saturation: Normal
- SceneCaptureType: Standard
- SceneType: Directly photographed
- SensingMethod: One-chip color area
- SerialNumber: 2061456
- Sharpness: Hard
- ShutterSpeedValue: 1/160
- SubjectDistanceRange: Unknown
- WhiteBalance: Manual
- ICC-header
- ICC-meas
- ICC-view
- IFD0
- Artist: DF77
- Copyright: DF77
- Make: NIKON CORPORATION
- Model: NIKON D3
- ModifyDate: 2014:05:09 12:28:49
- IFD1
- IPTC
- By-line: DF77
- CopyrightNotice: DF77
- DateCreated: 2014:05:09
- System
- XMP-aux
- ApproximateFocusDistance: 4294967295
- ImageNumber: 20223
- Lens: 24.0-120.0 mm f/3.5-5.6
- LensID: 120
- XMP-crs
- AlreadyApplied: True
- AutoLateralCA: 0
- AutoWhiteVersion: 134348800
- Blacks2012: -9
- BlueHue: 0
- BlueSaturation: 0
- Clarity2012: +17
- ColorNoiseReduction: 25
- ColorNoiseReductionDetail: 50
- ColorNoiseReductionSmoothness: 50
- ColorTemperature: 3650
- Contrast2012: -5
- ConvertToGrayscale: False
- CropAngle: 0
- CropBottom: 0.895833
- CropConstrainToWarp: 0
- CropLeft: 0.030995
- CropRight: 0.898858
- CropTop: 0.131127
- DefringeGreenAmount: 0
- DefringeGreenHueHi: 60
- DefringeGreenHueLo: 40
- DefringePurpleAmount: 0
- DefringePurpleHueHi: 70
- DefringePurpleHueLo: 30
- Exposure2012: +0.25
- GrainAmount: 0
- GreenHue: 0
- GreenSaturation: 0
- HasCrop: True
- HasSettings: True
- Highlights2012: -67
- HueAdjustmentAqua: 0
- HueAdjustmentBlue: 0
- HueAdjustmentGreen: 0
- HueAdjustmentMagenta: 0
- HueAdjustmentOrange: 0
- HueAdjustmentPurple: 0
- HueAdjustmentRed: 0
- HueAdjustmentYellow: 0
- LensManualDistortionAmount: 0
- LensProfileEnable: 0
- LensProfileSetup: LensDefaults
- LuminanceAdjustmentAqua: 0
- LuminanceAdjustmentBlue: 0
- LuminanceAdjustmentGreen: 0
- LuminanceAdjustmentMagenta: 0
- LuminanceAdjustmentOrange: 0
- LuminanceAdjustmentPurple: 0
- LuminanceAdjustmentRed: 0
- LuminanceAdjustmentYellow: 0
- LuminanceSmoothing: 0
- ParametricDarks: 0
- ParametricHighlightSplit: 75
- ParametricHighlights: 0
- ParametricLights: 0
- ParametricMidtoneSplit: 50
- ParametricShadowSplit: 25
- ParametricShadows: 0
- PerspectiveAspect: 0
- PerspectiveHorizontal: 0
- PerspectiveRotate: 0.0
- PerspectiveScale: 100
- PerspectiveUpright: 0
- PerspectiveVertical: 0
- PostCropVignetteAmount: 0
- ProcessVersion: 6.7
- RedHue: 0
- RedSaturation: 0
- Saturation: 0
- SaturationAdjustmentAqua: 0
- SaturationAdjustmentBlue: 0
- SaturationAdjustmentGreen: 0
- SaturationAdjustmentMagenta: 0
- SaturationAdjustmentOrange: 0
- SaturationAdjustmentPurple: 0
- SaturationAdjustmentRed: 0
- SaturationAdjustmentYellow: 0
- ShadowTint: 0
- Shadows2012: +1
- SharpenDetail: 25
- SharpenEdgeMasking: 0
- SharpenRadius: +1.0
- Sharpness: 25
- SplitToningBalance: 0
- SplitToningHighlightHue: 0
- SplitToningHighlightSaturation: 0
- SplitToningShadowHue: 0
- SplitToningShadowSaturation: 0
- Tint: -83
- ToneCurve: 0, 0, 255, 255
- ToneCurveBlue: 0, 0, 255, 255
- ToneCurveGreen: 0, 0, 255, 255
- ToneCurveName: Linear
- ToneCurveName2012: Medium Contrast
- ToneCurvePV2012: 0, 0, 32, 22, 64, 56, 128, 128, 192, 196, 255, 255
- ToneCurvePV2012Blue: 0, 0, 255, 255
- ToneCurvePV2012Green: 0, 0, 255, 255
- ToneCurvePV2012Red: 0, 0, 255, 255
- ToneCurveRed: 0, 0, 255, 255
- Version: 8.4
- Vibrance: 0
- VignetteAmount: 0
- WhiteBalance: Custom
- Whites2012: 0
- XMP-dc
- Creator: DF77
- Format: image/jpeg
- Rights: DF77
- XMP-xmp
- CreateDate: 2014:05:09 06:54:57.00
- ModifyDate: 2014:05:09 12:28:49+04:00
- XMP-xmpMM