- Раздел: Животные
- Дата съёмки: 16.05.2014 22:48
- Дата загрузки фото: 16.05.2014 14:53
- Оригинальная фотография: 3579 x 2386 (2,0 Мб)
- Технические характеристики:
- Фотоаппарат: Sony NEX-6 Mamiya 300/5.6 ULD
- Выдержка: 1/400
- Светочувствительность: 800
- Полный EXIF
- Adobe
- ColorTransform: YCbCr
- Composite
- CircleOfConfusion: 0,014 mm
- ScaleFactor35efl: 2,1
- ShutterSpeed: 1/400
- ExifIFD
- BrightnessValue: 1,02109375
- ColorSpace: sRGB
- Contrast: Normal
- CreateDate: 2014:05:16 22:48:51
- CustomRendered: Normal
- DateTimeOriginal: 2014:05:16 22:48:51
- DigitalZoomRatio: 1
- ExifImageHeight: 2386
- ExifImageWidth: 3579
- ExposureCompensation: 0
- ExposureMode: Auto
- ExposureProgram: Shutter speed priority AE
- ExposureTime: 1/400
- Flash: Off, Did not fire
- ISO: 800
- LensModel: ----
- LightSource: Unknown
- MaxApertureValue: 1,0
- MeteringMode: Spot
- RecommendedExposureIndex: 800
- Saturation: Normal
- SceneCaptureType: Standard
- SceneType: Directly photographed
- SensitivityType: Recommended Exposure Index
- Sharpness: Normal
- ShutterSpeedValue: 1/400
- WhiteBalance: Auto
- ICC-header
- ICC-meas
- ICC-view
- IFD0
- Make: SONY
- Model: NEX-6 Mamiya 300/5.6 ULD
- ModifyDate: 2014:05:16 09:35:26
- Orientation: Horizontal (normal)
- IFD1
- IPTC
- DateCreated: 2014:05:16
- System
- XMP-aux
- XMP-crs
- AlreadyApplied: True
- AutoLateralCA: 1
- Blacks2012: -36
- BlueHue: 0
- BlueSaturation: 0
- Clarity2012: 0
- ColorNoiseReduction: 25
- ColorNoiseReductionDetail: 50
- ColorTemperature: 4550
- Contrast2012: +19
- ConvertToGrayscale: False
- CropAngle: 0
- CropBottom: 0.848661
- CropConstrainToWarp: 1
- CropHeight: 3
- CropLeft: 0.20727
- CropRight: 0.935971
- CropTop: 0.117579
- CropUnit: Unknown (3)
- CropWidth: 2
- DefringeGreenAmount: 3
- DefringeGreenHueHi: 60
- DefringeGreenHueLo: 40
- DefringePurpleAmount: 6
- DefringePurpleHueHi: 70
- DefringePurpleHueLo: 30
- Exposure2012: 0.00
- GrainAmount: 0
- GreenHue: 0
- GreenSaturation: 0
- HasCrop: True
- HasSettings: True
- Highlights2012: -32
- HueAdjustmentAqua: 0
- HueAdjustmentBlue: 0
- HueAdjustmentGreen: 0
- HueAdjustmentMagenta: 0
- HueAdjustmentOrange: 0
- HueAdjustmentPurple: 0
- HueAdjustmentRed: 0
- HueAdjustmentYellow: 0
- LensManualDistortionAmount: 0
- LensProfileEnable: 0
- LensProfileSetup: LensDefaults
- LuminanceAdjustmentAqua: 0
- LuminanceAdjustmentBlue: 0
- LuminanceAdjustmentGreen: 0
- LuminanceAdjustmentMagenta: 0
- LuminanceAdjustmentOrange: 0
- LuminanceAdjustmentPurple: 0
- LuminanceAdjustmentRed: 0
- LuminanceAdjustmentYellow: 0
- LuminanceNoiseReductionContrast: 0
- LuminanceNoiseReductionDetail: 50
- LuminanceSmoothing: 15
- ParametricDarks: 0
- ParametricHighlightSplit: 75
- ParametricHighlights: 0
- ParametricLights: 0
- ParametricMidtoneSplit: 50
- ParametricShadowSplit: 25
- ParametricShadows: 0
- PerspectiveHorizontal: 0
- PerspectiveRotate: 0.0
- PerspectiveScale: 100
- PerspectiveVertical: 0
- PostCropVignetteAmount: 0
- ProcessVersion: 6.7
- RawFileName: DSC00107.ARW
- RedHue: 0
- RedSaturation: 0
- Saturation: +8
- SaturationAdjustmentAqua: 0
- SaturationAdjustmentBlue: 0
- SaturationAdjustmentGreen: 0
- SaturationAdjustmentMagenta: 0
- SaturationAdjustmentOrange: 0
- SaturationAdjustmentPurple: 0
- SaturationAdjustmentRed: 0
- SaturationAdjustmentYellow: 0
- ShadowTint: 0
- Shadows2012: +90
- SharpenDetail: 25
- SharpenEdgeMasking: 0
- SharpenRadius: +1.0
- Sharpness: 25
- SplitToningBalance: 0
- SplitToningHighlightHue: 0
- SplitToningHighlightSaturation: 0
- SplitToningShadowHue: 0
- SplitToningShadowSaturation: 0
- Tint: +44
- ToneCurveName2012: Medium Contrast
- ToneCurvePV2012: 0, 0, 32, 22, 64, 56, 128, 128, 192, 196, 255, 255
- ToneCurvePV2012Blue: 0, 0, 255, 255
- ToneCurvePV2012Green: 0, 0, 255, 255
- ToneCurvePV2012Red: 0, 0, 255, 255
- Version: 7.2
- Vibrance: 0
- VignetteAmount: 0
- WhiteBalance: As Shot
- Whites2012: +7
- XMP-dc
- XMP-xmp
- CreatorTool: NEX-6 v1.01
- ModifyDate: 2014:05:16 09:35:26Z
- Rating: 0
- XMP-xmpMM