- Раздел: Макро
- Дата съёмки: 24.05.2014 10:11
- Дата загрузки фото: 25.05.2014 17:26
- Оригинальная фотография: 3214 x 2143 (1,4 Мб)
- Технические характеристики:
- Фотоаппарат: Sony NEX-5N Spiratone 35/3.5 F8
- Выдержка: 1/160
- Светочувствительность: 400
- Полный EXIF
- Adobe
- ColorTransform: YCbCr
- Composite
- CircleOfConfusion: 0,013 mm
- ScaleFactor35efl: 2,3
- ShutterSpeed: 1/160
- ExifIFD
- BrightnessValue: -5,30703125
- ColorSpace: sRGB
- Contrast: Normal
- CreateDate: 2014:05:24 10:11:54
- CustomRendered: Normal
- DateTimeOriginal: 2014:05:24 10:11:54
- ExifImageHeight: 2143
- ExifImageWidth: 3214
- ExposureCompensation: 0
- ExposureMode: Auto
- ExposureProgram: Shutter speed priority AE
- ExposureTime: 1/160
- Flash: On, Return detected
- ISO: 400
- LensModel: ----
- LightSource: Unknown
- MaxApertureValue: 1,0
- MeteringMode: Center-weighted average
- RecommendedExposureIndex: 400
- Saturation: Normal
- SceneCaptureType: Standard
- SceneType: Directly photographed
- SensitivityType: Recommended Exposure Index
- Sharpness: Normal
- ShutterSpeedValue: 1/160
- WhiteBalance: Auto
- ICC-header
- ICC-meas
- ICC-view
- IFD0
- Make: SONY
- Model: NEX-5N Spiratone 35/3.5 F8
- ModifyDate: 2014:05:24 08:53:24
- Orientation: Horizontal (normal)
- IFD1
- IPTC
- DateCreated: 2014:05:24
- System
- XMP-aux
- XMP-crs
- AlreadyApplied: True
- AutoLateralCA: 1
- Blacks2012: -37
- BlueHue: 0
- BlueSaturation: 0
- Clarity2012: 0
- ColorNoiseReduction: 25
- ColorNoiseReductionDetail: 50
- ColorTemperature: 6000
- Contrast2012: +35
- ConvertToGrayscale: False
- CropAngle: 16.179128
- CropBottom: 1
- CropConstrainToWarp: 1
- CropHeight: 3
- CropLeft: 0.309613
- CropRight: 0.81645
- CropTop: 0.095204
- CropUnit: Unknown (3)
- CropWidth: 2
- DefringeGreenAmount: 0
- DefringeGreenHueHi: 88
- DefringeGreenHueLo: 26
- DefringePurpleAmount: 1
- DefringePurpleHueHi: 67
- DefringePurpleHueLo: 31
- Exposure2012: +0.50
- GrainAmount: 0
- GreenHue: 0
- GreenSaturation: 0
- HasCrop: True
- HasSettings: True
- Highlights2012: -78
- HueAdjustmentAqua: 0
- HueAdjustmentBlue: 0
- HueAdjustmentGreen: 0
- HueAdjustmentMagenta: 0
- HueAdjustmentOrange: 0
- HueAdjustmentPurple: 0
- HueAdjustmentRed: 0
- HueAdjustmentYellow: 0
- LensManualDistortionAmount: 0
- LensProfileEnable: 0
- LensProfileSetup: LensDefaults
- LuminanceAdjustmentAqua: 0
- LuminanceAdjustmentBlue: 0
- LuminanceAdjustmentGreen: 0
- LuminanceAdjustmentMagenta: 0
- LuminanceAdjustmentOrange: 0
- LuminanceAdjustmentPurple: 0
- LuminanceAdjustmentRed: 0
- LuminanceAdjustmentYellow: 0
- LuminanceNoiseReductionContrast: 0
- LuminanceNoiseReductionDetail: 50
- LuminanceSmoothing: 15
- ParametricDarks: 0
- ParametricHighlightSplit: 75
- ParametricHighlights: 0
- ParametricLights: 0
- ParametricMidtoneSplit: 50
- ParametricShadowSplit: 25
- ParametricShadows: 0
- PerspectiveHorizontal: 0
- PerspectiveRotate: 0.0
- PerspectiveScale: 100
- PerspectiveVertical: 0
- PostCropVignetteAmount: 0
- ProcessVersion: 6.7
- RawFileName: DSC09867.ARW
- RedHue: 0
- RedSaturation: 0
- Saturation: +8
- SaturationAdjustmentAqua: 0
- SaturationAdjustmentBlue: -1
- SaturationAdjustmentGreen: 0
- SaturationAdjustmentMagenta: 0
- SaturationAdjustmentOrange: 0
- SaturationAdjustmentPurple: 0
- SaturationAdjustmentRed: 0
- SaturationAdjustmentYellow: 0
- ShadowTint: 0
- Shadows2012: +96
- SharpenDetail: 25
- SharpenEdgeMasking: 0
- SharpenRadius: +1.0
- Sharpness: 25
- SplitToningBalance: 0
- SplitToningHighlightHue: 0
- SplitToningHighlightSaturation: 0
- SplitToningShadowHue: 0
- SplitToningShadowSaturation: 0
- Tint: +32
- ToneCurveName2012: Medium Contrast
- ToneCurvePV2012: 0, 0, 32, 22, 64, 56, 128, 128, 192, 196, 255, 255
- ToneCurvePV2012Blue: 0, 0, 255, 255
- ToneCurvePV2012Green: 0, 0, 255, 255
- ToneCurvePV2012Red: 0, 0, 255, 255
- Version: 7.2
- Vibrance: 0
- VignetteAmount: 0
- WhiteBalance: Custom
- Whites2012: -41
- XMP-dc
- XMP-xmp
- CreatorTool: NEX-5N v1.01
- ModifyDate: 2014:05:24 08:53:24Z
- Rating: 0
- XMP-xmpMM