- Раздел: Животные
- Дата съёмки: 30.05.2014 07:43
- Дата загрузки фото: 30.05.2014 14:33
- Оригинальная фотография: 3120 x 2168 (1,1 Мб)
- Технические характеристики:
- Фотоаппарат: Canon EOS 7D
- Выдержка: 1/1250
- Гиперфокальное расстояние: inf m
- Диафрагма: 7,1
- Светочувствительность: 400
- Фокусное расстояние: 400,0 mm (35 mm equivalent: 800,0 mm)
- Экспокоррекция: +2/3
- Полный EXIF
- Adobe
- ColorTransform: YCbCr
- Composite
- Aperture: 7,1
- CircleOfConfusion: 0,012 mm
- DOF: inf (0,00 m - inf)
- FOV: 2,0 deg
- FocalLength35efl: 400,0 mm (35 mm equivalent: 800,0 mm)
- HyperfocalDistance: inf m
- LensID: Canon EF 100-400mm f/4.5-5.6L IS or Sigma Lens
- ScaleFactor35efl: 2,6
- ShutterSpeed: 1/1250
- ExifIFD
- ApertureValue: 7,1
- ColorSpace: sRGB
- CreateDate: 2014:05:30 07:43:41
- CustomRendered: Normal
- DateTimeOriginal: 2014:05:30 07:43:41
- ExifImageHeight: 2168
- ExifImageWidth: 3120
- ExposureCompensation: +2/3
- ExposureMode: Auto
- ExposureProgram: Aperture-priority AE
- ExposureTime: 1/1250
- FNumber: 7,1
- Flash: Off, Did not fire
- FocalLength: 400,0 mm
- ISO: 400
- LensInfo: 100-400mm f/?
- LensModel: EF100-400mm f/4.5-5.6L IS USM
- MaxApertureValue: 5,7
- MeteringMode: Multi-segment
- RecommendedExposureIndex: 400
- SceneCaptureType: Standard
- SensitivityType: Recommended Exposure Index
- SerialNumber: 2761201376
- ShutterSpeedValue: 1/1250
- SubjectDistance: 44,4 m
- WhiteBalance: Auto
- ICC-header
- ICC-meas
- ICC-view
- IFD0
- Make: Canon
- Model: Canon EOS 7D
- ModifyDate: 2014:05:30 13:33:01
- Orientation: Horizontal (normal)
- IFD1
- IPTC
- DateCreated: 2014:05:30
- System
- XMP-aux
- ApproximateFocusDistance: 44,4
- Firmware: 2.0.3
- FlashCompensation: 0
- ImageNumber: 0
- Lens: EF100-400mm f/4.5-5.6L IS USM
- LensID: 183
- XMP-crs
- AlreadyApplied: True
- BlueHue: 0
- BlueSaturation: 0
- Brightness: +50
- ChromaticAberrationB: 0
- ChromaticAberrationR: 0
- Clarity: +35
- ColorNoiseReduction: 25
- ColorNoiseReductionDetail: 50
- ColorTemperature: 6000
- Contrast: +25
- ConvertToGrayscale: False
- Defringe: 0
- Exposure: +0.15
- FillLight: 0
- GrainAmount: 0
- GreenHue: 0
- GreenSaturation: 0
- HasCrop: False
- HasSettings: True
- HighlightRecovery: 8
- HueAdjustmentAqua: 0
- HueAdjustmentBlue: 0
- HueAdjustmentGreen: 0
- HueAdjustmentMagenta: 0
- HueAdjustmentOrange: 0
- HueAdjustmentPurple: 0
- HueAdjustmentRed: 0
- HueAdjustmentYellow: 0
- LensManualDistortionAmount: 0
- LensProfileEnable: 0
- LensProfileSetup: LensDefaults
- LuminanceAdjustmentAqua: 0
- LuminanceAdjustmentBlue: 0
- LuminanceAdjustmentGreen: 0
- LuminanceAdjustmentMagenta: 0
- LuminanceAdjustmentOrange: 0
- LuminanceAdjustmentPurple: 0
- LuminanceAdjustmentRed: 0
- LuminanceAdjustmentYellow: 0
- LuminanceSmoothing: 0
- ParametricDarks: 0
- ParametricHighlightSplit: 75
- ParametricHighlights: 0
- ParametricLights: 0
- ParametricMidtoneSplit: 50
- ParametricShadowSplit: 25
- ParametricShadows: 0
- PerspectiveHorizontal: 0
- PerspectiveRotate: 0.0
- PerspectiveScale: 100
- PerspectiveVertical: 0
- PostCropVignetteAmount: 0
- ProcessVersion: 5.7
- RawFileName: IMG_8478.CR2
- RedHue: 0
- RedSaturation: 0
- Saturation: 0
- SaturationAdjustmentAqua: 0
- SaturationAdjustmentBlue: 0
- SaturationAdjustmentGreen: 0
- SaturationAdjustmentMagenta: 0
- SaturationAdjustmentOrange: 0
- SaturationAdjustmentPurple: 0
- SaturationAdjustmentRed: 0
- SaturationAdjustmentYellow: 0
- ShadowTint: 0
- Shadows: 5
- SharpenDetail: 25
- SharpenEdgeMasking: 0
- SharpenRadius: +1.0
- Sharpness: 25
- SplitToningBalance: 0
- SplitToningHighlightHue: 0
- SplitToningHighlightSaturation: 0
- SplitToningShadowHue: 0
- SplitToningShadowSaturation: 0
- Tint: +7
- ToneCurve: 0, 0, 32, 22, 64, 56, 128, 128, 192, 196, 255, 255
- ToneCurveName: Medium Contrast
- Version: 6.3
- Vibrance: +20
- VignetteAmount: 0
- WhiteBalance: Custom
- XMP-dc
- XMP-xmp
- CreateDate: 2014:05:30 07:43:41.10+03:00
- ModifyDate: 2014:05:30 13:33:01+03:00
- Rating: 0
- XMP-xmpMM