- Раздел: Тесты фототехники
- Дата съёмки: 16.02.2013 13:45
- Дата загрузки фото: 02.06.2014 09:35
- Оригинальная фотография: 697 x 566 (213 Кб)
- Технические характеристики:
- Фотоаппарат: Olympus E-PL1
- Выдержка: 1/15
- Гиперфокальное расстояние: inf m
- Диафрагма: 5,6
- Светочувствительность: 100
- Фокусное расстояние: 42,0 mm (35 mm equivalent: 84,0 mm)
- Экспокоррекция: -1/2
- Полный EXIF
- Adobe
- ColorTransform: YCbCr
- Composite
- Aperture: 5,6
- CircleOfConfusion: 0,015 mm
- DOF: inf (0,00 m - inf)
- FOV: 24,0 deg
- FocalLength35efl: 42,0 mm (35 mm equivalent: 84,0 mm)
- HyperfocalDistance: inf m
- ScaleFactor35efl: 2,0
- ShutterSpeed: 1/15
- ExifIFD
- ApertureValue: 5,6
- CFAPattern: [Red,Green][Green,Blue]
- ColorSpace: sRGB
- Contrast: Normal
- CreateDate: 2013:02:16 13:45:35
- CustomRendered: Normal
- DateTimeOriginal: 2013:02:16 13:45:35
- DigitalZoomRatio: 1
- ExifImageHeight: 566
- ExifImageWidth: 697
- ExposureCompensation: -1/2
- ExposureMode: Manual
- ExposureProgram: Program AE
- ExposureTime: 1/15
- FNumber: 5,6
- Flash: On, Did not fire
- FocalLength: 42,0 mm
- FocalLengthIn35mmFormat: 84 mm
- GainControl: None
- ISO: 100
- LensInfo: 14-42mm f/3.5-5.6
- LensModel: OLYMPUS M.14-42mm F3.5-5.6 L
- LensSerialNumber: AAG281512
- LightSource: Unknown
- MaxApertureValue: 3,5
- MeteringMode: Spot
- Saturation: Normal
- SceneCaptureType: Standard
- SerialNumber: B2X528104
- Sharpness: Soft
- ShutterSpeedValue: 1/15
- SubjectDistance: 1,5 m
- WhiteBalance: Auto
- ICC-header
- ICC-meas
- ICC-view
- IFD0
- ImageDescription: OLYMPUS DIGITAL CAMERA
- Make: OLYMPUS IMAGING CORP.
- Model: E-PL1
- ModifyDate: 2013:02:16 14:01:26
- Orientation: Horizontal (normal)
- IFD1
- IPTC
- Caption-Abstract: OLYMPUS DIGITAL CAMERA
- DateCreated: 2013:02:16
- System
- XMP-aux
- ApproximateFocusDistance: 1,5
- FlashCompensation: 0
- Lens: OLYMPUS M.14-42mm F3.5-5.6 L
- XMP-crs
- AlreadyApplied: True
- AutoLateralCA: 0
- Blacks2012: 0
- BlueHue: 0
- BlueSaturation: 0
- Brightness: +11
- Clarity: 0
- Clarity2012: 0
- ColorNoiseReduction: 25
- ColorNoiseReductionDetail: 50
- ColorTemperature: 5300
- Contrast: +19
- Contrast2012: 0
- ConvertToGrayscale: False
- CropAngle: 0
- CropBottom: 0.92785
- CropConstrainToWarp: 1
- CropLeft: 0.127706
- CropRight: 0.902597
- CropTop: 0.089466
- Defringe: 0
- Exposure: +0.35
- Exposure2012: 0.00
- FillLight: 45
- GrainAmount: 0
- GreenHue: 0
- GreenSaturation: 0
- HasCrop: True
- HasSettings: True
- HighlightRecovery: 25
- Highlights2012: 0
- HueAdjustmentAqua: 0
- HueAdjustmentBlue: 0
- HueAdjustmentGreen: 0
- HueAdjustmentMagenta: 0
- HueAdjustmentOrange: 0
- HueAdjustmentPurple: 0
- HueAdjustmentRed: 0
- HueAdjustmentYellow: 0
- LensManualDistortionAmount: 0
- LensProfileEnable: 0
- LensProfileSetup: LensDefaults
- LuminanceAdjustmentAqua: 0
- LuminanceAdjustmentBlue: 0
- LuminanceAdjustmentGreen: 0
- LuminanceAdjustmentMagenta: 0
- LuminanceAdjustmentOrange: 0
- LuminanceAdjustmentPurple: 0
- LuminanceAdjustmentRed: 0
- LuminanceAdjustmentYellow: 0
- LuminanceSmoothing: 0
- ParametricDarks: 0
- ParametricHighlightSplit: 75
- ParametricHighlights: 0
- ParametricLights: 0
- ParametricMidtoneSplit: 50
- ParametricShadowSplit: 25
- ParametricShadows: 0
- PerspectiveHorizontal: 0
- PerspectiveRotate: 0.0
- PerspectiveScale: 100
- PerspectiveVertical: 0
- PostCropVignetteAmount: 0
- ProcessVersion: 5.7
- RawFileName: E2160948.ORF
- RedHue: 0
- RedSaturation: 0
- Saturation: 0
- SaturationAdjustmentAqua: 0
- SaturationAdjustmentBlue: 0
- SaturationAdjustmentGreen: 0
- SaturationAdjustmentMagenta: 0
- SaturationAdjustmentOrange: 0
- SaturationAdjustmentPurple: 0
- SaturationAdjustmentRed: 0
- SaturationAdjustmentYellow: 0
- ShadowTint: 0
- Shadows: 12
- Shadows2012: 0
- SharpenDetail: 25
- SharpenEdgeMasking: 0
- SharpenRadius: +1.0
- Sharpness: 25
- SplitToningBalance: 0
- SplitToningHighlightHue: 0
- SplitToningHighlightSaturation: 0
- SplitToningShadowHue: 0
- SplitToningShadowSaturation: 0
- Tint: +15
- ToneCurve: 0, 0, 32, 22, 64, 56, 128, 128, 192, 196, 255, 255
- ToneCurveBlue: 0, 0, 255, 255
- ToneCurveGreen: 0, 0, 255, 255
- ToneCurveName: Medium Contrast
- ToneCurveName2012: Linear
- ToneCurvePV2012: 0, 0, 255, 255
- ToneCurvePV2012Blue: 0, 0, 255, 255
- ToneCurvePV2012Green: 0, 0, 255, 255
- ToneCurvePV2012Red: 0, 0, 255, 255
- ToneCurveRed: 0, 0, 255, 255
- Version: 6.7
- Vibrance: 0
- VignetteAmount: 0
- WhiteBalance: Custom
- Whites2012: 0
- XMP-dc
- Description: OLYMPUS DIGITAL CAMERA
- Format: image/jpeg
- XMP-xmp
- CreatorTool: Version 1.2
- ModifyDate: 2013:02:16 14:01:26-05:00
- Rating: 0
- XMP-xmpMM
- Просмотров: 463
- Рейтинг: голосов еще нет
- Отзывов: 0