- Раздел: Другое, разное
- Дата съёмки: 02.06.2014 12:23
- Дата загрузки фото: 03.06.2014 08:52
- Оригинальная фотография: 1800 x 1200 (644 Кб)
- Технические характеристики:
- Фотоаппарат: Panasonic DMC-FZ150
- Выдержка: 1/500
- Гиперфокальное расстояние: inf m
- Диафрагма: 5,2
- Светочувствительность: 100
- Фокусное расстояние: 108,0 mm (35 mm equivalent: 540,0 mm)
- Полный EXIF
- Adobe
- ColorTransform: YCbCr
- Composite
- Aperture: 5,2
- CircleOfConfusion: 0,005 mm
- FOV: 3,0 deg
- FocalLength35efl: 108,0 mm (35 mm equivalent: 540,0 mm)
- HyperfocalDistance: inf m
- ScaleFactor35efl: 5,6
- ShutterSpeed: 1/500
- ExifIFD
- ApertureValue: 5,2
- ColorSpace: sRGB
- Contrast: Low
- CreateDate: 2014:06:02 12:23:11
- CustomRendered: Custom
- DateTimeOriginal: 2014:06:02 12:23:11
- DigitalZoomRatio: 0
- ExifImageHeight: 1200
- ExifImageWidth: 1800
- ExposureCompensation: 0
- ExposureMode: Auto
- ExposureProgram: Aperture-priority AE
- ExposureTime: 1/500
- FNumber: 5,2
- Flash: Off, Did not fire
- FocalLength: 108,0 mm
- FocalLengthIn35mmFormat: 600 mm
- GainControl: None
- ISO: 100
- LightSource: Fine Weather
- MaxApertureValue: 5,2
- MeteringMode: Center-weighted average
- Saturation: Normal
- SceneCaptureType: Standard
- SceneType: Directly photographed
- SensingMethod: One-chip color area
- Sharpness: Normal
- ShutterSpeedValue: 1/500
- WhiteBalance: Manual
- ICC-header
- ICC-meas
- ICC-view
- IFD0
- Make: Panasonic
- Model: DMC-FZ150
- ModifyDate: 2014:06:02 15:22:37
- Orientation: Horizontal (normal)
- IFD1
- IPTC
- DateCreated: 2014:06:02
- System
- XMP-crs
- AlreadyApplied: True
- AutoLateralCA: 1
- AutoWhiteVersion: 134348800
- Blacks2012: -20
- BlueHue: 0
- BlueSaturation: 0
- Clarity2012: +10
- ColorNoiseReduction: 25
- ColorNoiseReductionDetail: 50
- ColorNoiseReductionSmoothness: 50
- ColorTemperature: 5550
- Contrast2012: +10
- ConvertToGrayscale: False
- CropAngle: 0
- CropBottom: 0.860286
- CropConstrainToWarp: 0
- CropHeight: 3
- CropLeft: 0.110149
- CropRight: 0.743812
- CropTop: 0.29703
- CropUnit: Unknown (3)
- CropWidth: 2
- DefringeGreenAmount: 1
- DefringeGreenHueHi: 80
- DefringeGreenHueLo: 20
- DefringePurpleAmount: 1
- DefringePurpleHueHi: 70
- DefringePurpleHueLo: 30
- Exposure2012: 0.00
- GrainAmount: 0
- GreenHue: 0
- GreenSaturation: 0
- HasCrop: True
- HasSettings: True
- Highlights2012: -100
- HueAdjustmentAqua: 0
- HueAdjustmentBlue: 0
- HueAdjustmentGreen: 0
- HueAdjustmentMagenta: 0
- HueAdjustmentOrange: 0
- HueAdjustmentPurple: 0
- HueAdjustmentRed: 0
- HueAdjustmentYellow: 0
- LensManualDistortionAmount: 0
- LensProfileEnable: 0
- LensProfileSetup: LensDefaults
- LuminanceAdjustmentAqua: 0
- LuminanceAdjustmentBlue: 0
- LuminanceAdjustmentGreen: 0
- LuminanceAdjustmentMagenta: 0
- LuminanceAdjustmentOrange: 0
- LuminanceAdjustmentPurple: 0
- LuminanceAdjustmentRed: 0
- LuminanceAdjustmentYellow: 0
- LuminanceSmoothing: 0
- ParametricDarks: 0
- ParametricHighlightSplit: 75
- ParametricHighlights: 0
- ParametricLights: 0
- ParametricMidtoneSplit: 50
- ParametricShadowSplit: 25
- ParametricShadows: 0
- PerspectiveAspect: 0
- PerspectiveHorizontal: 0
- PerspectiveRotate: 0.0
- PerspectiveScale: 100
- PerspectiveUpright: 0
- PerspectiveVertical: 0
- PostCropVignetteAmount: 0
- ProcessVersion: 6.7
- RawFileName: P1000048.RW2
- RedHue: 0
- RedSaturation: 0
- Saturation: +10
- SaturationAdjustmentAqua: 0
- SaturationAdjustmentBlue: 0
- SaturationAdjustmentGreen: 0
- SaturationAdjustmentMagenta: 0
- SaturationAdjustmentOrange: 0
- SaturationAdjustmentPurple: 0
- SaturationAdjustmentRed: 0
- SaturationAdjustmentYellow: 0
- ShadowTint: 0
- Shadows2012: +30
- SharpenDetail: 25
- SharpenEdgeMasking: 0
- SharpenRadius: +1.0
- Sharpness: 0
- SplitToningBalance: 0
- SplitToningHighlightHue: 0
- SplitToningHighlightSaturation: 0
- SplitToningShadowHue: 0
- SplitToningShadowSaturation: 0
- Tint: +7
- ToneCurve: 0, 0, 32, 22, 64, 56, 128, 128, 192, 196, 255, 255
- ToneCurveBlue: 0, 0, 255, 255
- ToneCurveGreen: 0, 0, 255, 255
- ToneCurveName: Medium Contrast
- ToneCurveName2012: Linear
- ToneCurvePV2012: 0, 0, 255, 255
- ToneCurvePV2012Blue: 0, 0, 255, 255
- ToneCurvePV2012Green: 0, 0, 255, 255
- ToneCurvePV2012Red: 0, 0, 255, 255
- ToneCurveRed: 0, 0, 255, 255
- Version: 8.4
- Vibrance: +10
- VignetteAmount: 0
- WhiteBalance: As Shot
- Whites2012: -50
- XMP-dc
- XMP-xmp
- ModifyDate: 2014:06:02 15:22:37+04:00
- Rating: 0
- XMP-xmpMM