- Раздел: Другое, разное
- Дата съёмки: 12.10.2014 11:40
- Дата загрузки фото: 13.01.2015 13:15
- Оригинальная фотография: 4168 x 2551 (1,9 Мб)
- Технические характеристики:
- Фотоаппарат: Canon EOS 6D
- Выдержка: 1/250
- Гиперфокальное расстояние: inf m
- Диафрагма: 1,4
- Светочувствительность: 50
- Фокусное расстояние: 50,0 mm (35 mm equivalent: 50,0 mm)
- Полный EXIF
- Composite
- Aperture: 1,4
- CircleOfConfusion: 0,022 mm
- FOV: 39,0 deg
- Flash: Off, Did not fire
- FocalLength35efl: 50,0 mm (35 mm equivalent: 50,0 mm)
- HyperfocalDistance: inf m
- LensID: Canon EF 35-80mm f/4-5.6
- ScaleFactor35efl: 1,3
- ShutterSpeed: 1/250
- ExifIFD
- ApertureValue: 1,4
- ColorSpace: sRGB
- CreateDate: 2014:10:12 11:40:37
- CustomRendered: Normal
- DateTimeOriginal: 2014:10:12 11:40:37
- ExposureCompensation: 0
- ExposureMode: Manual
- ExposureProgram: Manual
- ExposureTime: 1/250
- FNumber: 1,4
- FocalLength: 50,0 mm
- ISO: 50
- ImageNumber: 0
- LensInfo: 50mm f/?
- LensModel: 50-50mm
- LensSerialNumber: 0000000000
- MaxApertureValue: 1,4
- MeteringMode: Center-weighted average
- RecommendedExposureIndex: 50
- SceneCaptureType: Standard
- SensitivityType: Recommended Exposure Index
- SerialNumber: 211020000677
- Sharpness: Hard
- ShutterSpeedValue: 1/250
- WhiteBalance: Auto
- ICC-header
- ICC-meas
- ICC-view
- IFD0
- Make: Canon
- Model: Canon EOS 6D
- ModifyDate: 2015:01:12 03:23:29
- Software: "Topaz photoFXlab"
- IPTC
- DateCreated: 2014:10:12
- System
- XMP-aux
- Firmware: 1.1.4
- FlashCompensation: 0
- Lens: 50-50mm
- LensID: 27
- XMP-crs
- AlreadyApplied: True
- AutoLateralCA: 0
- Blacks2012: +15
- BlueHue: 0
- BlueSaturation: +38
- CameraProfile: Camera Standard
- Clarity2012: +53
- ColorNoiseReduction: 49
- ColorNoiseReductionDetail: 50
- Contrast2012: +27
- ConvertToGrayscale: True
- Exposure2012: +0.91
- GradientBasedCorrActive: True
- GradientBasedCorrAmount: 1.000000
- GradientBasedCorrBrightness: 0.000000
- GradientBasedCorrHue: 0.000000
- GradientBasedCorrMaskFullX: 0.198085
- GradientBasedCorrMaskFullY: 0.098324
- GradientBasedCorrMaskValue: 1.000000
- GradientBasedCorrMaskWhat: Mask/Gradient
- GradientBasedCorrMaskZeroX: 0.460740
- GradientBasedCorrMaskZeroY: 0.888760
- GradientBasedCorrSaturation: 0.000000
- GradientBasedCorrSharpness: -0.022220
- GradientBasedCorrWhat: Correction
- GrainAmount: 0
- GrayMixerAqua: +50
- GrayMixerBlue: +50
- GrayMixerGreen: -25
- GrayMixerMagenta: +50
- GrayMixerOrange: -25
- GrayMixerPurple: +50
- GrayMixerRed: -25
- GrayMixerYellow: -25
- GreenHue: +3
- GreenSaturation: 0
- HasCrop: False
- HasSettings: True
- Highlights2012: -41
- LensManualDistortionAmount: +11
- LensProfileEnable: 0
- LensProfileSetup: LensDefaults
- LuminanceSmoothing: 0
- ParametricDarks: -10
- ParametricHighlightSplit: 75
- ParametricHighlights: 0
- ParametricLights: +53
- ParametricMidtoneSplit: 50
- ParametricShadowSplit: 25
- ParametricShadows: -6
- PerspectiveHorizontal: -2
- PerspectiveRotate: +0.8
- PerspectiveScale: 112
- PerspectiveVertical: -3
- PostCropVignetteAmount: -44
- PostCropVignetteFeather: 50
- PostCropVignetteMidpoint: 27
- PostCropVignetteRoundness: 0
- PostCropVignetteStyle: 3
- ProcessVersion: 6.7
- RedHue: -2
- RedSaturation: 0
- ShadowTint: 0
- Shadows2012: -68
- SharpenDetail: 100
- SharpenEdgeMasking: 5
- SharpenRadius: +1.0
- SplitToningBalance: +35
- SplitToningHighlightHue: 78
- SplitToningHighlightSaturation: 23
- SplitToningShadowHue: 233
- SplitToningShadowSaturation: 33
- Tint: -6
- ToneCurve: 0, 0, 255, 255
- ToneCurveBlue: 0, 0, 255, 255
- ToneCurveGreen: 0, 0, 255, 255
- ToneCurveName: Linear
- ToneCurveName2012: Linear
- ToneCurvePV2012: 0, 0, 255, 255
- ToneCurvePV2012Blue: 0, 0, 255, 255
- ToneCurvePV2012Green: 0, 0, 255, 255
- ToneCurvePV2012Red: 0, 0, 255, 255
- ToneCurveRed: 0, 0, 255, 255
- Version: 8.4
- VignetteAmount: +53
- VignetteMidpoint: 73
- Whites2012: +11
- XMP-dc
- XMP-exif
- FlashFired: False
- FlashFunction: False
- FlashMode: Off
- FlashRedEyeMode: False
- FlashReturn: No return detection
- XMP-tiff
- BitsPerSample: 8
- ImageHeight: 3648
- ImageWidth: 5472
- XMP-x
- XMP-xmp
- XMP-xmpMM
- Просмотров: 405
- Рейтинг: голосов еще нет
- Отзывов: 0