- Раздел: Путешествия
- Дата съёмки: 28.05.2015 15:11
- Дата загрузки фото: 10.06.2015 15:22
- Оригинальная фотография: 4288 x 2848 (9,3 Мб)
- Технические характеристики:
- Фотоаппарат: Nikon D90
- Выдержка: 1/320
- Гиперфокальное расстояние: inf m
- Диафрагма: 9,0
- Светочувствительность: 200
- Фокусное расстояние: 75,0 mm (35 mm equivalent: 75,0 mm)
- Полный EXIF
- Adobe
- ColorTransform: YCbCr
- Composite
- Aperture: 9,0
- CircleOfConfusion: 0,020 mm
- DOF: inf (0,00 m - inf)
- FOV: 26,0 deg
- Flash: Auto, Did not fire
- FocalLength35efl: 75,0 mm (35 mm equivalent: 75,0 mm)
- HyperfocalDistance: inf m
- LensID: AF-S DX VR Zoom-Nikkor 18-105mm f/3.5-5.6G ED
- ScaleFactor35efl: 1,5
- ShutterSpeed: 1/320
- ExifIFD
- ApertureValue: 9,0
- CFAPattern: [Green,Blue][Red,Green]
- Contrast: Normal
- CreateDate: 2015:05:28 15:11:40
- CustomRendered: Normal
- DateTimeOriginal: 2015:05:28 15:11:40
- DigitalZoomRatio: 1
- ExposureCompensation: 0
- ExposureMode: Auto
- ExposureProgram: Not Defined
- ExposureTime: 1/320
- FNumber: 9,0
- FocalLength: 75,0 mm
- FocalLengthIn35mmFormat: 112 mm
- GainControl: None
- ISO: 200
- LensInfo: 18-105mm f/3.5-5.6
- LensModel: 18.0-105.0 mm f/3.5-5.6
- LightSource: Unknown
- MaxApertureValue: 5,5
- MeteringMode: Multi-segment
- Saturation: Normal
- SceneCaptureType: Standard
- SceneType: Directly photographed
- SensingMethod: One-chip color area
- SensitivityType: Unknown
- SerialNumber: 6620826
- Sharpness: Normal
- ShutterSpeedValue: 1/320
- SubjectDistance: 4294967295 m
- SubjectDistanceRange: Unknown
- WhiteBalance: Auto
- ICC-header
- ICC-meas
- ICC-view
- IFD0
- Make: NIKON CORPORATION
- Model: NIKON D90
- ModifyDate: 2015:06:09 12:04:25
- Software: Ver.1.00
- IFD1
- System
- XMP-aux
- ApproximateFocusDistance: 4294967295
- ImageNumber: 10857
- Lens: 18.0-105.0 mm f/3.5-5.6
- LensID: 158
- XMP-crs
- AlreadyApplied: True
- BlueHue: 0
- BlueSaturation: 0
- Brightness: +65
- ChromaticAberrationB: 0
- ChromaticAberrationR: 0
- Clarity: +16
- ColorNoiseReduction: 25
- ColorNoiseReductionDetail: 50
- ColorTemperature: 5500
- Contrast: +37
- ConvertToGrayscale: False
- Defringe: 0
- Exposure: +0.25
- FillLight: 0
- GrainAmount: 0
- GreenHue: 0
- GreenSaturation: 0
- HasCrop: False
- HasSettings: True
- HighlightRecovery: 11
- HueAdjustmentAqua: 0
- HueAdjustmentBlue: +14
- HueAdjustmentGreen: 0
- HueAdjustmentMagenta: 0
- HueAdjustmentOrange: 0
- HueAdjustmentPurple: 0
- HueAdjustmentRed: 0
- HueAdjustmentYellow: 0
- LensManualDistortionAmount: 0
- LensProfileEnable: 0
- LensProfileSetup: LensDefaults
- LuminanceAdjustmentAqua: 0
- LuminanceAdjustmentBlue: -48
- LuminanceAdjustmentGreen: 0
- LuminanceAdjustmentMagenta: 0
- LuminanceAdjustmentOrange: 0
- LuminanceAdjustmentPurple: 0
- LuminanceAdjustmentRed: 0
- LuminanceAdjustmentYellow: 0
- LuminanceNoiseReductionContrast: 0
- LuminanceNoiseReductionDetail: 50
- LuminanceSmoothing: 16
- ParametricDarks: 0
- ParametricHighlightSplit: 75
- ParametricHighlights: 0
- ParametricLights: 0
- ParametricMidtoneSplit: 50
- ParametricShadowSplit: 25
- ParametricShadows: 0
- PerspectiveHorizontal: 0
- PerspectiveRotate: 0.0
- PerspectiveScale: 100
- PerspectiveVertical: 0
- PostCropVignetteAmount: 0
- ProcessVersion: 5.7
- RedHue: 0
- RedSaturation: 0
- Saturation: 0
- SaturationAdjustmentAqua: 0
- SaturationAdjustmentBlue: +21
- SaturationAdjustmentGreen: +21
- SaturationAdjustmentMagenta: 0
- SaturationAdjustmentOrange: +35
- SaturationAdjustmentPurple: 0
- SaturationAdjustmentRed: +11
- SaturationAdjustmentYellow: +32
- ShadowTint: 0
- Shadows: 14
- SharpenDetail: 29
- SharpenEdgeMasking: 0
- SharpenRadius: +1.0
- Sharpness: 41
- SplitToningBalance: 0
- SplitToningHighlightHue: 0
- SplitToningHighlightSaturation: 0
- SplitToningShadowHue: 0
- SplitToningShadowSaturation: 0
- Tint: -2
- ToneCurve: 0, 0, 32, 22, 64, 56, 128, 128, 192, 196, 255, 255
- ToneCurveName: Medium Contrast
- Version: 6.3
- Vibrance: +10
- VignetteAmount: 0
- WhiteBalance: Custom
- XMP-exif
- DateTimeDigitized: 2015:05:28 15:11:40.00+04:00
- DateTimeOriginal: 2015:05:28 15:11:40.00+04:00
- ExifImageHeight: 2848
- ExifImageWidth: 4288
- FlashFired: False
- FlashFunction: False
- FlashMode: Auto
- FlashRedEyeMode: False
- FlashReturn: No return detection
- XMP-tiff
- ImageHeight: 2848
- ImageWidth: 4288
- XMP-xmp
- CreateDate: 2015:05:28 15:11:40.00+04:00
- ModifyDate: 2015:06:09 12:04:25+04:00
- Просмотров: 104
- Рейтинг: голосов еще нет
- Отзывов: 0