- Раздел: Другое, разное
- Дата съёмки: неизвестно
- Дата загрузки фото: 12.11.2016 03:51
- Оригинальная фотография: 2724 x 3468 (6,3 Мб)
- Технические характеристики:
- Фотоаппарат: Nikon D5500
- Выдержка: 1/80
- Гиперфокальное расстояние: inf m
- Диафрагма: 8,0
- Светочувствительность: 800
- Фокусное расстояние: 44,0 mm (35 mm equivalent: 44,0 mm)
- Полный EXIF
- Adobe
- ColorTransform: YCbCr
- Composite
- Aperture: 8,0
- CircleOfConfusion: 0,020 mm
- FOV: 44,0 deg
- FocalLength35efl: 44,0 mm (35 mm equivalent: 44,0 mm)
- HyperfocalDistance: inf m
- LensID: AF-S DX VR Zoom-Nikkor 18-200mm f/3.5-5.6G IF-ED [II] or AF-S DX VR Zoom-Nikkor 18-200mm f/3.5-5.6G IF-ED
- ScaleFactor35efl: 1,5
- ShutterSpeed: 1/80
- ExifIFD
- ApertureValue: 8,0
- CFAPattern: [Red,Green][Green,Blue]
- Contrast: Normal
- CreateDate: 2016:11:08 13:05:22
- CustomRendered: Normal
- DateTimeOriginal: 2016:11:08 13:05:22
- DigitalZoomRatio: 1
- ExposureCompensation: 0
- ExposureMode: Manual
- ExposureProgram: Manual
- ExposureTime: 1/80
- FNumber: 8,0
- Flash: On, Return detected
- FocalLength: 44,0 mm
- FocalLengthIn35mmFormat: 66 mm
- GainControl: Low gain up
- ISO: 800
- LensInfo: 18-200mm f/3.5-5.6
- LensModel: 18.0-200.0 mm f/3.5-5.6
- LightSource: Unknown
- MaxApertureValue: 4,4
- MeteringMode: Center-weighted average
- Saturation: Normal
- SceneCaptureType: Standard
- SceneType: Directly photographed
- SensingMethod: One-chip color area
- SensitivityType: Recommended Exposure Index
- SerialNumber: 4310214
- Sharpness: Normal
- ShutterSpeedValue: 1/80
- SubjectDistanceRange: Unknown
- WhiteBalance: Auto
- ICC-header
- IFD0
- Make: NIKON CORPORATION
- Model: NIKON D5500
- ModifyDate: 2016:11:12 03:50:17
- IFD1
- IPTC
- DateCreated: 2016:11:08
- System
- XMP-aux
- ApproximateFocusDistance: 1,33
- ImageNumber: 5417
- Lens: 18.0-200.0 mm f/3.5-5.6
- LensID: 139
- XMP-crs
- AlreadyApplied: True
- AutoLateralCA: 0
- Blacks2012: -48
- BlueHue: 0
- BlueSaturation: 0
- Clarity2012: -3
- ColorNoiseReduction: 25
- ColorNoiseReductionDetail: 50
- ColorTemperature: 6300
- Contrast2012: -21
- ConvertToGrayscale: False
- CropAngle: 0
- CropBottom: 1
- CropConstrainToWarp: 1
- CropLeft: 0.284656
- CropRight: 0.738637
- CropTop: 0.133105
- DefringeGreenAmount: 0
- DefringeGreenHueHi: 60
- DefringeGreenHueLo: 40
- DefringePurpleAmount: 0
- DefringePurpleHueHi: 70
- DefringePurpleHueLo: 30
- Exposure2012: -0.60
- GrainAmount: 0
- GreenHue: 0
- GreenSaturation: 0
- HasCrop: True
- HasSettings: True
- Highlights2012: +9
- HueAdjustmentAqua: 0
- HueAdjustmentBlue: 0
- HueAdjustmentGreen: 0
- HueAdjustmentMagenta: 0
- HueAdjustmentOrange: 0
- HueAdjustmentPurple: 0
- HueAdjustmentRed: 0
- HueAdjustmentYellow: 0
- LensManualDistortionAmount: 0
- LensProfileEnable: 0
- LensProfileSetup: LensDefaults
- LuminanceAdjustmentAqua: 0
- LuminanceAdjustmentBlue: 0
- LuminanceAdjustmentGreen: 0
- LuminanceAdjustmentMagenta: 0
- LuminanceAdjustmentOrange: 0
- LuminanceAdjustmentPurple: 0
- LuminanceAdjustmentRed: 0
- LuminanceAdjustmentYellow: 0
- LuminanceSmoothing: 0
- ParametricDarks: 0
- ParametricHighlightSplit: 75
- ParametricHighlights: 0
- ParametricLights: 0
- ParametricMidtoneSplit: 50
- ParametricShadowSplit: 25
- ParametricShadows: 0
- PerspectiveAspect: 0
- PerspectiveHorizontal: 0
- PerspectiveRotate: 0.0
- PerspectiveScale: 100
- PerspectiveUpright: 0
- PerspectiveVertical: 0
- PostCropVignetteAmount: 0
- ProcessVersion: 6.7
- RawFileName: SPB_4985.dng
- RedHue: 0
- RedSaturation: 0
- Saturation: 0
- SaturationAdjustmentAqua: 0
- SaturationAdjustmentBlue: 0
- SaturationAdjustmentGreen: 0
- SaturationAdjustmentMagenta: 0
- SaturationAdjustmentOrange: 0
- SaturationAdjustmentPurple: 0
- SaturationAdjustmentRed: 0
- SaturationAdjustmentYellow: 0
- ShadowTint: 0
- Shadows2012: 0
- SharpenDetail: 25
- SharpenEdgeMasking: 0
- SharpenRadius: +1.0
- Sharpness: 25
- SplitToningBalance: 0
- SplitToningHighlightHue: 0
- SplitToningHighlightSaturation: 0
- SplitToningShadowHue: 0
- SplitToningShadowSaturation: 0
- Tint: +1
- ToneCurveName2012: Linear
- ToneCurvePV2012: 0, 0, 255, 255
- ToneCurvePV2012Blue: 0, 0, 255, 255
- ToneCurvePV2012Green: 0, 0, 255, 255
- ToneCurvePV2012Red: 0, 0, 255, 255
- Version: 8.1
- Vibrance: +13
- VignetteAmount: 0
- WhiteBalance: As Shot
- Whites2012: +43
- XMP-dc
- XMP-xmp
- CreateDate: 2016:11:08 13:05:22.79
- ModifyDate: 2016:11:12 03:50:17+03:00
- XMP-xmpMM
- Просмотров: 972
- Рейтинг: голосов еще нет
- Отзывов: 3