- Раздел: Другое, разное
- Дата съёмки: неизвестно
- Дата загрузки фото: 13.02.2017 10:44
- Оригинальная фотография: 1024 x 683 ( 64 Кб)
- Технические характеристики:
- Фотоаппарат: Ricoh PENTAX K-1
- Выдержка: 20,0
- Гиперфокальное расстояние: inf m
- Диафрагма: 3,2
- Светочувствительность: 800
- Фокусное расстояние: 200,0 mm (35 mm equivalent: 200,0 mm)
- Полный EXIF
- Adobe
- ColorTransform: YCbCr
- Composite
- Aperture: 3,2
- CircleOfConfusion: 0,030 mm
- FOV: 10,0 deg
- FocalLength35efl: 200,0 mm (35 mm equivalent: 200,0 mm)
- HyperfocalDistance: inf m
- LensID: HD PENTAX-D FA* 70-200mm F2.8 ED DC AW
- LightValue: -4,2
- Megapixels: 0,699
- ScaleFactor35efl: 1,0
- ShutterSpeed: 20,0
- ExifIFD
- ApertureValue: 2,8
- ColorSpace: sRGB
- Contrast: Normal
- CreateDate: 2017:02:12 20:42:54
- CustomRendered: Normal
- DateTimeOriginal: 2017:02:12 20:42:54
- ExposureCompensation: 0
- ExposureMode: Manual
- ExposureProgram: Manual
- ExposureTime: 20,0
- FNumber: 3,2
- Flash: Off, Did not fire
- FocalLength: 200,0 mm
- FocalLengthIn35mmFormat: 200 mm
- ISO: 800
- LensInfo: 70-200mm f/2.8
- LensModel: HD PENTAX D FA* 70-200mm F2.8 ED DC AW
- MeteringMode: Multi-segment
- Saturation: Normal
- SceneCaptureType: Standard
- SensingMethod: One-chip color area
- SensitivityType: Standard Output Sensitivity
- Sharpness: Normal
- ShutterSpeedValue: 16,0
- StandardOutputSensitivity: 800
- SubjectDistanceRange: Distant
- WhiteBalance: Auto
- ICC-header
- ICC-meas
- ICC-view
- IFD0
- Make: RICOH IMAGING COMPANY, LTD.
- Model: PENTAX K-1
- ModifyDate: 2017:02:12 23:15:01
- IFD1
- IPTC
- DateCreated: 2017:02:12
- System
- XMP-aux
- ApproximateFocusDistance: 4
- Lens: HD PENTAX D FA* 70-200mm F2.8 ED DC AW
- LensID: 8 60
- XMP-crs
- AlreadyApplied: True
- AutoLateralCA: 0
- AutoWhiteVersion: 134348800
- Blacks2012: -84
- BlueHue: 0
- BlueSaturation: 0
- Clarity2012: 0
- ColorNoiseReduction: 25
- ColorNoiseReductionDetail: 50
- ColorNoiseReductionSmoothness: 50
- ColorTemperature: 6400
- Contrast2012: 0
- ConvertToGrayscale: False
- CropAngle: 0
- CropBottom: 0.607253
- CropConstrainToWarp: 0
- CropLeft: 0.329114
- CropRight: 0.581435
- CropTop: 0.354932
- DefringeGreenAmount: 0
- DefringeGreenHueHi: 60
- DefringeGreenHueLo: 40
- DefringePurpleAmount: 0
- DefringePurpleHueHi: 70
- DefringePurpleHueLo: 30
- Dehaze: 0
- Exposure2012: +0.28
- GrainAmount: 0
- GreenHue: 0
- GreenSaturation: 0
- HasCrop: True
- HasSettings: True
- Highlights2012: 0
- HueAdjustmentAqua: 0
- HueAdjustmentBlue: 0
- HueAdjustmentGreen: 0
- HueAdjustmentMagenta: 0
- HueAdjustmentOrange: 0
- HueAdjustmentPurple: 0
- HueAdjustmentRed: 0
- HueAdjustmentYellow: 0
- LensManualDistortionAmount: 0
- LensProfileEnable: 0
- LensProfileSetup: LensDefaults
- LuminanceAdjustmentAqua: 0
- LuminanceAdjustmentBlue: 0
- LuminanceAdjustmentGreen: 0
- LuminanceAdjustmentMagenta: 0
- LuminanceAdjustmentOrange: 0
- LuminanceAdjustmentPurple: 0
- LuminanceAdjustmentRed: 0
- LuminanceAdjustmentYellow: 0
- LuminanceNoiseReductionContrast: 0
- LuminanceNoiseReductionDetail: 50
- LuminanceSmoothing: 31
- ParametricDarks: 0
- ParametricHighlightSplit: 75
- ParametricHighlights: 0
- ParametricLights: 0
- ParametricMidtoneSplit: 50
- ParametricShadowSplit: 25
- ParametricShadows: 0
- PerspectiveAspect: 0
- PerspectiveHorizontal: 0
- PerspectiveRotate: 0.0
- PerspectiveScale: 100
- PerspectiveUpright: 0
- PerspectiveVertical: 0
- PerspectiveX: 0.00
- PerspectiveY: 0.00
- PostCropVignetteAmount: 0
- ProcessVersion: 6.7
- RedHue: 0
- RedSaturation: 0
- Saturation: +27
- SaturationAdjustmentAqua: 0
- SaturationAdjustmentBlue: 0
- SaturationAdjustmentGreen: 0
- SaturationAdjustmentMagenta: 0
- SaturationAdjustmentOrange: 0
- SaturationAdjustmentPurple: 0
- SaturationAdjustmentRed: 0
- SaturationAdjustmentYellow: 0
- ShadowTint: 0
- Shadows2012: +1
- SharpenDetail: 25
- SharpenEdgeMasking: 0
- SharpenRadius: +1.5
- Sharpness: 35
- SplitToningBalance: 0
- SplitToningHighlightHue: 0
- SplitToningHighlightSaturation: 0
- SplitToningShadowHue: 0
- SplitToningShadowSaturation: 0
- Tint: +2
- ToneCurve: 0, 0, 255, 255
- ToneCurveBlue: 0, 0, 255, 255
- ToneCurveGreen: 0, 0, 255, 255
- ToneCurveName: Linear
- ToneCurveName2012: Linear
- ToneCurvePV2012: 0, 0, 255, 255
- ToneCurvePV2012Blue: 0, 0, 255, 255
- ToneCurvePV2012Green: 0, 0, 255, 255
- ToneCurvePV2012Red: 0, 0, 255, 255
- ToneCurveRed: 0, 0, 255, 255
- ToneMapStrength: 0
- Version: 9.8
- Vibrance: 0
- VignetteAmount: 0
- WhiteBalance: As Shot
- Whites2012: -100
- XMP-dc
- XMP-xmp
- ModifyDate: 2017:02:12 23:15:01-08:00
- XMP-xmpMM
- Просмотров: 208
- Рейтинг: голосов еще нет
- Отзывов: 0