- Раздел: Другое, разное
- Дата съёмки: 02.05.2009 11:42
- Дата загрузки фото: 13.02.2018 09:06
- Оригинальная фотография: 1512 x 2268 (1,4 Мб)
- Технические характеристики:
- Фотоаппарат: Sigma SD10
- Выдержка: 0,0
- Гиперфокальное расстояние: inf m
- Диафрагма: 7,1
- Светочувствительность: 100
- Фокусное расстояние: 200,0 mm (35 mm equivalent: 200,0 mm)
- Экспокоррекция: -0,3
- Полный EXIF
- Composite
- Aperture: 7,1
- CircleOfConfusion: 0,018 mm
- FOV: 10,0 deg
- FocalLength35efl: 200,0 mm (35 mm equivalent: 200,0 mm)
- HyperfocalDistance: inf m
- LensID: Unknown (145)
- Megapixels: 3,4
- ScaleFactor35efl: 1,7
- ShutterSpeed: 0,0
- ExifIFD
- ApertureValue: 5,7
- ColorSpace: sRGB
- DateTimeOriginal: 2009:05:02 11:42:37
- ExifImageHeight: 2268
- ExifImageWidth: 1512
- ExposureCompensation: 0
- ExposureProgram: Shutter speed priority AE
- ExposureTime: 0,0
- FNumber: 7,1
- FocalLength: 200,0 mm
- FocalLengthIn35mmFormat: 340 mm
- ISO: 100
- MaxApertureValue: 5,7
- MeteringMode: Average
- ShutterSpeedValue: 1/128
- ICC-header
- ICC-meas
- ICC-view
- IFD0
- Make: SIGMA
- Model: SIGMA SD10
- ModifyDate: 2018:02:08 18:28:10
- Orientation: Horizontal (normal)
- Software: ACDSee Pro 7
- IPTC
- DateCreated: 2009:05:02
- ObjectName:
- System
- XMP-aux
- Firmware: 2.0.4.1642 Release
- Lens: 18.0-200.0 mm
- LensID: 145
- LensInfo: 18-200mm f/?
- SerialNumber: 02007005
- XMP-crs
- AlreadyApplied: True
- BlueHue: 0
- BlueSaturation: 0
- Brightness: +94
- CameraProfile: Embedded
- ChromaticAberrationB: 0
- ChromaticAberrationR: 0
- Clarity: 0
- ColorNoiseReduction: 0
- ColorTemperature: 4850
- Contrast: +25
- ConvertToGrayscale: False
- Defringe: 0
- Exposure: -1.35
- FillLight: 10
- GrainAmount: 0
- GreenHue: 0
- GreenSaturation: 0
- HasCrop: False
- HasSettings: True
- HighlightRecovery: 29
- HueAdjustmentAqua: 0
- HueAdjustmentBlue: 0
- HueAdjustmentGreen: 0
- HueAdjustmentMagenta: 0
- HueAdjustmentOrange: 0
- HueAdjustmentPurple: 0
- HueAdjustmentRed: 0
- HueAdjustmentYellow: 0
- LensManualDistortionAmount: 0
- LensProfileChromaticAberrationScale: 100
- LensProfileDistortionScale: 100
- LensProfileEnable: 1
- LensProfileFilename: Canon (Sigma_18-200mm_F3.5-6.3_DC ) - RAW.lcp
- LensProfileSetup: Custom
- LensProfileVignettingScale: 100
- LuminanceAdjustmentAqua: 0
- LuminanceAdjustmentBlue: 0
- LuminanceAdjustmentGreen: 0
- LuminanceAdjustmentMagenta: 0
- LuminanceAdjustmentOrange: 0
- LuminanceAdjustmentPurple: 0
- LuminanceAdjustmentRed: 0
- LuminanceAdjustmentYellow: 0
- LuminanceSmoothing: 0
- ParametricDarks: 0
- ParametricHighlightSplit: 75
- ParametricHighlights: 0
- ParametricLights: 0
- ParametricMidtoneSplit: 50
- ParametricShadowSplit: 25
- ParametricShadows: 0
- PerspectiveHorizontal: 0
- PerspectiveRotate: 0.0
- PerspectiveScale: 100
- PerspectiveVertical: 0
- PostCropVignetteAmount: 0
- ProcessVersion: 5.7
- RawFileName: IMG42135.X3F
- RedHue: 0
- RedSaturation: 0
- Saturation: 0
- SaturationAdjustmentAqua: 0
- SaturationAdjustmentBlue: 0
- SaturationAdjustmentGreen: 0
- SaturationAdjustmentMagenta: 0
- SaturationAdjustmentOrange: 0
- SaturationAdjustmentPurple: 0
- SaturationAdjustmentRed: 0
- SaturationAdjustmentYellow: 0
- ShadowTint: 0
- Shadows: 0
- SharpenDetail: 7
- SharpenEdgeMasking: 0
- SharpenRadius: +0.6
- Sharpness: 129
- SplitToningBalance: 0
- SplitToningHighlightHue: 0
- SplitToningHighlightSaturation: 0
- SplitToningShadowHue: 0
- SplitToningShadowSaturation: 0
- Tint: +2
- ToneCurve: 0, 0, 32, 22, 64, 56, 128, 128, 192, 196, 255, 255
- ToneCurveName: Medium Contrast
- Version: 6.5
- Vibrance: 0
- VignetteAmount: 0
- WhiteBalance: As Shot
- XMP-dc
- XMP-exif
- ApertureValue: 7,1
- DateTimeOriginal: 2009:05:02 11:42:37+3:00
- ExposureCompensation: -0,3
- ExposureTime: 1/250
- FocalLengthIn35mmFormat: 340
- MaxApertureValue: 6,3
- ShutterSpeedValue: 1/250
- XMP-tiff
- XMP-x
- XMP-xmp
- CreateDate: 2009:05:02 11:42:37
- CreatorTool: 2.0.4.1642 Release
- ModifyDate: 2012:03:25 17:16:11+04:00
- Rating: 0
- XMP-xmpMM