- Раздел: Другое, разное
- Дата съёмки: 22.06.2009 20:48
- Дата загрузки фото: 13.02.2018 09:06
- Оригинальная фотография: 1280 x 854 (320 Кб)
- Технические характеристики:
- Фотоаппарат: Sigma SD10
- Выдержка: 0,0
- Гиперфокальное расстояние: inf m
- Диафрагма: 3,5
- Светочувствительность: 100
- Фокусное расстояние: 24,0 mm (35 mm equivalent: 24,0 mm)
- Экспокоррекция: -1
- Полный EXIF
- Composite
- Aperture: 3,5
- CircleOfConfusion: 0,018 mm
- FOV: 73,0 deg
- FocalLength35efl: 24,0 mm (35 mm equivalent: 24,0 mm)
- HyperfocalDistance: inf m
- LensID: Unknown (129)
- Megapixels: 1,1
- ScaleFactor35efl: 1,7
- ShutterSpeed: 0,0
- ExifIFD
- ApertureValue: 2,8
- ColorSpace: sRGB
- DateTimeOriginal: 2009:06:22 20:48:58
- ExifImageHeight: 854
- ExifImageWidth: 1280
- ExposureCompensation: -1
- ExposureProgram: Aperture-priority AE
- ExposureTime: 0,0
- FNumber: 3,5
- FocalLength: 24,0 mm
- FocalLengthIn35mmFormat: 41 mm
- ISO: 100
- LensInfo: 24mm f/?
- LensModel: 24.0 mm
- MaxApertureValue: 1,4
- MeteringMode: Average
- SerialNumber: 02007005
- ShutterSpeedValue: 1/256
- ICC-header
- ICC-meas
- ICC-view
- IFD0
- Make: SIGMA
- Model: SIGMA SD10
- ModifyDate: 2018:02:08 18:28:10
- Orientation: Horizontal (normal)
- Software: ACDSee Pro 7
- IPTC
- DateCreated: 2009:06:22
- System
- XMP-aux
- Firmware: 2.0.4.1642 Release
- Lens: 24.0 mm
- LensID: 129
- XMP-crs
- AlreadyApplied: True
- AutoLateralCA: 0
- Blacks2012: 0
- BlueHue: 0
- BlueSaturation: 0
- CameraProfile: Embedded
- Clarity2012: 0
- ColorNoiseReduction: 0
- ColorTemperature: 4900
- Contrast2012: 0
- ConvertToGrayscale: False
- DefringeGreenAmount: 0
- DefringeGreenHueHi: 60
- DefringeGreenHueLo: 40
- DefringePurpleAmount: 0
- DefringePurpleHueHi: 70
- DefringePurpleHueLo: 30
- Exposure2012: 0.00
- GrainAmount: 0
- GreenHue: 0
- GreenSaturation: 0
- HasCrop: False
- HasSettings: True
- Highlights2012: -93
- HueAdjustmentAqua: 0
- HueAdjustmentBlue: 0
- HueAdjustmentGreen: 0
- HueAdjustmentMagenta: 0
- HueAdjustmentOrange: 0
- HueAdjustmentPurple: 0
- HueAdjustmentRed: 0
- HueAdjustmentYellow: 0
- LensManualDistortionAmount: 0
- LensProfileEnable: 0
- LensProfileSetup: LensDefaults
- LuminanceAdjustmentAqua: 0
- LuminanceAdjustmentBlue: 0
- LuminanceAdjustmentGreen: 0
- LuminanceAdjustmentMagenta: 0
- LuminanceAdjustmentOrange: 0
- LuminanceAdjustmentPurple: 0
- LuminanceAdjustmentRed: 0
- LuminanceAdjustmentYellow: 0
- LuminanceSmoothing: 0
- ParametricDarks: 0
- ParametricHighlightSplit: 75
- ParametricHighlights: 0
- ParametricLights: 0
- ParametricMidtoneSplit: 50
- ParametricShadowSplit: 25
- ParametricShadows: 0
- PerspectiveHorizontal: 0
- PerspectiveRotate: 0.0
- PerspectiveScale: 100
- PerspectiveVertical: 0
- PostCropVignetteAmount: 0
- ProcessVersion: 6.7
- RawFileName: IMG43129.X3F
- RedHue: 0
- RedSaturation: 0
- Saturation: 0
- SaturationAdjustmentAqua: 0
- SaturationAdjustmentBlue: 0
- SaturationAdjustmentGreen: 0
- SaturationAdjustmentMagenta: 0
- SaturationAdjustmentOrange: 0
- SaturationAdjustmentPurple: 0
- SaturationAdjustmentRed: 0
- SaturationAdjustmentYellow: 0
- ShadowTint: 0
- Shadows2012: +66
- SharpenDetail: 5
- SharpenEdgeMasking: 0
- SharpenRadius: +0.5
- Sharpness: 137
- SplitToningBalance: 0
- SplitToningHighlightHue: 0
- SplitToningHighlightSaturation: 0
- SplitToningShadowHue: 0
- SplitToningShadowSaturation: 0
- Tint: +10
- ToneCurveName2012: Linear
- ToneCurvePV2012: 0, 0, 255, 255
- ToneCurvePV2012Blue: 0, 0, 255, 255
- ToneCurvePV2012Green: 0, 0, 255, 255
- ToneCurvePV2012Red: 0, 0, 255, 255
- Version: 7.2
- Vibrance: 0
- VignetteAmount: 0
- WhiteBalance: Custom
- Whites2012: -91
- XMP-dc
- XMP-x
- XMP-xmp
- CreateDate: 2009:06:22 20:48:58
- CreatorTool: 2.0.4.1642 Release
- ModifyDate: 2013:04:03 12:22:34+03:00
- Rating: 0
- XMP-xmpMM
- Просмотров: 185
- Рейтинг: голосов еще нет
- Отзывов: 0