- Раздел: Тесты фототехники
- Дата съёмки: неизвестно
- Дата загрузки фото: 06.04.2018 00:00
- Оригинальная фотография: 6000 x 4000 (6,9 Мб)
- Технические характеристики:
- Фотоаппарат: FujiFilm X-H1
- Выдержка: 0,0
- Гиперфокальное расстояние: inf m
- Диафрагма: 4,0
- Светочувствительность: 400
- Фокусное расстояние: 14,0 mm (35 mm equivalent: 14,0 mm)
- Полный EXIF
- Adobe
- ColorTransform: YCbCr
- Composite
- Aperture: 4,0
- CircleOfConfusion: 0,020 mm
- FOV: 104,0 deg
- FocalLength35efl: 14,0 mm (35 mm equivalent: 14,0 mm)
- HyperfocalDistance: inf m
- Megapixels: 24,0
- ScaleFactor35efl: 1,5
- ShutterSpeed: 0,0
- ExifIFD
- ApertureValue: 4,0
- BrightnessValue: 6,29
- ColorSpace: Uncalibrated
- CreateDate: 2018:03:13 14:23:40
- CustomRendered: Custom
- DateTimeOriginal: 2018:03:13 14:23:40
- ExposureCompensation: 0
- ExposureMode: Auto
- ExposureProgram: Aperture-priority AE
- ExposureTime: 0,0
- FNumber: 4,0
- Flash: No Flash
- FocalLength: 14,0 mm
- FocalLengthIn35mmFormat: 21 mm
- ISO: 400
- LensInfo: 14mm f/2.8
- LensMake: FUJIFILM
- LensModel: XF14mmF2.8 R
- LensSerialNumber: 31A11797
- LightSource: Unknown
- MaxApertureValue: 2,8
- MeteringMode: Multi-segment
- SceneCaptureType: Standard
- SceneType: Directly photographed
- SensingMethod: One-chip color area
- SensitivityType: Standard Output Sensitivity
- SerialNumber: 81M52726
- ShutterSpeedValue: 1/256
- SubjectDistanceRange: Unknown
- ICC-header
- IFD0
- Artist: MIKHAIL RYBAKOV
- Copyright: MIKHAL RYBAKOV
- Make: FUJIFILM
- Model: X-H1
- ModifyDate: 2018:03:13 17:31:19
- IFD1
- IPTC
- By-line: MIKHAIL RYBAKOV
- CopyrightNotice: MIKHAL RYBAKOV
- DateCreated: 2018:03:13
- System
- XMP-aux
- Lens: XF14mmF2.8 R
- XMP-crs
- AlreadyApplied: True
- AutoLateralCA: 0
- Blacks2012: -2
- BlueHue: 0
- BlueSaturation: 0
- CameraProfile: Embedded
- Clarity2012: 0
- ColorNoiseReduction: 0
- Contrast2012: -3
- ConvertToGrayscale: False
- DefringeGreenAmount: 0
- DefringeGreenHueHi: 60
- DefringeGreenHueLo: 40
- DefringePurpleAmount: 0
- DefringePurpleHueHi: 70
- DefringePurpleHueLo: 30
- Dehaze: 0
- Exposure2012: +0.55
- GrainAmount: 0
- GreenHue: 0
- GreenSaturation: 0
- HasCrop: False
- HasSettings: True
- Highlights2012: -83
- HueAdjustmentAqua: 0
- HueAdjustmentBlue: 0
- HueAdjustmentGreen: 0
- HueAdjustmentMagenta: 0
- HueAdjustmentOrange: 0
- HueAdjustmentPurple: 0
- HueAdjustmentRed: 0
- HueAdjustmentYellow: 0
- IncrementalTemperature: -1
- IncrementalTint: -13
- LensManualDistortionAmount: 0
- LensProfileEnable: 0
- LensProfileSetup: LensDefaults
- LuminanceAdjustmentAqua: 0
- LuminanceAdjustmentBlue: 0
- LuminanceAdjustmentGreen: 0
- LuminanceAdjustmentMagenta: 0
- LuminanceAdjustmentOrange: 0
- LuminanceAdjustmentPurple: 0
- LuminanceAdjustmentRed: 0
- LuminanceAdjustmentYellow: 0
- LuminanceSmoothing: 0
- ParametricDarks: 0
- ParametricHighlightSplit: 75
- ParametricHighlights: 0
- ParametricLights: 0
- ParametricMidtoneSplit: 50
- ParametricShadowSplit: 25
- ParametricShadows: 0
- PerspectiveAspect: 0
- PerspectiveHorizontal: 0
- PerspectiveRotate: 0.0
- PerspectiveScale: 100
- PerspectiveUpright: 0
- PerspectiveVertical: 0
- PerspectiveX: 0.00
- PerspectiveY: 0.00
- PostCropVignetteAmount: 0
- ProcessVersion: 10.0
- RawFileName: _MIR1290.tif
- RedHue: 0
- RedSaturation: 0
- Saturation: +4
- SaturationAdjustmentAqua: 0
- SaturationAdjustmentBlue: 0
- SaturationAdjustmentGreen: 0
- SaturationAdjustmentMagenta: 0
- SaturationAdjustmentOrange: 0
- SaturationAdjustmentPurple: 0
- SaturationAdjustmentRed: 0
- SaturationAdjustmentYellow: 0
- ShadowTint: 0
- Shadows2012: +18
- SharpenDetail: 25
- SharpenEdgeMasking: 0
- SharpenRadius: +1.0
- Sharpness: 0
- SplitToningBalance: 0
- SplitToningHighlightHue: 0
- SplitToningHighlightSaturation: 0
- SplitToningShadowHue: 0
- SplitToningShadowSaturation: 0
- ToneCurve: 0, 0, 255, 255
- ToneCurveBlue: 0, 0, 255, 255
- ToneCurveGreen: 0, 0, 255, 255
- ToneCurveName: Linear
- ToneCurveName2012: Linear
- ToneCurvePV2012: 0, 0, 255, 255
- ToneCurvePV2012Blue: 0, 0, 255, 255
- ToneCurvePV2012Green: 0, 0, 255, 255
- ToneCurvePV2012Red: 0, 0, 255, 255
- ToneCurveRed: 0, 0, 255, 255
- Version: 10.1
- Vibrance: +13
- VignetteAmount: 0
- WhiteBalance: Custom
- Whites2012: +41
- XMP-dc
- Creator: MIKHAIL RYBAKOV
- Format: image/jpeg
- Rights: MIKHAL RYBAKOV
- XMP-xmp
- ModifyDate: 2018:03:13 17:31:19+03:00
- XMP-xmpMM
- Просмотров: 201
- Рейтинг: голосов еще нет
- Отзывов: отключены