- Раздел: Другое, разное
- Дата съёмки: неизвестно
- Дата загрузки фото: 14.02.2020 18:16
- Оригинальная фотография: 4160 x 6240 (3,8 Мб)
- Технические характеристики:
- Фотоаппарат: Canon EOS 6D Mark II
- Выдержка: 0,0
- Гиперфокальное расстояние: inf m
- Диафрагма: 11,0
- Светочувствительность: 100
- Фокусное расстояние: 100,0 mm (35 mm equivalent: 100,0 mm)
- Полный EXIF
- Canon
- AEBBracketValue: 0
- AFAreaHeights: 450 0 0 0 0 0 0 0 0 0 0 0 0 0 0 0 0 0 0 0 0 0 0 0 0 0 0 0 0 0 0 0 0 0 0 0 0 0 0 0 0 0 0 0 0 0 0 0 0 0 0 0 0 0 0 0 0 0 0 0 0 0 0
- AFAreaMode: Flexizone Single
- AFAreaWidths: 552 0 0 0 0 0 0 0 0 0 0 0 0 0 0 0 0 0 0 0 0 0 0 0 0 0 0 0 0 0 0 0 0 0 0 0 0 0 0 0 0 0 0 0 0 0 0 0 0 0 0 0 0 0 0 0 0 0 0 0 0 0 0
- AFAreaXPositions: 832 0 0 0 0 0 0 0 0 0 0 0 0 0 0 0 0 0 0 0 0 0 0 0 0 0 0 0 0 0 0 0 0 0 0 0 0 0 0 0 0 0 0 0 0 0 0 0 0 0 0 0 0 0 0 0 0 0 0 0 0 0 0
- AFAreaYPositions: -704 0 0 0 0 0 0 0 0 0 0 0 0 0 0 0 0 0 0 0 0 0 0 0 0 0 0 0 0 0 0 0 0 0 0 0 0 0 0 0 0 0 0 0 0 0 0 0 0 0 0 0 0 0 0 0 0 0 0 0 0 0 0
- AFImageHeight: 4160
- AFImageWidth: 6240
- AFMicroAdjMode: Disable
- AFMicroAdjValue: 0
- AFPointsInFocus: 0
- AFPointsSelected: 0
- AmbienceSelection: Standard
- AspectRatio: 3:2
- AutoExposureBracketing: Off
- AutoISO: 100
- AutoLightingOptimizer: Off
- BaseISO: 100
- BlackMaskBottomBorder: 0
- BlackMaskLeftBorder: 0
- BlackMaskRightBorder: 0
- BlackMaskTopBorder: 0
- BracketMode: Off
- BracketShotNumber: 0
- BracketValue: 0
- BulbDuration: 0
- CameraTemperature: 24 C
- CameraType: EOS High-end
- CanonExposureMode: Manual
- CanonFirmwareVersion: Firmware Version 1.0.4
- CanonFlashMode: External flash
- CanonImageHeight: 4160
- CanonImageType: Canon EOS 6D Mark II
- CanonImageWidth: 6240
- CanonModelID: Unknown (0x80000406)
- ChromaticAberrationSetting: Off
- ColorDataVersion: 15
- ColorTone: Normal
- ContinuousDrive: Continuous, High
- Contrast: Normal
- ControlMode: Camera Local Control
- CropBottomMargin: 0
- CropLeftMargin: 0
- CropRightMargin: 0
- CropTopMargin: 0
- CroppedImageHeight: 4160
- CroppedImageLeft: 0
- CroppedImageTop: 0
- CroppedImageWidth: 6240
- CustomPictureStyleFileName:
- DaylightSavings: Off
- DigitalZoom: None
- EasyMode: Manual
- ExposureCompensation: 0
- ExposureTime: 1/161
- FNumber: 11
- FisheyeFilter: Off
- FlashActivity: 151
- FlashBits: [8], External
- FlashExposureComp: 0
- FlashExposureLock: Off
- FocalLength: 100 mm
- FocalUnits: 1/mm
- FocusDistanceLower: 0,94 m
- FocusDistanceUpper: 1,11 m
- FocusMode: AI Servo AF
- FocusRange: Not Known
- GrainyBWFilter: Off
- HDR: Off
- HDREffect: Natural
- HighISONoiseReduction: Standard
- HighlightTonePriority: Off
- InternalSerialNumber: KK0366063
- LensModel: EF100mm f/2 USM
- LensSerialNumber: 0000002158
- LensType: Canon EF 100mm f/2 USM
- LiveViewShooting: On
- LongExposureNoiseReduction: Off
- MacroMode: Normal
- ManualFlashOutput: n/a
- MaxAperture: 2
- MaxFocalLength: 100 mm
- MeasuredEV: 4,75
- MeasuredEV2: 5,125
- MeasuredRGGB: 562 1024 1024 607
- MeteringMode: Evaluative
- MinAperture: 23
- MinFocalLength: 100 mm
- MiniatureFilter: Off
- MiniatureFilterOrientation: Horizontal
- MiniatureFilterParameter: 0
- MiniatureFilterPosition: 0
- MultiExposure: Off
- MultiExposureControl: Additive
- MultiExposureShots: 0
- NDFilter: n/a
- NumAFPoints: 63
- OpticalZoomCode: n/a
- OwnerName: Dmitriy Larin
- PaintingFilter: Off
- PeripheralIlluminationCorr: On
- PeripheralLightingSetting: Off
- PictureStylePC: Neutral; Neutral; None
- PictureStyleUserDef: PC 1; PC 2; Auto
- Quality: Fine
- RawJpgSize: Large
- RecordMode: CR2
- SRAWQuality: n/a
- Saturation: Normal
- SelfTimer: Off
- SensorBottomBorder: 4215
- SensorHeight: 4224
- SensorLeftBorder: 132
- SensorRightBorder: 6371
- SensorTopBorder: 56
- SensorWidth: 6384
- SequenceNumber: 0
- SlowShutter: None
- SoftFocusFilter: Off
- TargetAperture: 11
- TargetExposureTime: 1,0
- TimeZone: +02:00
- TimeZoneCity: Cairo
- ToyCameraFilter: Off
- VRDOffset: 0
- ValidAFPoints: 1
- VignettingCorrVersion: 16
- WBBracketMode: Off
- WBBracketValueAB: 0
- WBBracketValueGM: 0
- WatercolorFilter: Off
- WhiteBalance: Auto
- ZoomSourceWidth: 0
- ZoomTargetWidth: 0
- CanonCustom
- AEBAutoCancel: On
- AEBSequence: 0,-,+
- AEBShotCount: 3 shots
- AFAreaSelectMethod: AF area selection button
- AFAssistBeam: Emits
- AFMicroadjustment: Adjust by lens; 4; 0; 0; 2; 0; 0; 0; 0; 0; 0; 255; 255; 255; 255; 255
- AFPointDisplayDuringFocus: Selected (constant)
- AIServoFirstImagePriority: Equal priority
- AIServoSecondImagePriority: Equal priority
- AIServoTrackingMethod: Main focus point priority
- AIServoTrackingSensitivity: Standard
- AccelerationTracking: 0
- AutoAFPointColorTracking: On-Shot AF only
- CustomControls: 0 0 0 2 0 0 0 0 0 0 0 0 0 0 0 0 0 0 0
- DialDirectionTvAv: Normal
- ExposureLevelIncrements: 1/3 Stop
- ISOSpeedIncrements: 1 Stop
- InitialAFPointAIServoAF: Initial AF point selected
- LensDriveNoAF: Focus search on
- ManualAFPointSelectPattern: Continuous
- OrientationLinkedAFPoint: Select different AF points
- RetractLensOnPowerOff: Enable
- SafetyShift: Disable
- SelectAFAreaSelectMode: Disable; Flags 0x57
- VFDisplayIllumination: Auto; Non-illuminated
- ViewfinderWarnings: Monochrome, WB corrected, [6], [7]
- Composite
- Aperture: 11,0
- CircleOfConfusion: 0,020 mm
- ConditionalFEC: 0
- DOF: inf (0,00 m - inf)
- DriveMode: Continuous Shooting
- FOV: 20,0 deg
- Flash: On, Fired
- FlashType: External
- FocalLength35efl: 100,0 mm (35 mm equivalent: 100,0 mm)
- HyperfocalDistance: inf m
- ISO: 100
- Lens: 100,0 mm
- Lens35efl: 100,0 mm (35 mm equivalent: 151,9 mm)
- LensID: Canon EF 100mm f/2 USM
- Megapixels: 26,0
- RedEyeReduction: Off
- ScaleFactor35efl: 1,5
- ShootingMode: Manual
- ShutterCurtainHack: 1st-curtain sync
- ShutterSpeed: 0,0
- ExifIFD
- ApertureValue: 11,3
- ColorSpace: sRGB
- CreateDate: 2020:02:14 16:49:54
- CustomRendered: Normal
- DateTimeOriginal: 2020:02:14 16:49:54
- ExifImageHeight: 6240
- ExifImageWidth: 4160
- ExposureMode: Manual
- ExposureProgram: Manual
- ExposureTime: 0,0
- FNumber: 11,0
- FocalLength: 100,0 mm
- LensInfo: 100mm f/0
- MeteringMode: Multi-segment
- RecommendedExposureIndex: 100
- SceneCaptureType: Standard
- SensitivityType: Recommended Exposure Index
- SerialNumber: 158052000629
- ShutterSpeedValue: 1/128
- SubjectDistance: 1,11 m
- UserComment:
- GPS
- IFD0
- Artist: Dmitriy Larin
- Copyright: Dmitriy Larin
- Make: Canon
- Model: Canon EOS 6D Mark II
- ModifyDate: 2020:02:14 16:49:54
- Orientation: Horizontal (normal)
- Software: DxO PhotoLab 3.0
- IFD1
- System
- XMP-aux
- ApproximateFocusDistance: 1,01
- Firmware: 1.0.4
- FlashCompensation: 0
- ImageNumber: 0
- Lens: EF100mm f/2 USM
- LensID: 149
- LensInfo: 100mm f/?
- XMP-crs
- AlreadyApplied: True
- AutoLateralCA: 0
- Blacks2012: +30
- BlueHue: 0
- BlueSaturation: 0
- CameraProfile: Camera Standard
- Clarity2012: 0
- ColorNoiseReduction: 0
- ColorTemperature: 6150
- Contrast2012: -20
- ConvertToGrayscale: False
- DefringeGreenAmount: 0
- DefringeGreenHueHi: 60
- DefringeGreenHueLo: 40
- DefringePurpleAmount: 0
- DefringePurpleHueHi: 70
- DefringePurpleHueLo: 30
- Dehaze: 0
- Exposure2012: -0.25
- GrainAmount: 0
- GreenHue: 0
- GreenSaturation: 0
- HasCrop: False
- HasSettings: True
- Highlights2012: 0
- HueAdjustmentAqua: 0
- HueAdjustmentBlue: 0
- HueAdjustmentGreen: 0
- HueAdjustmentMagenta: 0
- HueAdjustmentOrange: 0
- HueAdjustmentPurple: 0
- HueAdjustmentRed: 0
- HueAdjustmentYellow: 0
- LensManualDistortionAmount: 0
- LensProfileEnable: 0
- LensProfileSetup: LensDefaults
- LookName:
- LuminanceAdjustmentAqua: 0
- LuminanceAdjustmentBlue: 0
- LuminanceAdjustmentGreen: 0
- LuminanceAdjustmentMagenta: 0
- LuminanceAdjustmentOrange: 0
- LuminanceAdjustmentPurple: 0
- LuminanceAdjustmentRed: 0
- LuminanceAdjustmentYellow: 0
- LuminanceSmoothing: 0
- OverrideLookVignette: False
- ParametricDarks: 0
- ParametricHighlightSplit: 75
- ParametricHighlights: 0
- ParametricLights: 0
- ParametricMidtoneSplit: 50
- ParametricShadowSplit: 25
- ParametricShadows: 0
- PerspectiveAspect: 0
- PerspectiveHorizontal: 0
- PerspectiveRotate: 0.0
- PerspectiveScale: 100
- PerspectiveUpright: 0
- PerspectiveVertical: 0
- PerspectiveX: 0.00
- PerspectiveY: 0.00
- PostCropVignetteAmount: 0
- ProcessVersion: 11.0
- RedHue: 0
- RedSaturation: 0
- Saturation: 0
- SaturationAdjustmentAqua: 0
- SaturationAdjustmentBlue: 0
- SaturationAdjustmentGreen: 0
- SaturationAdjustmentMagenta: 0
- SaturationAdjustmentOrange: 0
- SaturationAdjustmentPurple: 0
- SaturationAdjustmentRed: 0
- SaturationAdjustmentYellow: 0
- ShadowTint: 0
- Shadows2012: +30
- SharpenDetail: 25
- SharpenEdgeMasking: 0
- SharpenRadius: +1.0
- Sharpness: 40
- SplitToningBalance: 0
- SplitToningHighlightHue: 0
- SplitToningHighlightSaturation: 0
- SplitToningShadowHue: 0
- SplitToningShadowSaturation: 0
- Texture: 0
- Tint: +1
- ToneCurve: 0, 0, 32, 22, 64, 56, 128, 128, 192, 196, 255, 255
- ToneCurveBlue: 0, 0, 255, 255
- ToneCurveGreen: 0, 0, 255, 255
- ToneCurveName: Medium Contrast
- ToneCurveName2012: Linear
- ToneCurvePV2012: 0, 0, 255, 255
- ToneCurvePV2012Blue: 0, 0, 255, 255
- ToneCurvePV2012Green: 0, 0, 255, 255
- ToneCurvePV2012Red: 0, 0, 255, 255
- ToneCurveRed: 0, 0, 255, 255
- ToneMapStrength: 0
- Version: 12.1
- Vibrance: 0
- VignetteAmount: 0
- WhiteBalance: Custom
- Whites2012: 0
- XMP-dc
- Creator: Dmitriy Larin
- Format: image/x-canon-cr2
- Rights: Dmitriy Larin
- XMP-exif
- ApertureValue: 11,0
- DateTimeOriginal: 2020:02:14 16:49:54.62
- ExposureTime: 1/160
- FlashFired: True
- FlashFunction: False
- FlashMode: On
- FlashRedEyeMode: False
- FlashReturn: No return detection
- MaxApertureValue: 2,0
- SensitivityType: 2
- ShutterSpeedValue: 1/160
- XMP-exifEX
- XMP-tiff
- XMP-x
- XMP-xmp
- CreateDate: 2020:02:14 16:49:54.62
- ModifyDate: 2020:02:14 16:49:54.62
- Rating: 0
- XMP-xmpMM
- Просмотров: 187
- Рейтинг: голосов еще нет
- Отзывов: отключены