- Раздел: Другое, разное
- Дата съёмки: неизвестно
- Дата загрузки фото: 14.02.2020 18:16
- Оригинальная фотография: 3448 x 4592 (2,1 Мб)
- Технические характеристики:
- Фотоаппарат: Panasonic DC-GX800
- Выдержка: 0,0
- Гиперфокальное расстояние: inf m
- Диафрагма: 5,6
- Светочувствительность: 200
- Фокусное расстояние: 50,0 mm (35 mm equivalent: 100,0 mm)
- Полный EXIF
- Composite
- AdvancedSceneMode: Off
- Aperture: 5,6
- BlueBalance: 1,430664
- CircleOfConfusion: 0,015 mm
- FOV: 20,0 deg
- Flash: On, Fired
- FocalLength35efl: 50,0 mm (35 mm equivalent: 100,0 mm)
- HyperfocalDistance: inf m
- LensID: EF50mm f/1.8 STM
- Megapixels: 15,8
- RedBalance: 2,575195
- ScaleFactor35efl: 2,0
- ShutterSpeed: 0,0
- ExifIFD
- ColorSpace: sRGB
- CompressedBitsPerPixel: 2
- Contrast: Normal
- CreateDate: 2020:02:14 16:17:19
- CustomRendered: Normal
- DateTimeOriginal: 2020:02:14 16:17:19
- DigitalZoomRatio: 0
- ExifImageHeight: 4592
- ExifImageWidth: 3448
- ExposureCompensation: 0
- ExposureMode: Manual
- ExposureProgram: Manual
- ExposureTime: 0,0
- FNumber: 5,6
- FocalLength: 50,0 mm
- FocalLengthIn35mmFormat: 100 mm
- GainControl: Low gain up
- ISO: 200
- LightSource: Unknown
- MaxApertureValue: 1,4
- MeteringMode: Multi-segment
- Saturation: Normal
- SceneCaptureType: Standard
- SceneType: Directly photographed
- SensingMethod: One-chip color area
- SensitivityType: Standard Output Sensitivity
- WhiteBalance: Auto
- IFD0
- Make: Panasonic
- MinSampleValue: 545280
- Model: DC-GX800
- ModifyDate: 2020:02:14 16:17:19
- Orientation: Horizontal (normal)
- Software: DxO PhotoLab 3.0
- IFD1
- Orientation: Rotate 270 CW
- Panasonic
- AFAreaMode: Spot Focusing 2
- AFAssistLamp: Disabled and Not Required
- AFPointPosition: 0 0
- AccelerometerX: -259
- AccelerometerY: 12
- AccelerometerZ: -7
- AccessorySerialNumber: 0000000
- AccessoryType: NO-ACCESSORY
- AdvancedSceneType: 1
- Audio: No
- BabyAge: (not set)
- BabyName:
- BracketSettings: No Bracket
- BurstMode: Off
- BurstSpeed: 0
- CameraOrientation: Rotate CCW
- City:
- City2:
- ClearRetouch: Off
- ClearRetouchValue: undef
- ColorEffect: Off
- ColorTempKelvin: 6800
- ContrastMode: Low
- ConversionLens: Off
- Country:
- FacesDetected: 0
- FacesRecognized: 0
- FirmwareVersion: 0.1.2.0
- FlashBias: -2
- FlashCurtain: 1st
- FlashFired: Yes
- FocusMode: Auto
- HDR: Off
- ImageQuality: Raw
- ImageStabilization: Off
- IntelligentD-Range: Off
- IntelligentResolution: Off
- InternalNDFilter: 0
- Landmark:
- LensFirmwareVersion: 0.2.9.0
- LensSerialNumber: S3c813232008
- LensType: EF50mm f/1.8 STM
- Location:
- LongExposureNoiseReduction: Off
- MacroMode: Off
- MakerNoteVersion: 0152
- NoiseReduction: Standard
- NumFacePositions: 0
- OpticalZoomMode: Standard
- PanasonicExifVersion: 0412
- PanasonicImageHeight: 3448
- PanasonicImageWidth: 4592
- PhotoStyle: Standard or Custom
- PitchAngle: -2,9
- ProgramISO: 200
- RollAngle: -91,1
- Rotation: Rotate 270 CW
- SceneMode: Off
- SelfTimer: Unknown (0)
- SequenceNumber: 0
- ShadingCompensation: Off
- Sharpness: Normal
- ShootingMode: Manual
- ShutterType: Hybrid
- State:
- SweepPanoramaDirection: Off
- SweepPanoramaFieldOfView: 0
- TextStamp: Off
- TimeSincePowerOn: 00:03:08.50
- TimerRecording: Off
- Title:
- TouchAE: Off
- TravelDay: n/a
- WBBlueLevel: 1465
- WBGreenLevel: 1024
- WBRedLevel: 2637
- WBShiftAB: 0
- WBShiftGM: 0
- WorldTimeLocation: Home
- PrintIM
- System
- XMP-aux
- Lens: EF50mm f/1.8 STM
- SerialNumber: XFL1709130161
- XMP-crs
- AlreadyApplied: True
- AutoLateralCA: 0
- Blacks2012: 0
- BlueHue: 0
- BlueSaturation: 0
- CameraProfile: Camera Standard
- Clarity2012: 0
- ColorNoiseReduction: 0
- ColorTemperature: 5600
- Contrast2012: 0
- ConvertToGrayscale: False
- DefringeGreenAmount: 0
- DefringeGreenHueHi: 60
- DefringeGreenHueLo: 40
- DefringePurpleAmount: 0
- DefringePurpleHueHi: 70
- DefringePurpleHueLo: 30
- Dehaze: 0
- Exposure2012: -0.30
- GrainAmount: 0
- GreenHue: 0
- GreenSaturation: 0
- HasCrop: False
- HasSettings: True
- Highlights2012: 0
- HueAdjustmentAqua: 0
- HueAdjustmentBlue: 0
- HueAdjustmentGreen: 0
- HueAdjustmentMagenta: 0
- HueAdjustmentOrange: 0
- HueAdjustmentPurple: 0
- HueAdjustmentRed: 0
- HueAdjustmentYellow: 0
- LensManualDistortionAmount: 0
- LensProfileEnable: 0
- LensProfileSetup: LensDefaults
- LookName:
- LuminanceAdjustmentAqua: 0
- LuminanceAdjustmentBlue: 0
- LuminanceAdjustmentGreen: 0
- LuminanceAdjustmentMagenta: 0
- LuminanceAdjustmentOrange: 0
- LuminanceAdjustmentPurple: 0
- LuminanceAdjustmentRed: 0
- LuminanceAdjustmentYellow: 0
- LuminanceSmoothing: 0
- OverrideLookVignette: False
- ParametricDarks: 0
- ParametricHighlightSplit: 75
- ParametricHighlights: 0
- ParametricLights: 0
- ParametricMidtoneSplit: 50
- ParametricShadowSplit: 25
- ParametricShadows: 0
- PerspectiveAspect: 0
- PerspectiveHorizontal: 0
- PerspectiveRotate: 0.0
- PerspectiveScale: 100
- PerspectiveUpright: 0
- PerspectiveVertical: 0
- PerspectiveX: 0.00
- PerspectiveY: 0.00
- PostCropVignetteAmount: 0
- ProcessVersion: 11.0
- RedHue: 0
- RedSaturation: 0
- Saturation: 0
- SaturationAdjustmentAqua: 0
- SaturationAdjustmentBlue: 0
- SaturationAdjustmentGreen: 0
- SaturationAdjustmentMagenta: 0
- SaturationAdjustmentOrange: 0
- SaturationAdjustmentPurple: 0
- SaturationAdjustmentRed: 0
- SaturationAdjustmentYellow: 0
- ShadowTint: 0
- Shadows2012: 0
- SharpenDetail: 25
- SharpenEdgeMasking: 0
- SharpenRadius: +1.0
- Sharpness: 40
- SplitToningBalance: 0
- SplitToningHighlightHue: 0
- SplitToningHighlightSaturation: 0
- SplitToningShadowHue: 0
- SplitToningShadowSaturation: 0
- Texture: 0
- Tint: -7
- ToneCurve: 0, 0, 32, 22, 64, 56, 128, 128, 192, 196, 255, 255
- ToneCurveBlue: 0, 0, 255, 255
- ToneCurveGreen: 0, 0, 255, 255
- ToneCurveName: Medium Contrast
- ToneCurveName2012: Linear
- ToneCurvePV2012: 0, 0, 255, 255
- ToneCurvePV2012Blue: 0, 0, 255, 255
- ToneCurvePV2012Green: 0, 0, 255, 255
- ToneCurvePV2012Red: 0, 0, 255, 255
- ToneCurveRed: 0, 0, 255, 255
- ToneMapStrength: 0
- Version: 12.1
- Vibrance: 0
- VignetteAmount: 0
- WhiteBalance: Custom
- Whites2012: 0
- XMP-dc
- Format: image/x-panasonic-raw
- XMP-exif
- ApertureValue: 5,6
- DateTimeOriginal: 2020:02:14 16:17:19.201
- ExposureTime: 1/50
- FlashFired: True
- FlashFunction: False
- FlashMode: On
- FlashRedEyeMode: False
- FlashReturn: No return detection
- MaxApertureValue: 1,8
- ShutterSpeedValue: 1/50
- XMP-exifEX
- LensModel: EF50mm f/1.8 STM
- XMP-tiff
- XMP-x
- XMP-xmp
- CreateDate: 2020:02:14 16:17:19.201
- ModifyDate: 2020:02:14 16:17:19.201
- XMP-xmpMM
- Просмотров: 175
- Рейтинг: голосов еще нет
- Отзывов: отключены