- Раздел: Город
- Дата съёмки: неизвестно
- Дата загрузки фото: 26.03.2021 22:04
- Оригинальная фотография: 2336 x 3504 (4,9 Мб)
- Технические характеристики:
- Фотоаппарат: Canon EOS 20D
- Выдержка: 0,0
- Гиперфокальное расстояние: inf m
- Диафрагма: 10,0
- Светочувствительность: 100
- Фокусное расстояние: 70,0 mm (35 mm equivalent: 70,0 mm)
- Полный EXIF
- Adobe
- ColorTransform: YCbCr
- Composite
- Aperture: 10,0
- CircleOfConfusion: 0,019 mm
- FOV: 28,0 deg
- FocalLength35efl: 70,0 mm (35 mm equivalent: 70,0 mm)
- GPSLatitude: 1787 deg 33' 59,00" N
- GPSLongitude: 2023 deg 46' 34,00" E
- GPSPosition: 1787 deg 33' 59,00" N, 2023 deg 46' 34,00" E
- HyperfocalDistance: inf m
- Megapixels: 8,2
- ScaleFactor35efl: 1,6
- ShutterSpeed: 0,0
- ExifIFD
- ApertureValue: 8,0
- ColorSpace: sRGB
- CreateDate: 2019:05:10 16:47:40
- CustomRendered: Normal
- DateTimeOriginal: 2019:05:10 16:47:40
- ExposureCompensation: 0
- ExposureMode: Auto
- ExposureProgram: Aperture-priority AE
- ExposureTime: 0,0
- FNumber: 10,0
- Flash: Off, Did not fire
- FocalLength: 70,0 mm
- ISO: 100
- LensInfo: 70-200mm f/?
- LensModel: 70.0-200.0 mm
- MaxApertureValue: 2,0
- MeteringMode: Multi-segment
- OwnerName: Kovalev OE
- SceneCaptureType: Standard
- SerialNumber: 1130612448
- ShutterSpeedValue: 1/64
- WhiteBalance: Auto
- GPS
- GPSLatitude: 1787 deg 33' 59,00"
- GPSLatitudeRef: North
- GPSLongitude: 2023 deg 46' 34,00"
- GPSLongitudeRef: East
- GPSVersionID: 2.2.0.0
- ICC-header
- ICC-meas
- ICC-view
- IFD0
- Artist: Kovalev OE
- Make: Canon
- Model: Canon EOS 20D
- ModifyDate: 2021:03:27 01:04:26
- IFD1
- IPTC
- By-line: Kovalev OE
- City: Екатеринбург
- Country-PrimaryLocationCode: RU
- Country-PrimaryLocationName: Р РѕСЃСЃРёСЏ
- DateCreated: 2019:05:10
- Keywords: Город, Человеки
- Province-State: Sverdlovsk Oblast
- System
- XMP-aux
- DistortionCorrectionAlreadyApplied: True
- Firmware: 2.0.3
- FlashCompensation: 0,333333333333333
- ImageNumber: 252
- LateralChromaticAberrationCorrectionAlreadyApplied: True
- Lens: 70.0-200.0 mm
- VignetteCorrectionAlreadyApplied: True
- XMP-crs
- AlreadyApplied: True
- AutoLateralCA: 1
- Blacks2012: 0
- BlueHue: 0
- BlueSaturation: 0
- CameraProfile: Camera Standard
- Clarity2012: 0
- ColorNoiseReduction: 25
- ColorNoiseReductionDetail: 50
- ColorNoiseReductionSmoothness: 50
- ColorTemperature: 5500
- Contrast2012: +7
- ConvertToGrayscale: False
- DefringeGreenAmount: 0
- DefringeGreenHueHi: 60
- DefringeGreenHueLo: 40
- DefringePurpleAmount: 0
- DefringePurpleHueHi: 70
- DefringePurpleHueLo: 30
- Dehaze: 0
- Exposure2012: -0.38
- GrainAmount: 0
- GreenHue: 0
- GreenSaturation: 0
- HasCrop: False
- HasSettings: True
- Highlights2012: -66
- HueAdjustmentAqua: 0
- HueAdjustmentBlue: 0
- HueAdjustmentGreen: 0
- HueAdjustmentMagenta: 0
- HueAdjustmentOrange: 0
- HueAdjustmentPurple: 0
- HueAdjustmentRed: 0
- HueAdjustmentYellow: 0
- LensManualDistortionAmount: 0
- LensProfileChromaticAberrationScale: 100
- LensProfileDistortionScale: 100
- LensProfileEnable: 1
- LensProfileFilename: Canon (SIGMA 70-200mm F2.8 DG OS HSM S018) - RAW.lcp
- LensProfileSetup: Custom
- LensProfileVignettingScale: 100
- LookName:
- LuminanceAdjustmentAqua: 0
- LuminanceAdjustmentBlue: 0
- LuminanceAdjustmentGreen: 0
- LuminanceAdjustmentMagenta: 0
- LuminanceAdjustmentOrange: 0
- LuminanceAdjustmentPurple: 0
- LuminanceAdjustmentRed: 0
- LuminanceAdjustmentYellow: 0
- LuminanceNoiseReductionContrast: 0
- LuminanceNoiseReductionDetail: 50
- LuminanceSmoothing: 25
- OverrideLookVignette: False
- ParametricDarks: 0
- ParametricHighlightSplit: 75
- ParametricHighlights: 0
- ParametricLights: 0
- ParametricMidtoneSplit: 50
- ParametricShadowSplit: 25
- ParametricShadows: 0
- PerspectiveAspect: 0
- PerspectiveHorizontal: 0
- PerspectiveRotate: 0.0
- PerspectiveScale: 100
- PerspectiveUpright: 1
- PerspectiveVertical: 0
- PerspectiveX: 0.00
- PerspectiveY: 0.00
- PostCropVignetteAmount: 0
- ProcessVersion: 11.0
- RawFileName: IMG_0252.CR2
- RedHue: 0
- RedSaturation: 0
- Saturation: +8
- SaturationAdjustmentAqua: 0
- SaturationAdjustmentBlue: 0
- SaturationAdjustmentGreen: 0
- SaturationAdjustmentMagenta: 0
- SaturationAdjustmentOrange: 0
- SaturationAdjustmentPurple: 0
- SaturationAdjustmentRed: 0
- SaturationAdjustmentYellow: 0
- ShadowTint: 0
- Shadows2012: +20
- SharpenDetail: 50
- SharpenEdgeMasking: 0
- SharpenRadius: +1.0
- Sharpness: 40
- SplitToningBalance: 0
- SplitToningHighlightHue: 0
- SplitToningHighlightSaturation: 0
- SplitToningShadowHue: 0
- SplitToningShadowSaturation: 0
- Texture: 0
- Tint: +12
- ToneCurve: 0, 0, 255, 255
- ToneCurveBlue: 0, 0, 255, 255
- ToneCurveGreen: 0, 0, 255, 255
- ToneCurveName: Linear
- ToneCurveName2012: Linear
- ToneCurvePV2012: 0, 0, 255, 255
- ToneCurvePV2012Blue: 0, 0, 255, 255
- ToneCurvePV2012Green: 0, 0, 255, 255
- ToneCurvePV2012Red: 0, 0, 255, 255
- ToneCurveRed: 0, 0, 255, 255
- ToneMapStrength: 0
- Version: 12.2.1
- Vibrance: +19
- VignetteAmount: 0
- WhiteBalance: As Shot
- Whites2012: +30
- XMP-dc
- Creator: Kovalev OE
- Format: image/jpeg
- Subject: Город, Человеки
- XMP-iptcCore
- XMP-xmp
- ModifyDate: 2021:03:27 01:04:26+06:00
- XMP-xmpMM
- PreservedFileName: IMG_0252.CR2
- Просмотров: 173
- Рейтинг: голосов еще нет
- Отзывов: 0