- Раздел: Другое, разное
- Дата съёмки: неизвестно
- Дата загрузки фото: 27.10.2023 21:42
- Оригинальная фотография: 1920 x 1440 (775 Кб)
- Технические характеристики:
- Фотоаппарат: Samsung SM-A725F
- Выдержка: 0,0
- Гиперфокальное расстояние: inf m
- Диафрагма: 2,4
- Светочувствительность: 254
- Фокусное расстояние: 7,0 mm (35 mm equivalent: 98,0 mm)
- Полный EXIF
- Adobe
- ColorTransform: YCbCr
- Composite
- Aperture: 2,4
- CircleOfConfusion: 0,002 mm
- DOF: inf (0,00 m - inf)
- FocalLength35efl: 7,0 mm (35 mm equivalent: 98,0 mm)
- FOV: 20,0 deg
- HyperfocalDistance: inf m
- Megapixels: 2,8
- ScaleFactor35efl: 14,7
- ShutterSpeed: 0,0
- ExifIFD
- ApertureValue: 2,0
- BrightnessValue: -0,17
- ColorSpace: sRGB
- Contrast: Normal
- CreateDate: 2023:10:27 18:13:22
- CustomRendered: Custom
- DateTimeOriginal: 2023:10:27 18:13:22
- DigitalZoomRatio: 0
- ExifImageHeight: 1440
- ExifImageWidth: 1920
- ExposureCompensation: 0
- ExposureMode: Auto
- ExposureProgram: Program AE
- ExposureTime: 0,0
- Flash: Off, Did not fire
- FNumber: 2,4
- FocalLength: 7,0 mm
- FocalLengthIn35mmFormat: 103 mm
- ISO: 254
- LensMake: samsung
- LensModel: samsung
- MaxApertureValue: 2,0
- MeteringMode: Center-weighted average
- Saturation: Normal
- SceneCaptureType: Standard
- SceneType: Directly photographed
- SensingMethod: One-chip color area
- Sharpness: Normal
- ShutterSpeedValue: 1/8
- SubjectDistance: 10,561 m
- SubjectDistanceRange: Distant
- WhiteBalance: Auto
- GPS
- GPSImgDirection: 168
- GPSImgDirectionRef: Magnetic North
- ICC-header
- ICC-meas
- ICC-view
- IFD0
- Make: samsung
- Model: SM-A725F
- ModifyDate: 2023:10:27 21:34:45
- Orientation: Horizontal (normal)
- IFD1
- IPTC
- DateCreated: 2023:10:27
- System
- XMP-GCamera
- Shot_log_data: SERSUALvZDVtXnAeLOrjQ9jarqPKChZur/ujKvn0YAt1Jl1drnCNyGd5UjDmuDVMEiHv20SWROhRNRYKprHSsdh0T/FURyfk3bGkBRjRraPf0I4LjL7OH/hYHIkPpcv5KLoDNSf/mxfSoSql0fmkLSo9yl8Czekp13TcKohS5+4TRlisouWfC87Ycljc6t1VBCsbiSPp0dakjwn3/7Z0fFd0/2XE3s1Rw6gHHrHdaIuoiPDxC/MSupmdU/GimOL3r/3YUCPRufxnw99aKXZnCxTzo11JfiPCKhlJXjsAmGXdqg2JCC+w9a9nw84YNWlY773uoTII+9qEellkfdda9UNSCDTTYsJwjV3KTpIqkX/l39ftwvFEwRN9iESnZ906Oppba9s3ryNsbpVhuGH3gQXXypP1Xg==
- XMP-aux
- ApproximateFocusDistance: 10,561
- Lens: samsung
- XMP-crs
- AlreadyApplied: True
- AutoLateralCA: 0
- Blacks2012: 0
- BlueHue: 0
- BlueSaturation: 0
- CameraProfile: Embedded
- Clarity2012: 0
- ColorGradeBlending: 50
- ColorGradeGlobalHue: 0
- ColorGradeGlobalLum: 0
- ColorGradeGlobalSat: 0
- ColorGradeHighlightLum: 0
- ColorGradeMidtoneHue: 0
- ColorGradeMidtoneLum: 0
- ColorGradeMidtoneSat: 0
- ColorGradeShadowLum: 0
- ColorNoiseReduction: 0
- Contrast2012: 0
- ConvertToGrayscale: False
- DefringeGreenAmount: 0
- DefringeGreenHueHi: 60
- DefringeGreenHueLo: 40
- DefringePurpleAmount: 0
- DefringePurpleHueHi: 70
- DefringePurpleHueLo: 30
- Dehaze: 0
- Exposure2012: 0.00
- GrainAmount: 0
- GreenHue: 0
- GreenSaturation: 0
- HasCrop: False
- HasSettings: True
- Highlights2012: -7
- HueAdjustmentAqua: 0
- HueAdjustmentBlue: 0
- HueAdjustmentGreen: 0
- HueAdjustmentMagenta: 0
- HueAdjustmentOrange: 0
- HueAdjustmentPurple: 0
- HueAdjustmentRed: 0
- HueAdjustmentYellow: 0
- IncrementalTemperature: -9
- IncrementalTint: -7
- LensManualDistortionAmount: 0
- LensProfileEnable: 0
- LuminanceAdjustmentAqua: 0
- LuminanceAdjustmentBlue: 0
- LuminanceAdjustmentGreen: 0
- LuminanceAdjustmentMagenta: 0
- LuminanceAdjustmentOrange: 0
- LuminanceAdjustmentPurple: 0
- LuminanceAdjustmentRed: 0
- LuminanceAdjustmentYellow: 0
- LuminanceSmoothing: 0
- OverrideLookVignette: False
- ParametricDarks: 0
- ParametricHighlights: 0
- ParametricHighlightSplit: 75
- ParametricLights: 0
- ParametricMidtoneSplit: 50
- ParametricShadows: 0
- ParametricShadowSplit: 25
- PerspectiveAspect: 0
- PerspectiveHorizontal: 0
- PerspectiveRotate: 0.0
- PerspectiveScale: 100
- PerspectiveUpright: 0
- PerspectiveVertical: 0
- PerspectiveX: 0.00
- PerspectiveY: 0.00
- PostCropVignetteAmount: 0
- ProcessVersion: 15.4
- RedHue: 0
- RedSaturation: 0
- Saturation: 0
- SaturationAdjustmentAqua: 0
- SaturationAdjustmentBlue: 0
- SaturationAdjustmentGreen: 0
- SaturationAdjustmentMagenta: 0
- SaturationAdjustmentOrange: 0
- SaturationAdjustmentPurple: 0
- SaturationAdjustmentRed: 0
- SaturationAdjustmentYellow: 0
- Shadows2012: 0
- ShadowTint: 0
- Sharpness: 0
- SplitToningBalance: 0
- SplitToningHighlightHue: 0
- SplitToningHighlightSaturation: 0
- SplitToningShadowHue: 0
- SplitToningShadowSaturation: 0
- Texture: 0
- ToneCurveName2012: Linear
- ToneCurvePV2012: 0, 0, 255, 255
- ToneCurvePV2012Blue: 0, 0, 255, 255
- ToneCurvePV2012Green: 0, 0, 255, 255
- ToneCurvePV2012Red: 0, 0, 255, 255
- Version: 15.4
- Vibrance: +5
- VignetteAmount: 0
- WhiteBalance: Custom
- Whites2012: 0
- XMP-dc
- XMP-exifEX
- XMP-xmp
- CreatorTool: HDR+ 1.0.Arcidend
- ModifyDate: 2023:10:27 21:34:45+03:00
- XMP-xmpMM
- Просмотров: 31
- Рейтинг: голосов еще нет
- Отзывов: 0