- Раздел: Другое, разное
- Дата съёмки: неизвестно
- Дата загрузки фото: 08.11.2023 11:31
- Оригинальная фотография: 8742 x 11656 (15,2 Мб)
- Технические характеристики:
- Фотоаппарат: Hasselblad X2D 100C
- Выдержка: 0,0
- Гиперфокальное расстояние: inf m
- Диафрагма: 8,0
- Светочувствительность: 800
- Фокусное расстояние: 40,0 mm
- Полный EXIF
- Adobe
- ColorTransform: YCbCr
- Composite
- Aperture: 8,0
- CircleOfConfusion: 0,039 mm
- DOF: inf (0,00 m - inf)
- FocalLength35efl: 40,0 mm
- HyperfocalDistance: inf m
- Megapixels: 101,9
- ScaleFactor35efl: 0,8
- ShutterSpeed: 0,0
- ExifIFD
- ApertureValue: 8,0
- ColorSpace: sRGB
- DateTimeOriginal: 2023:10:22 13:55:53
- ExifImageHeight: 11656
- ExifImageWidth: 8742
- ExposureCompensation: 0
- ExposureProgram: Aperture-priority AE
- ExposureTime: 0,0
- Flash: No Flash
- FNumber: 8,0
- FocalLength: 40,0 mm
- FocalLengthIn35mmFormat: 31 mm
- ISO: 800
- LensMake: Hasselblad
- LensModel: XCD 35-75@40
- MaxApertureValue: 2,8
- MeteringMode: Center-weighted average
- SerialNumber: XT21007724
- ShutterSpeedValue: 1/128
- SubjectDistance: 4294967295 m
- ICC-header
- ICC-meas
- ICC-view
- IFD0
- Make: Hasselblad
- Model: X2D 100C
- ModifyDate: 2023:10:29 04:58:48
- Orientation: Horizontal (normal)
- IFD1
- IPTC
- DateCreated: 2023:10:22
- System
- XMP-aux
- ApproximateFocusDistance: 4294967295
- Lens: XCD 35-75@40
- XMP-crs
- AlreadyApplied: True
- AutoLateralCA: 0
- Blacks2012: 0
- BlueHue: 0
- BlueSaturation: 0
- CameraProfile: Camera Standard
- Clarity2012: 0
- ColorGradeBlending: 50
- ColorGradeGlobalHue: 0
- ColorGradeGlobalLum: 0
- ColorGradeGlobalSat: 0
- ColorGradeHighlightLum: 0
- ColorGradeMidtoneHue: 0
- ColorGradeMidtoneLum: 0
- ColorGradeMidtoneSat: 0
- ColorGradeShadowLum: 0
- ColorNoiseReduction: 25
- ColorNoiseReductionDetail: 50
- ColorNoiseReductionSmoothness: 50
- ColorTemperature: 5800
- Contrast2012: 0
- ConvertToGrayscale: False
- DefringeGreenAmount: 0
- DefringeGreenHueHi: 60
- DefringeGreenHueLo: 40
- DefringePurpleAmount: 0
- DefringePurpleHueHi: 70
- DefringePurpleHueLo: 30
- Dehaze: 0
- Exposure2012: +1.40
- GrainAmount: 0
- GreenHue: 0
- GreenSaturation: 0
- HasCrop: False
- HasSettings: True
- HDREditMode: 0
- Highlights2012: 0
- HueAdjustmentAqua: 0
- HueAdjustmentBlue: 0
- HueAdjustmentGreen: 0
- HueAdjustmentMagenta: 0
- HueAdjustmentOrange: 0
- HueAdjustmentPurple: 0
- HueAdjustmentRed: 0
- HueAdjustmentYellow: 0
- LensManualDistortionAmount: 0
- LensProfileEnable: 0
- LuminanceAdjustmentAqua: 0
- LuminanceAdjustmentBlue: 0
- LuminanceAdjustmentGreen: 0
- LuminanceAdjustmentMagenta: 0
- LuminanceAdjustmentOrange: 0
- LuminanceAdjustmentPurple: 0
- LuminanceAdjustmentRed: 0
- LuminanceAdjustmentYellow: 0
- LuminanceSmoothing: 0
- OverrideLookVignette: False
- ParametricDarks: -36
- ParametricHighlights: 0
- ParametricHighlightSplit: 75
- ParametricLights: +22
- ParametricMidtoneSplit: 50
- ParametricShadows: -27
- ParametricShadowSplit: 25
- PerspectiveAspect: 0
- PerspectiveHorizontal: 0
- PerspectiveRotate: 0.0
- PerspectiveScale: 100
- PerspectiveUpright: 0
- PerspectiveVertical: 0
- PerspectiveX: 0.00
- PerspectiveY: 0.00
- PostCropVignetteAmount: 0
- ProcessVersion: 15.4
- RedHue: 0
- RedSaturation: 0
- Saturation: 0
- SaturationAdjustmentAqua: 0
- SaturationAdjustmentBlue: 0
- SaturationAdjustmentGreen: 0
- SaturationAdjustmentMagenta: 0
- SaturationAdjustmentOrange: 0
- SaturationAdjustmentPurple: 0
- SaturationAdjustmentRed: 0
- SaturationAdjustmentYellow: 0
- Shadows2012: +58
- ShadowTint: 0
- SharpenDetail: 25
- SharpenEdgeMasking: 0
- SharpenRadius: +1.0
- Sharpness: 40
- SplitToningBalance: 0
- SplitToningHighlightHue: 0
- SplitToningHighlightSaturation: 0
- SplitToningShadowHue: 0
- SplitToningShadowSaturation: 0
- Texture: 0
- Tint: +10
- ToneCurveName2012: Linear
- ToneCurvePV2012: 0, 0, 255, 255
- ToneCurvePV2012Blue: 0, 0, 255, 255
- ToneCurvePV2012Green: 0, 0, 255, 255
- ToneCurvePV2012Red: 0, 0, 255, 255
- Version: 16.0
- Vibrance: 0
- VignetteAmount: 0
- WhiteBalance: As Shot
- Whites2012: 0
- XMP-dc
- XMP-exifEX
- XMP-xmp
- CreateDate: 2023:10:22 13:55:53
- CreatorTool: 2.0.0
- ModifyDate: 2023:10:29 04:58:48+03:00
- Rating: 0
- XMP-xmpMM
- Просмотров: 31
- Рейтинг: голосов еще нет
- Отзывов: отключены