- Раздел: Макро
- Дата съёмки: 23.05.2008 23:26
- Дата загрузки фото: 23.05.2008 23:37
- Оригинальная фотография: 1772 x 1186 (404 Кб)
- Технические характеристики:
- Фотоаппарат: FujiFilm FinePix S5Pro
- Выдержка: 1/160
- Гиперфокальное расстояние: 13,82 m
- Диафрагма: 13,0
- Светочувствительность: 400
- Фокусное расстояние: 60,0mm (35mm эквивалент: 90,0mm)
- Полный EXIF
- Adobe
- ColorTransform: YCbCr
- Composite
- Aperture: 13,0
- CircleOfConfusion: 0,020 mm
- FocalLength35efl: 60,0mm (35mm equivalent: 90,0mm)
- HyperfocalDistance: 13,82 m
- LightValue: 12,7
- ScaleFactor35efl: 1,5
- ShutterSpeed: 1/160
- ExifIFD
- ApertureValue: 13,0
- BrightnessValue: 7,66
- ColorSpace: sRGB
- Contrast: Normal
- CreateDate: 2008:05:17 14:00:42
- CustomRendered: Normal
- DateTimeOriginal: 2008:05:17 14:00:42
- ExifImageLength: 1186
- ExifImageWidth: 1772
- ExposureCompensation: 0
- ExposureMode: Auto
- ExposureProgram: Aperture-priority AE
- ExposureTime: 1/160
- FNumber: 13,0
- Flash: Off
- FocalLength: 60,0mm
- FocalLengthIn35mmFormat: 90mm
- ISO: 400
- LightSource: Unknown (0)
- MaxApertureValue: 4,0
- MeteringMode: Multi-segment
- Saturation: Normal
- SceneCaptureType: Standard
- SceneType: Directly photographed
- SensingMethod: One-chip color area
- Sharpness: Normal
- ShutterSpeedValue: 1/160
- UserComment: (C)ANDREY I.KHODAK AIH3@PROGTECH.RU
- WhiteBalance: Auto
- ICC-header
- ICC-meas
- ICC-view
- IFD0
- Make: FUJIFILM
- Model: FinePix S5Pro
- ModifyDate: 2008:05:23 23:26:49
- Orientation: Horizontal (normal)
- IFD1
- IPTC
- XMP-aux
- Lens: 60.0 mm f/2.8
- LensInfo: 6000/100 6000/100 280/100 280/100
- XMP-crs
- AlreadyApplied: True
- BlueHue: 0
- BlueSaturation: +9
- Brightness: +57
- CameraProfile: ACR 4.4
- ChromaticAberrationB: 0
- ChromaticAberrationR: 0
- Clarity: 0
- ColorNoiseReduction: 1
- Contrast: +57
- ConvertToGrayscale: False
- Defringe: 1
- Exposure: 0.00
- FillLight: 0
- GreenHue: +12
- GreenSaturation: +12
- HasCrop: False
- HasSettings: True
- HighlightRecovery: 30
- HueAdjustmentAqua: 0
- HueAdjustmentBlue: -2
- HueAdjustmentGreen: +7
- HueAdjustmentMagenta: 0
- HueAdjustmentOrange: 0
- HueAdjustmentPurple: 0
- HueAdjustmentRed: 0
- HueAdjustmentYellow: 0
- LuminanceAdjustmentAqua: 0
- LuminanceAdjustmentBlue: -12
- LuminanceAdjustmentGreen: -7
- LuminanceAdjustmentMagenta: 0
- LuminanceAdjustmentOrange: 0
- LuminanceAdjustmentPurple: 0
- LuminanceAdjustmentRed: 0
- LuminanceAdjustmentYellow: 0
- LuminanceSmoothing: 9
- ParametricDarks: 0
- ParametricHighlightSplit: 75
- ParametricHighlights: 0
- ParametricLights: 0
- ParametricMidtoneSplit: 50
- ParametricShadowSplit: 25
- ParametricShadows: 0
- RawFileName: _DSF2562.RAF
- RedHue: 0
- RedSaturation: +11
- Saturation: +5
- SaturationAdjustmentAqua: +2
- SaturationAdjustmentBlue: +5
- SaturationAdjustmentGreen: -25
- SaturationAdjustmentMagenta: 0
- SaturationAdjustmentOrange: +9
- SaturationAdjustmentPurple: 0
- SaturationAdjustmentRed: +12
- SaturationAdjustmentYellow: +9
- ShadowTint: 0
- Shadows: 1
- SharpenDetail: 25
- SharpenEdgeMasking: 0
- SharpenRadius: +0.5
- Sharpness: 37
- SplitToningBalance: 0
- SplitToningHighlightHue: 17
- SplitToningHighlightSaturation: 10
- SplitToningShadowHue: 57
- SplitToningShadowSaturation: 3
- Temperature: 4950
- Tint: +1
- ToneCurve: 0, 0, 32, 22, 64, 56, 128, 128, 192, 196, 255, 255
- ToneCurveName: Medium Contrast
- Version: 4.4.1
- Vibrance: 0
- VignetteAmount: 0
- WhiteBalance: As Shot
- XMP-dc
- XMP-exif
- DateTimeDigitized: 2008:05:17 14:00:42+04:00
- DateTimeOriginal: 2008:05:17 14:00:42+04:00
- FlashFired: False
- FlashFunction: False
- FlashMode: Off
- FlashRedEyeMode: False
- FlashReturn: No return detection
- FocalLengthIn35mmFormat: 90
- SubjectDistanceRange: Unknown
- XMP-tiff
- XMP-xmp
- CreateDate: 2008:05:23 23:26:49+04:00
- ModifyDate: 2008:05:23 23:26:49+04:00
- Rating: 0
- XMP-xmpMM
- DerivedFrom:
- Просмотров: 1052
- Рейтинг: голосов еще нет
- Отзывов: 0