- Раздел: Портрет
- Дата съёмки: 22.10.2008 02:11
- Дата загрузки фото: 18.12.2008 02:29
- Оригинальная фотография: 667 x 1000 (243 Кб)
- Технические характеристики:
- Фотоаппарат: Sony DSLR-A700
- Выдержка: 1/200
- Гиперфокальное расстояние: 35,94 m
- Диафрагма: 5,0
- Светочувствительность: 200
- Фокусное расстояние: 60,0 mm (35 mm equivalent: 90,0 mm)
- Полный EXIF
- Adobe
- ColorTransform: YCbCr
- Composite
- Aperture: 5,0
- CircleOfConfusion: 0,020 mm
- FOV: 22,0 deg
- FocalLength35efl: 60,0 mm (35 mm equivalent: 90,0 mm)
- HyperfocalDistance: 35,94 m
- ScaleFactor35efl: 1,5
- ShutterSpeed: 1/200
- ExifIFD
- ApertureValue: 5,0
- BrightnessValue: -3,63
- ColorSpace: sRGB
- Contrast: High
- CreateDate: 2008:09:05 21:12:49
- CustomRendered: Normal
- DateTimeOriginal: 2008:09:05 21:12:49
- DigitalZoomRatio: 0
- ExifImageHeight: 1000
- ExifImageWidth: 667
- ExposureCompensation: 0
- ExposureMode: Manual
- ExposureProgram: Manual
- ExposureTime: 1/200
- FNumber: 5,0
- Flash: On
- FocalLength: 60,0 mm
- FocalLengthIn35mmFormat: 90 mm
- ISO: 200
- LightSource: Daylight
- MaxApertureValue: 4,0
- MeteringMode: Center-weighted average
- Saturation: High
- SceneCaptureType: Standard
- SceneType: Directly photographed
- Sharpness: Hard
- ShutterSpeedValue: 1/200
- UserComment: (c) Roman Orlov, http://ornic.livejournal.com
- WhiteBalance: Manual
- IFD0
- Copyright: (c) Roman Orlov, http://ornic.livejournal.com
- ImageDescription: SONY DSC
- Make: SONY
- Model: DSLR-A700
- ModifyDate: 2008:10:22 02:11:07
- Orientation: Horizontal (normal)
- IPTC
- Caption-Abstract: SONY DSC
- XMP-crs
- AlreadyApplied: True
- BlueHue: 0
- BlueSaturation: 0
- Brightness: -20
- CameraProfile: ACR 4.4
- ChromaticAberrationB: 0
- ChromaticAberrationR: 0
- Clarity: +100
- ColorNoiseReduction: 25
- Contrast: +100
- ConvertToGrayscale: True
- CropAngle: -1.72158
- CropBottom: 0.944894
- CropHeight: 2466
- CropLeft: 0.117155
- CropRight: 1
- CropTop: 0.118415
- CropUnit: 0
- CropWidth: 3699
- Defringe: 1
- Exposure: +1.00
- FillLight: 50
- GradientBasedCorrectionsCorrectionActive: true
- GradientBasedCorrectionsCorrectionAmount: 1.000000
- GradientBasedCorrectionsCorrectionMasksFullX: 0.098319
- GradientBasedCorrectionsCorrectionMasksFullY: 0.530952
- GradientBasedCorrectionsCorrectionMasksMaskValue: 1.000000
- GradientBasedCorrectionsCorrectionMasksWhat: Mask/Gradient
- GradientBasedCorrectionsCorrectionMasksZeroX: 0.258739
- GradientBasedCorrectionsCorrectionMasksZeroY: 0.586519
- GradientBasedCorrectionsLocalBrightness: 0.000000
- GradientBasedCorrectionsLocalClarity: 0.000000
- GradientBasedCorrectionsLocalContrast: 0.000000
- GradientBasedCorrectionsLocalExposure: -0.500000
- GradientBasedCorrectionsLocalSaturation: 0.000000
- GradientBasedCorrectionsLocalSharpness: 0.000000
- GradientBasedCorrectionsLocalToningHue: 179.000000
- GradientBasedCorrectionsLocalToningSaturation: 0.000000
- GradientBasedCorrectionsWhat: Correction
- GrayMixerAqua: -21
- GrayMixerBlue: +3
- GrayMixerGreen: -4
- GrayMixerMagenta: +10
- GrayMixerOrange: -10
- GrayMixerPurple: +14
- GrayMixerRed: +1
- GrayMixerYellow: -15
- GreenHue: 0
- GreenSaturation: 0
- HasCrop: True
- HasSettings: True
- HighlightRecovery: 5
- LuminanceSmoothing: 0
- PaintBasedCorrectionsCorrectionActive: true
- PaintBasedCorrectionsCorrectionAmount: 1.000000
- PaintBasedCorrectionsCorrectionMasksCenterWeight: 0.000000
- PaintBasedCorrectionsCorrectionMasksFlow: 1.000000
- PaintBasedCorrectionsCorrectionMasksMaskValue: 0.563000
- PaintBasedCorrectionsCorrectionMasksRadius: 0.043575
- PaintBasedCorrectionsCorrectionMasksWhat: Mask/Paint
- PaintBasedCorrectionsLocalBrightness: 0.000000
- PaintBasedCorrectionsLocalClarity: 0.000000
- PaintBasedCorrectionsLocalContrast: 0.000000
- PaintBasedCorrectionsLocalExposure: 0.000000
- PaintBasedCorrectionsLocalSaturation: 0.000000
- PaintBasedCorrectionsLocalSharpness: 0.000000
- PaintBasedCorrectionsLocalToningHue: 179.000000
- PaintBasedCorrectionsLocalToningSaturation: 0.000000
- PaintBasedCorrectionsWhat: Correction
- ParametricDarks: 0
- ParametricHighlightSplit: 75
- ParametricHighlights: -40
- ParametricLights: 0
- ParametricMidtoneSplit: 50
- ParametricShadowSplit: 25
- ParametricShadows: 0
- PostCropVignetteAmount: 0
- RedHue: 0
- RedSaturation: 0
- ShadowTint: 0
- Shadows: 0
- SharpenDetail: 25
- SharpenEdgeMasking: 0
- SharpenRadius: +1.0
- Sharpness: 25
- SplitToningBalance: -52
- SplitToningHighlightHue: 58
- SplitToningHighlightSaturation: 62
- SplitToningShadowHue: 213
- SplitToningShadowSaturation: 10
- Temperature: 4950
- Tint: -29
- ToneCurve: 0, 0, 32, 22, 64, 56, 128, 128, 192, 196, 255, 255
- ToneCurveName: Medium Contrast
- Version: 4.5
- VignetteAmount: 0
- WhiteBalance: Custom
- XMP-dc
- Description: SONY DSC
- Format: image/jpeg
- XMP-exif
- DateTimeDigitized: 2008:09:05 21:12:49+04:00
- DateTimeOriginal: 2008:09:05 21:12:49+04:00
- FlashFired: True
- FlashFunction: False
- FlashMode: On
- FlashRedEyeMode: False
- FlashReturn: No return detection
- XMP-tiff
- ImageHeight: 3699
- ImageWidth: 2466
- XMP-xmp
- CreateDate: 2008:10:22 02:11:07+04:00
- ModifyDate: 2008:10:22 02:11:07+04:00
- XMP-xmpMM