- Раздел: Портрет
- Дата съёмки: 03.03.2009 20:50
- Дата загрузки фото: 03.03.2009 23:11
- Оригинальная фотография: 1200 x 800 (426 Кб)
- Технические характеристики:
- Фотоаппарат: Canon EOS 30D
- Выдержка: 1/30
- Гиперфокальное расстояние: 1355,79 m
- Диафрагма: 9,0
- Светочувствительность: 400
- Фокусное расстояние: 280,0 mm (35 mm equivalent: 1309,4 mm)
- Полный EXIF
- Adobe
- ColorTransform: YCbCr
- Composite
- Aperture: 9,0
- CircleOfConfusion: 0,006 mm
- FOV: 1,0 deg
- FocalLength35efl: 280,0 mm (35 mm equivalent: 1309,4 mm)
- HyperfocalDistance: 1355,79 m
- ScaleFactor35efl: 4,7
- ShutterSpeed: 1/30
- ExifIFD
- ApertureValue: 9,0
- ColorSpace: sRGB
- CreateDate: 2009:01:06 16:19:12
- CustomRendered: Normal
- DateTimeOriginal: 2009:01:06 16:19:12
- ExifImageHeight: 800
- ExifImageWidth: 1200
- ExposureCompensation: 0
- ExposureMode: Auto
- ExposureProgram: Aperture-priority AE
- ExposureTime: 1/30
- FNumber: 9,0
- Flash: Off
- FocalLength: 280,0 mm
- ISO: 400
- MaxApertureValue: 5,6
- MeteringMode: Multi-segment
- SceneCaptureType: Standard
- ShutterSpeedValue: 1/30
- WhiteBalance: Auto
- ICC-header
- ICC-meas
- ICC-view
- IFD0
- Artist: Usenko Oleksandr
- Make: Canon
- Model: Canon EOS 30D
- ModifyDate: 2009:03:03 20:50:41
- Orientation: Horizontal (normal)
- TimeZoneOffset: 1 1
- IFD1
- IPTC
- By-line: Usenko Oleksandr
- XMP-aux
- Firmware: 1.0.4
- FlashCompensation: 0
- ImageNumber: 208
- Lens: 98.0-280.0 mm
- LensInfo: 98/1 280/1 0/0 0/0
- OwnerName: Usenko Oleksandr
- SerialNumber: 930601407
- XMP-crs
- AlreadyApplied: True
- BlueHue: 0
- BlueSaturation: 0
- Brightness: +50
- CameraProfile: ACR 3.4
- ChromaticAberrationB: 0
- ChromaticAberrationR: 0
- ColorNoiseReduction: 25
- Contrast: +25
- ConvertToGrayscale: False
- CropAngle: -3.59251
- CropBottom: 0.914847
- CropHeight: 3
- CropLeft: 0.108736
- CropRight: 1
- CropTop: 0.139951
- CropUnit: 3
- CropWidth: 2
- Exposure: 0.00
- FillLight: 10
- GreenHue: 0
- GreenSaturation: 0
- HasCrop: True
- HasSettings: True
- HighlightRecovery: 4
- HueAdjustmentAqua: 0
- HueAdjustmentBlue: 0
- HueAdjustmentGreen: 0
- HueAdjustmentMagenta: 0
- HueAdjustmentOrange: 0
- HueAdjustmentPurple: 0
- HueAdjustmentRed: 0
- HueAdjustmentYellow: 0
- LuminanceAdjustmentAqua: 0
- LuminanceAdjustmentBlue: 0
- LuminanceAdjustmentGreen: 0
- LuminanceAdjustmentMagenta: 0
- LuminanceAdjustmentOrange: 0
- LuminanceAdjustmentPurple: 0
- LuminanceAdjustmentRed: 0
- LuminanceAdjustmentYellow: 0
- LuminanceSmoothing: 0
- ParametricDarks: 0
- ParametricHighlightSplit: 75
- ParametricHighlights: 0
- ParametricLights: 0
- ParametricMidtoneSplit: 50
- ParametricShadowSplit: 25
- ParametricShadows: 0
- RawFileName: IMG_6797.CR2
- RedHue: 0
- RedSaturation: 0
- Saturation: 0
- SaturationAdjustmentAqua: 0
- SaturationAdjustmentBlue: 0
- SaturationAdjustmentGreen: 0
- SaturationAdjustmentMagenta: 0
- SaturationAdjustmentOrange: 0
- SaturationAdjustmentPurple: 0
- SaturationAdjustmentRed: 0
- SaturationAdjustmentYellow: 0
- ShadowTint: 0
- Shadows: 5
- Sharpness: 25
- SplitToningBalance: 0
- SplitToningHighlightHue: 0
- SplitToningHighlightSaturation: 0
- SplitToningShadowHue: 0
- SplitToningShadowSaturation: 0
- Temperature: 5650
- Tint: +14
- ToneCurve: 0, 0, 32, 22, 64, 56, 128, 128, 192, 196, 255, 255
- ToneCurveName: Medium Contrast
- Version: 4.0
- Vibrance: +27
- VignetteAmount: 0
- WhiteBalance: Custom
- XMP-dc
- Creator: Usenko Oleksandr
- Format: image/jpeg
- XMP-exif
- DateTimeDigitized: 2009:01:06 16:19:12+01:00
- DateTimeOriginal: 2009:01:06 16:19:12+01:00
- FlashFired: False
- FlashFunction: False
- FlashMode: Off
- FlashRedEyeMode: False
- FlashReturn: No return detection
- XMP-tiff
- XMP-xmp
- CreateDate: 2009:03:03 20:50:41+01:00
- ModifyDate: 2009:03:03 20:50:41+01:00
- Rating: 0
- XMP-xmpMM
- DerivedFrom:
- Просмотров: 881
- Рейтинг: голосов еще нет
- Отзывов: 0