- Раздел: Тесты фототехники
- Дата съёмки: 08.06.2009 20:16
- Дата загрузки фото: 09.06.2009 22:52
- Оригинальная фотография: 3888 x 2592 (5,3 Мб)
- Технические характеристики:
- Фотоаппарат: Canon EOS 400D DIGITAL
- Выдержка: 1/60
- Гиперфокальное расстояние: 116,38 m
- Диафрагма: 1,4
- Светочувствительность: 100
- Фокусное расстояние: 55,0 mm (35 mm equivalent: 89,0 mm)
- Полный EXIF
- Adobe
- ColorTransform: YCbCr
- Composite
- Aperture: 1,4
- CircleOfConfusion: 0,019 mm
- FOV: 22,0 deg
- FocalLength35efl: 55,0 mm (35 mm equivalent: 89,0 mm)
- HyperfocalDistance: 116,38 m
- ScaleFactor35efl: 1,6
- ShutterSpeed: 1/60
- ExifIFD
- ApertureValue: 1,4
- CreateDate: 2009:06:08 20:16:08
- CustomRendered: Normal
- DateTimeOriginal: 2009:06:08 20:16:08
- ExposureCompensation: 0
- ExposureMode: Manual
- ExposureProgram: Manual
- ExposureTime: 1/60
- FNumber: 1,4
- Flash: On, Red-eye reduction
- FocalLength: 55,0 mm
- ISO: 100
- MaxApertureValue: 1,4
- MeteringMode: Average
- SceneCaptureType: Standard
- ShutterSpeedValue: 1/60
- WhiteBalance: Auto
- ICC-header
- ICC-meas
- ICC-view
- IFD0
- Artist: Konstantin Kuznetsov
- Copyright: klkuznetsov@gmail.com
- ImageDescription: vintage clock inside
- Make: Canon
- Model: Canon EOS 400D DIGITAL
- ModifyDate: 2009:06:08 21:55:26
- IFD1
- IPTC
- By-line: Konstantin Kuznetsov
- Caption-Abstract: vintage clock inside
- City: Moscow
- CopyrightNotice: klkuznetsov@gmail.com
- Country-PrimaryLocationName: Russia
- Credit: klkuznetsov@gmail.com
- Keywords: abstract, accuracy, antique, background, balance, business, circle, clock, clockworks, close-up, color, concepts, cooperation, engine, engineering, equipment, gear, gold, idea, industry, inside, instrument, machine, measurement, mechanism, metal, minute, number, obsolete, old, part, pattern, progress, retro, sign, steel, teamwork, technology, texture, time, timer, turning, vintage, watch, wheel, working, wristwatch
- Source: klkuznetsov@gmail.com
- XMP-aux
- Firmware: 1.1.1
- FlashCompensation: 1,66666666666667
- ImageNumber: 176
- Lens: 55.0 mm
- LensInfo: 55/1 55/1 0/0 0/0
- OwnerName: Kuznetsov Konstantin
- SerialNumber: 560126260
- XMP-crs
- AlreadyApplied: True
- BlueHue: 0
- BlueSaturation: 0
- Brightness: +50
- ChromaticAberrationB: 0
- ChromaticAberrationR: 0
- Clarity: 0
- ColorNoiseReduction: 25
- Contrast: +50
- ConvertToGrayscale: False
- Defringe: 0
- Exposure: 0.00
- FillLight: 0
- GreenHue: 0
- GreenSaturation: 0
- HasCrop: False
- HasSettings: True
- HighlightRecovery: 24
- HueAdjustmentAqua: 0
- HueAdjustmentBlue: 0
- HueAdjustmentGreen: 0
- HueAdjustmentMagenta: 0
- HueAdjustmentOrange: 0
- HueAdjustmentPurple: 0
- HueAdjustmentRed: 0
- HueAdjustmentYellow: 0
- LuminanceAdjustmentAqua: 0
- LuminanceAdjustmentBlue: 0
- LuminanceAdjustmentGreen: 0
- LuminanceAdjustmentMagenta: 0
- LuminanceAdjustmentOrange: 0
- LuminanceAdjustmentPurple: 0
- LuminanceAdjustmentRed: 0
- LuminanceAdjustmentYellow: 0
- LuminanceSmoothing: 0
- ParametricDarks: 0
- ParametricHighlightSplit: 75
- ParametricHighlights: 0
- ParametricLights: 0
- ParametricMidtoneSplit: 50
- ParametricShadowSplit: 25
- ParametricShadows: 0
- PostCropVignetteAmount: 0
- RedHue: 0
- RedSaturation: 0
- Saturation: 0
- SaturationAdjustmentAqua: 0
- SaturationAdjustmentBlue: 0
- SaturationAdjustmentGreen: 0
- SaturationAdjustmentMagenta: 0
- SaturationAdjustmentOrange: 0
- SaturationAdjustmentPurple: 0
- SaturationAdjustmentRed: 0
- SaturationAdjustmentYellow: 0
- ShadowTint: 0
- Shadows: 17
- SharpenDetail: 25
- SharpenEdgeMasking: 0
- SharpenRadius: +1.0
- Sharpness: 87
- SplitToningBalance: 0
- SplitToningHighlightHue: 0
- SplitToningHighlightSaturation: 0
- SplitToningShadowHue: 0
- SplitToningShadowSaturation: 0
- Temperature: 6750
- Tint: +12
- ToneCurve: 0, 0, 32, 22, 64, 56, 128, 128, 192, 196, 255, 255
- ToneCurveName: Medium Contrast
- Version: 5.3
- Vibrance: 0
- VignetteAmount: 0
- WhiteBalance: Custom
- XMP-dc
- Creator: Konstantin Kuznetsov
- Description: vintage clock inside
- Rights: klkuznetsov@gmail.com
- Subject: abstract, accuracy, antique, background, balance, business, circle, clock, clockworks, close-up, color, concepts, cooperation, engine, engineering, equipment, gear, gold, idea, industry, inside, instrument, machine, measurement, mechanism, metal, minute, number, obsolete, old, part, pattern, progress, retro, sign, steel, teamwork, technology, texture, time, timer, turning, vintage, watch, wheel, working, wristwatch
- XMP-exif
- DateTimeDigitized: 2009:06:08 20:16:08+04:00
- DateTimeOriginal: 2009:06:08 20:16:08+04:00
- ExifImageHeight: 2592
- ExifImageWidth: 3888
- FlashFired: True
- FlashFunction: False
- FlashMode: On
- FlashRedEyeMode: True
- FlashReturn: No return detection
- XMP-iptcCore
- CountryCode: 07
- CreatorContactInfoCiAdrCity: Moscow
- CreatorContactInfoCiAdrCtry: Russia
- CreatorContactInfoCiEmailWork: klkuznetsov@gmail.com
- XMP-lr
- HierarchicalSubject: abstract, accuracy, antique, background, balance, business, circle, clock, clockworks, close-up, color, concepts, cooperation, engine, engineering, equipment, gear, gold, idea, industry, inside, instrument, machine, measurement, mechanism, metal, minute, number, obsolete, old, part, pattern, progress, retro, sign, steel, teamwork, technology, texture, time, timer, turning, vintage, watch, wheel, working, wristwatch
- XMP-tiff
- ImageHeight: 2592
- ImageWidth: 3888
- XMP-xmp
- CreateDate: 2009:06:08 20:16:08+04:00
- ModifyDate: 2009:06:08 21:55:26+04:00
- XMP-xmpRights
- Просмотров: 1144
- Рейтинг: голосов еще нет
- Отзывов: 0