- Раздел: Отдых, развлечения
- Дата съёмки: 03.06.2009 17:03
- Дата загрузки фото: 22.06.2009 12:42
- Оригинальная фотография: 2256 x 2776 (1,1 Мб)
- Технические характеристики:
- Фотоаппарат: Sony DSLR-A100
- Выдержка: 1/800
- Гиперфокальное расстояние: 18,76 m
- Диафрагма: 8,0
- Светочувствительность: 100
- Фокусное расстояние: 55,0 mm (35 mm equivalent: 82,0 mm)
- Экспокоррекция: -2
- Полный EXIF
- Adobe
- ColorTransform: YCbCr
- Composite
- Aperture: 8,0
- CircleOfConfusion: 0,020 mm
- FOV: 24,0 deg
- FocalLength35efl: 55,0 mm (35 mm equivalent: 82,0 mm)
- HyperfocalDistance: 18,76 m
- ScaleFactor35efl: 1,5
- ShutterSpeed: 1/800
- ExifIFD
- ApertureValue: 8,0
- BrightnessValue: 8,87
- ColorSpace: sRGB
- Contrast: Normal
- CreateDate: 2009:05:23 15:40:24
- CustomRendered: Normal
- DateTimeOriginal: 2009:05:23 15:40:24
- DigitalZoomRatio: 0
- ExifImageHeight: 2776
- ExifImageWidth: 2256
- ExposureCompensation: -2
- ExposureMode: Auto
- ExposureProgram: Program AE
- ExposureTime: 1/800
- FNumber: 8,0
- Flash: Off
- FocalLength: 55,0 mm
- FocalLengthIn35mmFormat: 82 mm
- GainControl: None
- ISO: 100
- LightSource: Unknown
- MaxApertureValue: 4,5
- MeteringMode: Multi-segment
- Saturation: Normal
- SceneCaptureType: Standard
- SceneType: Directly photographed
- Sharpness: Normal
- ShutterSpeedValue: 1/800
- SubjectLocation: 1936 1296 329 393
- WhiteBalance: Auto
- ICC-header
- ICC-meas
- ICC-view
- IFD0
- ImageDescription: SONY DSC
- Make: SONY
- Model: DSLR-A100
- ModifyDate: 2009:06:03 17:03:05
- Orientation: Horizontal (normal)
- TimeZoneOffset: 4 4
- IFD1
- IPTC
- Caption-Abstract: SONY DSC
- XMP-crs
- AlreadyApplied: True
- BlueHue: 0
- BlueSaturation: 0
- Brightness: +37
- CameraProfile: ACR 3.5
- ChromaticAberrationB: 0
- ChromaticAberrationR: 0
- ColorNoiseReduction: 25
- Contrast: +27
- ConvertToGrayscale: False
- Exposure: 0.00
- FillLight: 0
- GreenHue: 0
- GreenSaturation: 0
- HasCrop: False
- HasSettings: True
- HighlightRecovery: 13
- HueAdjustmentAqua: 0
- HueAdjustmentBlue: 0
- HueAdjustmentGreen: 0
- HueAdjustmentMagenta: 0
- HueAdjustmentOrange: 0
- HueAdjustmentPurple: 0
- HueAdjustmentRed: 0
- HueAdjustmentYellow: 0
- LuminanceAdjustmentAqua: 0
- LuminanceAdjustmentBlue: 0
- LuminanceAdjustmentGreen: 0
- LuminanceAdjustmentMagenta: 0
- LuminanceAdjustmentOrange: 0
- LuminanceAdjustmentPurple: 0
- LuminanceAdjustmentRed: 0
- LuminanceAdjustmentYellow: 0
- LuminanceSmoothing: 0
- ParametricDarks: 0
- ParametricHighlightSplit: 75
- ParametricHighlights: 0
- ParametricLights: 0
- ParametricMidtoneSplit: 50
- ParametricShadowSplit: 25
- ParametricShadows: 0
- RawFileName: DSC00321.ARW
- RedHue: 0
- RedSaturation: 0
- Saturation: 0
- SaturationAdjustmentAqua: 0
- SaturationAdjustmentBlue: 0
- SaturationAdjustmentGreen: 0
- SaturationAdjustmentMagenta: 0
- SaturationAdjustmentOrange: 0
- SaturationAdjustmentPurple: 0
- SaturationAdjustmentRed: 0
- SaturationAdjustmentYellow: 0
- ShadowTint: 0
- Shadows: 3
- Sharpness: 25
- SplitToningBalance: 0
- SplitToningHighlightHue: 0
- SplitToningHighlightSaturation: 0
- SplitToningShadowHue: 0
- SplitToningShadowSaturation: 0
- Temperature: 4900
- Tint: +15
- ToneCurve: 0, 0, 32, 22, 64, 56, 128, 128, 192, 196, 255, 255
- ToneCurveName: Medium Contrast
- Version: 4.0
- Vibrance: 0
- VignetteAmount: 0
- WhiteBalance: As Shot
- XMP-dc
- Description: SONY DSC
- Format: image/jpeg
- XMP-exif
- DateTimeDigitized: 2009:05:23 15:40:24+04:00
- DateTimeOriginal: 2009:05:23 15:40:24+04:00
- FlashFired: False
- FlashFunction: False
- FlashMode: Off
- FlashRedEyeMode: False
- FlashReturn: No return detection
- SubjectArea: 1936, 1296, 329, 393
- XMP-tiff
- XMP-xmp
- CreateDate: 2009:06:03 17:03:05+04:00
- ModifyDate: 2009:06:03 17:03:05+04:00
- Rating: 0
- XMP-xmpMM
- DerivedFrom:
- Просмотров: 1100
- Рейтинг: голосов еще нет
- Отзывов: 0