- Раздел: Путешествия
- Дата съёмки: 21.07.2009 13:10
- Дата загрузки фото: 01.08.2009 20:08
- Оригинальная фотография: 3264 x 2448 (2,8 Мб)
- Технические характеристики:
- Фотоаппарат: Canon PowerShot S5 IS
- Выдержка: 1/80
- Гиперфокальное расстояние: 1,81 m
- Диафрагма: 4,0
- Светочувствительность: 80
- Фокусное расстояние: 6,0 mm (35 mm equivalent: 36,3 mm)
- Полный EXIF
- Adobe
- ColorTransform: YCbCr
- Composite
- Aperture: 4,0
- CircleOfConfusion: 0,005 mm
- FOV: 52,0 deg
- FocalLength35efl: 6,0 mm (35 mm equivalent: 36,3 mm)
- HyperfocalDistance: 1,81 m
- ScaleFactor35efl: 6,1
- ShutterSpeed: 1/80
- ExifIFD
- ApertureValue: 4,0
- ColorSpace: sRGB
- CreateDate: 2009:07:18 16:07:01
- CustomRendered: Normal
- DateTimeOriginal: 2009:07:18 16:07:01
- DigitalZoomRatio: 1
- ExifImageHeight: 2448
- ExifImageWidth: 3264
- ExposureCompensation: 0
- ExposureMode: Auto
- ExposureTime: 1/80
- FNumber: 4,0
- Flash: Off
- FocalLength: 6,0 mm
- ISO: 80
- MaxApertureValue: 2,7
- MeteringMode: Multi-segment
- SceneCaptureType: Standard
- SensingMethod: One-chip color area
- ShutterSpeedValue: 1/80
- WhiteBalance: Auto
- ICC-header
- ICC-meas
- ICC-view
- IFD0
- Make: Canon
- Model: Canon PowerShot S5 IS
- ModifyDate: 2009:07:21 13:10:46
- Orientation: Horizontal (normal)
- IFD1
- IPTC
- XMP-aux
- Firmware: 1.01
- FlashCompensation: 0
- Lens: 6.0-72.0 mm
- LensInfo: 600/100 7200/100 0/0 0/0
- XMP-crs
- AlreadyApplied: True
- BlueHue: 0
- BlueSaturation: 0
- Brightness: 0
- CameraProfile: Embedded
- ChromaticAberrationB: 0
- ChromaticAberrationR: 0
- Clarity: +3
- ColorNoiseReduction: 0
- Contrast: 0
- ConvertToGrayscale: False
- Defringe: 0
- Exposure: 0.00
- FillLight: 31
- GreenHue: 0
- GreenSaturation: 0
- HasCrop: False
- HasSettings: True
- HighlightRecovery: 26
- HueAdjustmentAqua: 0
- HueAdjustmentBlue: 0
- HueAdjustmentGreen: 0
- HueAdjustmentMagenta: 0
- HueAdjustmentOrange: 0
- HueAdjustmentPurple: 0
- HueAdjustmentRed: 0
- HueAdjustmentYellow: 0
- IncrementalTemperature: 0
- IncrementalTint: 0
- LuminanceAdjustmentAqua: 0
- LuminanceAdjustmentBlue: 0
- LuminanceAdjustmentGreen: 0
- LuminanceAdjustmentMagenta: 0
- LuminanceAdjustmentOrange: 0
- LuminanceAdjustmentPurple: 0
- LuminanceAdjustmentRed: 0
- LuminanceAdjustmentYellow: 0
- LuminanceSmoothing: 0
- ParametricDarks: 0
- ParametricHighlightSplit: 75
- ParametricHighlights: 0
- ParametricLights: 0
- ParametricMidtoneSplit: 50
- ParametricShadowSplit: 25
- ParametricShadows: 0
- PostCropVignetteAmount: 0
- RawFileName: IMG_4797.JPG
- RedHue: 0
- RedSaturation: 0
- Saturation: 0
- SaturationAdjustmentAqua: 0
- SaturationAdjustmentBlue: 0
- SaturationAdjustmentGreen: 0
- SaturationAdjustmentMagenta: 0
- SaturationAdjustmentOrange: 0
- SaturationAdjustmentPurple: 0
- SaturationAdjustmentRed: 0
- SaturationAdjustmentYellow: 0
- ShadowTint: 0
- Shadows: 4
- SharpenDetail: 25
- SharpenEdgeMasking: 0
- SharpenRadius: +1.0
- Sharpness: 0
- SplitToningBalance: 0
- SplitToningHighlightHue: 0
- SplitToningHighlightSaturation: 0
- SplitToningShadowHue: 0
- SplitToningShadowSaturation: 0
- ToneCurve: 0, 0, 255, 255
- ToneCurveName: Linear
- Version: 4.6
- Vibrance: 0
- VignetteAmount: 0
- WhiteBalance: As Shot
- XMP-dc
- XMP-exif
- DateTimeDigitized: 2009:07:18 16:07:01+05:00
- DateTimeOriginal: 2009:07:18 16:07:01+05:00
- FlashFired: False
- FlashFunction: False
- FlashMode: Off
- FlashRedEyeMode: False
- FlashReturn: No return detection
- XMP-tiff
- XMP-xmp
- CreateDate: 2009:07:21 13:10:46+05:00
- ModifyDate: 2009:07:21 13:10:46+05:00
- Rating: 0
- XMP-xmpMM
- DerivedFrom:
- Просмотров: 767
- Рейтинг: голосов еще нет
- Отзывов: 5