_G204805.jpg |
_G204805.jpg
- Раздел: Путешествия
- Дата съёмки: 10.04.2009 18:05
- Дата загрузки фото: 26.05.2010 00:43
- Оригинальная фотография: 4672 x 3104 (4,6 Мб)
- Технические характеристики:
- Фотоаппарат: Samsung GX20
- Выдержка: 1/1600
- Светочувствительность: 125
- Экспокоррекция: -0,3
- Полный EXIF
- Adobe
- ColorTransform: YCbCr
- Composite
- ExifIFD
- Contrast: Normal
- CreateDate: 2009:04:10 18:05:06
- CustomRendered: Normal
- DateTimeOriginal: 2009:04:10 18:05:06
- ExposureCompensation: -0,3
- ExposureMode: Manual
- ExposureProgram: Manual
- ExposureTime: 1/1600
- Flash: Off, Did not fire
- ISO: 125
- MeteringMode: Spot
- Saturation: Normal
- SceneCaptureType: Standard
- SensingMethod: One-chip color area
- Sharpness: Normal
- ShutterSpeedValue: 1/1600
- SubjectDistanceRange: Distant
- WhiteBalance: Auto
- ICC-header
- IFD0
- Make: SAMSUNG TECHWIN Co.
- Model: SAMSUNG GX20
- ModifyDate: 2010:05:26 00:42:03
- Software: GX20 Ver 1.01
- IFD1
- System
- XMP-aux
- Lens: K or M Lens
- LensID: 1 0
- XMP-crs
- AlreadyApplied: True
- BlueHue: 0
- BlueSaturation: 0
- Brightness: +50
- ChromaticAberrationB: 0
- ChromaticAberrationR: 0
- Clarity: 0
- ColorNoiseReduction: 0
- Contrast: +43
- ConvertToGrayscale: True
- Defringe: 0
- Exposure: +0.44
- FillLight: 16
- GrayMixerAqua: -17
- GrayMixerBlue: +13
- GrayMixerGreen: -38
- GrayMixerMagenta: +4
- GrayMixerOrange: -20
- GrayMixerPurple: +18
- GrayMixerRed: -3
- GrayMixerYellow: -25
- GreenHue: 0
- GreenSaturation: 0
- HasCrop: False
- HasSettings: True
- HighlightRecovery: 0
- LuminanceSmoothing: 0
- ParametricDarks: 0
- ParametricHighlightSplit: 75
- ParametricHighlights: 0
- ParametricLights: 0
- ParametricMidtoneSplit: 50
- ParametricShadowSplit: 25
- ParametricShadows: 0
- PostCropVignetteAmount: 0
- RedHue: 0
- RedSaturation: 0
- ShadowTint: 0
- Shadows: 13
- SharpenDetail: 25
- SharpenEdgeMasking: 0
- SharpenRadius: +1.0
- Sharpness: 25
- SplitToningBalance: 0
- SplitToningHighlightHue: 0
- SplitToningHighlightSaturation: 0
- SplitToningShadowHue: 0
- SplitToningShadowSaturation: 0
- Temperature: 5300
- Tint: 0
- ToneCurve: 0, 0, 32, 22, 64, 56, 128, 128, 192, 196, 255, 255
- ToneCurveName: Medium Contrast
- Version: 5.6
- VignetteAmount: 0
- WhiteBalance: Custom
- XMP-exif
- DateTimeDigitized: 2009:04:10 18:05:06+04:00
- DateTimeOriginal: 2009:04:10 18:05:06+04:00
- ExifImageHeight: 3104
- ExifImageWidth: 4672
- FlashFired: False
- FlashFunction: False
- FlashMode: Off
- FlashRedEyeMode: False
- FlashReturn: No return detection
- XMP-tiff
- ImageHeight: 3104
- ImageWidth: 4672
- XMP-xmp
- CreateDate: 2009:04:10 18:05:06+04:00
- ModifyDate: 2010:05:26 00:42:03+04:00
- Просмотров: 243
- Рейтинг: голосов еще нет
- Отзывов: отключены
Получить код для блога
Вставка фотографии в текущем разрешении |
Вставка миниатюры |
HTML (для вставки в блог):
BBCode (для вставки в форум):
Ссылка на фото:
Ссылка на миниатюру:
- Послать ссылку другу
Комментарии к фотографии |