» Участники » IVX » Азия. » DSCF0400.jpg |
DSCF0400.jpg |
![](img/title-line.gif) |
![](img/title-shadow.gif) | |
DSCF0400.jpg
- Раздел: Город
- Дата съёмки: неизвестно
- Дата загрузки фото: 04.06.2010 19:18
- Оригинальная фотография: 3664 x 2742 (2,2 Мб)
- Технические характеристики:
- Фотоаппарат: FujiFilm FinePix HS10 HS11
- Выдержка: 1/240
- Диафрагма: 4,4
- Светочувствительность: 100
- Фокусное расстояние: 4,0 mm
- Полный EXIF
- Adobe
- ColorTransform: YCbCr
- Composite
- Aperture: 4,4
- FocalLength35efl: 4,0 mm
- ShutterSpeed: 1/240
- ExifIFD
- ApertureValue: 4,4
- ExposureTime: 1/240
- FNumber: 4,4
- FocalLength: 4,2 mm
- ISO: 100
- ShutterSpeedValue: 1/240
- ICC-header
- ICC-meas
- ICC-view
- IFD0
- Make: FUJIFILM
- Model: FinePix HS10 HS11
- ModifyDate: 2010:06:04 23:16:21
- Software: dcraw v9.00
- IFD1
- System
- XMP-crs
- AlreadyApplied: True
- BlueHue: -12
- BlueSaturation: -31
- Brightness: 0
- CameraProfile: Embedded
- ChromaticAberrationB: 0
- ChromaticAberrationR: -52
- Clarity: +67
- ColorNoiseReduction: 29
- Contrast: +3
- ConvertToGrayscale: False
- Defringe: 0
- Exposure: 0.00
- FillLight: 0
- GreenHue: +2
- GreenSaturation: -71
- HasCrop: False
- HasSettings: True
- HighlightRecovery: 0
- HueAdjustmentAqua: 0
- HueAdjustmentBlue: 0
- HueAdjustmentGreen: -29
- HueAdjustmentMagenta: 0
- HueAdjustmentOrange: 0
- HueAdjustmentPurple: 0
- HueAdjustmentRed: 0
- HueAdjustmentYellow: 0
- IncrementalTemperature: -7
- IncrementalTint: +43
- LuminanceAdjustmentAqua: 0
- LuminanceAdjustmentBlue: 0
- LuminanceAdjustmentGreen: -81
- LuminanceAdjustmentMagenta: 0
- LuminanceAdjustmentOrange: 0
- LuminanceAdjustmentPurple: 0
- LuminanceAdjustmentRed: 0
- LuminanceAdjustmentYellow: +29
- LuminanceSmoothing: 96
- ParametricDarks: +24
- ParametricHighlightSplit: 75
- ParametricHighlights: 0
- ParametricLights: +7
- ParametricMidtoneSplit: 50
- ParametricShadowSplit: 25
- ParametricShadows: -19
- PostCropVignetteAmount: 0
- RedHue: 0
- RedSaturation: 0
- Saturation: +36
- SaturationAdjustmentAqua: 0
- SaturationAdjustmentBlue: 0
- SaturationAdjustmentGreen: -100
- SaturationAdjustmentMagenta: +26
- SaturationAdjustmentOrange: 0
- SaturationAdjustmentPurple: -21
- SaturationAdjustmentRed: 0
- SaturationAdjustmentYellow: 0
- ShadowTint: +50
- Shadows: 1
- SharpenDetail: 79
- SharpenEdgeMasking: 58
- SharpenRadius: +1.4
- Sharpness: 43
- SplitToningBalance: +69
- SplitToningHighlightHue: 77
- SplitToningHighlightSaturation: 15
- SplitToningShadowHue: 201
- SplitToningShadowSaturation: 6
- ToneCurve: 0, 0, 255, 255
- ToneCurveName: Linear
- Version: 5.7
- Vibrance: +57
- VignetteAmount: 0
- WhiteBalance: Custom
- XMP-exif
- ExifImageHeight: 2742
- ExifImageWidth: 3664
- XMP-tiff
- ImageHeight: 2742
- ImageWidth: 3664
- XMP-xmp
- ModifyDate: 2010:06:04 23:16:21+08:00
- Просмотров: 941
- Рейтинг: голосов еще нет
- Отзывов: 0
Получить код для блога
Вставка фотографии в текущем разрешении |
Вставка миниатюры |
HTML (для вставки в блог):
BBCode (для вставки в форум):
Ссылка на фото:
Ссылка на миниатюру:
- Послать ссылку другу
Комментарии к фотографии |