- Раздел: Архитектура
- Дата съёмки: 07.06.2010 09:52
- Дата загрузки фото: 05.11.2010 14:39
- Оригинальная фотография: 4986 x 3310 (4,3 Мб)
- Технические характеристики:
- Фотоаппарат: Canon EOS 550D
- Выдержка: 1/80
- Гиперфокальное расстояние: inf m
- Диафрагма: 10,0
- Светочувствительность: 100
- Фокусное расстояние: 70,0 mm (35 mm equivalent: 70,0 mm)
- Полный EXIF
- Adobe
- ColorTransform: YCbCr
- Composite
- Aperture: 10,0
- CircleOfConfusion: 0,018 mm
- DOF: inf (0,00 m - inf)
- FOV: 28,0 deg
- FocalLength35efl: 70,0 mm (35 mm equivalent: 70,0 mm)
- HyperfocalDistance: inf m
- ScaleFactor35efl: 1,6
- ShutterSpeed: 1/80
- ExifIFD
- ApertureValue: 10,0
- CreateDate: 2010:06:07 09:52:35
- CustomRendered: Normal
- DateTimeOriginal: 2010:06:07 09:52:35
- ExposureCompensation: 0
- ExposureMode: Auto
- ExposureProgram: Not Defined
- ExposureTime: 1/80
- FNumber: 10,0
- Flash: Off, Did not fire
- FocalLength: 70,0 mm
- ISO: 100
- LensInfo: 70-300mm f/?
- LensModel: EF70-300mm f/4-5.6 IS USM
- MaxApertureValue: 4,0
- MeteringMode: Multi-segment
- SceneCaptureType: Standard
- SensitivityType: Unknown
- SerialNumber: 332100137
- ShutterSpeedValue: 1/80
- SubjectDistance: 9,14 m
- WhiteBalance: Auto
- ICC-header
- ICC-meas
- ICC-view
- IFD0
- Artist: zava
- Copyright: zava(c)ins
- Make: Canon
- Model: Canon EOS 550D
- ModifyDate: 2010:11:05 09:23:36
- IFD1
- IPTC
- By-line: zava
- CopyrightNotice: zava(c)ins
- ObjectName:
- System
- XMP-acdsee
- XMP-aux
- ApproximateFocusDistance: 9,14
- Firmware: 1.0.6
- FlashCompensation: 0
- ImageNumber: 0
- Lens: EF70-300mm f/4-5.6 IS USM
- LensID: 238
- XMP-crs
- AlreadyApplied: True
- BlueHue: 0
- BlueSaturation: 0
- Brightness: +79
- ChromaticAberrationB: 0
- ChromaticAberrationR: 0
- Clarity: +33
- ColorNoiseReduction: 25
- ColorNoiseReductionDetail: 50
- Contrast: +45
- ConvertToGrayscale: False
- CropAngle: 1.286568
- CropBottom: 0.989883
- CropConstrainToWarp: 1
- CropLeft: 0.01902
- CropRight: 0.966268
- CropTop: 0
- Defringe: 0
- Exposure: 0.00
- FillLight: 32
- GrainAmount: 0
- GreenHue: 0
- GreenSaturation: 0
- HasCrop: True
- HasSettings: True
- HighlightRecovery: 25
- HueAdjustmentAqua: 0
- HueAdjustmentBlue: 0
- HueAdjustmentGreen: 0
- HueAdjustmentMagenta: 0
- HueAdjustmentOrange: 0
- HueAdjustmentPurple: 0
- HueAdjustmentRed: 0
- HueAdjustmentYellow: 0
- LensManualDistortionAmount: 0
- LensProfileEnable: 0
- LensProfileSetup: LensDefaults
- LuminanceAdjustmentAqua: -94
- LuminanceAdjustmentBlue: -96
- LuminanceAdjustmentGreen: -65
- LuminanceAdjustmentMagenta: 0
- LuminanceAdjustmentOrange: +1
- LuminanceAdjustmentPurple: 0
- LuminanceAdjustmentRed: -3
- LuminanceAdjustmentYellow: -1
- LuminanceSmoothing: 0
- ParametricDarks: +24
- ParametricHighlightSplit: 75
- ParametricHighlights: -22
- ParametricLights: -19
- ParametricMidtoneSplit: 50
- ParametricShadowSplit: 25
- ParametricShadows: +33
- PerspectiveHorizontal: 0
- PerspectiveRotate: 0.0
- PerspectiveScale: 100
- PerspectiveVertical: 0
- PostCropVignetteAmount: 0
- ProcessVersion: 5.7
- RawFileName: IMG_1469.CR2
- RedHue: 0
- RedSaturation: 0
- Saturation: 0
- SaturationAdjustmentAqua: 0
- SaturationAdjustmentBlue: +46
- SaturationAdjustmentGreen: 0
- SaturationAdjustmentMagenta: 0
- SaturationAdjustmentOrange: 0
- SaturationAdjustmentPurple: 0
- SaturationAdjustmentRed: 0
- SaturationAdjustmentYellow: +1
- ShadowTint: 0
- Shadows: 12
- SharpenDetail: 25
- SharpenEdgeMasking: 23
- SharpenRadius: +1.0
- Sharpness: 43
- SplitToningBalance: 0
- SplitToningHighlightHue: 0
- SplitToningHighlightSaturation: 0
- SplitToningShadowHue: 0
- SplitToningShadowSaturation: 0
- Temperature: 5200
- Tint: -4
- ToneCurve: 0, 0, 32, 22, 64, 56, 128, 128, 192, 196, 255, 255
- ToneCurveName: Medium Contrast
- Version: 6.2
- Vibrance: 0
- VignetteAmount: 0
- WhiteBalance: Custom
- XMP-dc
- Creator: zava
- Rights: zava(c)ins
- Title:
- XMP-exif
- ColorSpace: sRGB
- DateTimeDigitized: 2010:06:07 09:52:35.0+3:00
- DateTimeOriginal: 2010:06:07 09:52:35.0+3:00
- ExifImageHeight: 3310
- ExifImageWidth: 4986
- ExposureProgram: Unknown (0)
- FlashFired: False
- FlashFunction: False
- FlashMode: Off
- FlashRedEyeMode: False
- FlashReturn: No return detection
- XMP-tiff
- ImageHeight: 3310
- ImageWidth: 4986
- XMP-xmp
- CreateDate: 2010:06:07 10:52:35.00+04:00
- ModifyDate: 2010:11:05 09:23:36+03:00
- Rating: 0