- Раздел: Другое, разное
- Дата съёмки: 17.04.2011 11:08
- Дата загрузки фото: 29.04.2011 16:58
- Оригинальная фотография: 5440 x 5440 (13,4 Мб)
- Технические характеристики:
- Фотоаппарат: Pentax 645D
- Выдержка: 1/125
- Гиперфокальное расстояние: inf m
- Диафрагма: 2,8
- Светочувствительность: 400
- Фокусное расстояние: 55,0 mm
- Полный EXIF
- Adobe
- ColorTransform: YCbCr
- Composite
- Aperture: 2,8
- CircleOfConfusion: 0,038 mm
- FocalLength35efl: 55,0 mm
- HyperfocalDistance: inf m
- ScaleFactor35efl: 0,8
- ShutterSpeed: 1/125
- ExifIFD
- ApertureValue: 2,8
- ColorSpace: sRGB
- Contrast: Normal
- CreateDate: 2011:04:17 11:08:20
- CustomRendered: Normal
- DateTimeOriginal: 2011:04:17 11:08:20
- ExifImageHeight: 5440
- ExifImageWidth: 5440
- ExposureCompensation: 0
- ExposureMode: Auto
- ExposureProgram: Aperture-priority AE
- ExposureTime: 1/125
- FNumber: 2,8
- Flash: Off, Did not fire
- FocalLength: 55,0 mm
- FocalLengthIn35mmFormat: 43 mm
- ISO: 400
- LensInfo: 55mm f/2.8
- LensModel: smc PENTAX-D FA645 55mm F2.8 AL [IF] SDM AW
- MeteringMode: Multi-segment
- Saturation: Normal
- SceneCaptureType: Standard
- SensingMethod: One-chip color area
- Sharpness: Normal
- ShutterSpeedValue: 1/125
- SubjectDistanceRange: Close
- WhiteBalance: Auto
- ICC-header
- ICC-meas
- ICC-view
- IFD0
- Make: PENTAX
- Model: PENTAX 645D
- ModifyDate: 2011:04:29 10:59:35
- Orientation: Horizontal (normal)
- IFD1
- IPTC
- DateCreated: 2011:04:17
- System
- XMP-aux
- ApproximateFocusDistance: 2
- Lens: smc PENTAX-D FA645 55mm F2.8 AL [IF] SDM AW
- LensID: 13 18
- XMP-crs
- AlreadyApplied: True
- BlueHue: 0
- BlueSaturation: 0
- Brightness: +50
- ChromaticAberrationB: 0
- ChromaticAberrationR: 0
- Clarity: 0
- ColorNoiseReduction: 0
- Contrast: +25
- ConvertToGrayscale: False
- Defringe: 0
- Exposure: +0.50
- FillLight: 25
- GrainAmount: 0
- GreenHue: 0
- GreenSaturation: 0
- HasCrop: False
- HasSettings: True
- HighlightRecovery: 0
- HueAdjustmentAqua: 0
- HueAdjustmentBlue: 0
- HueAdjustmentGreen: 0
- HueAdjustmentMagenta: 0
- HueAdjustmentOrange: 0
- HueAdjustmentPurple: 0
- HueAdjustmentRed: 0
- HueAdjustmentYellow: 0
- LensManualDistortionAmount: 0
- LensProfileChromaticAberrationScale: 100
- LensProfileDistortionScale: 100
- LensProfileEnable: 1
- LensProfileFilename: PENTAX (smc PENTAX-D FA645 55mmF2.8AL[IF] SDM AW) - RAW.lcp
- LensProfileSetup: LensDefaults
- LensProfileVignettingScale: 100
- LuminanceAdjustmentAqua: 0
- LuminanceAdjustmentBlue: 0
- LuminanceAdjustmentGreen: 0
- LuminanceAdjustmentMagenta: 0
- LuminanceAdjustmentOrange: 0
- LuminanceAdjustmentPurple: 0
- LuminanceAdjustmentRed: 0
- LuminanceAdjustmentYellow: 0
- LuminanceSmoothing: 0
- ParametricDarks: 0
- ParametricHighlightSplit: 75
- ParametricHighlights: 0
- ParametricLights: 0
- ParametricMidtoneSplit: 50
- ParametricShadowSplit: 25
- ParametricShadows: 0
- PerspectiveHorizontal: 0
- PerspectiveRotate: 0.0
- PerspectiveScale: 100
- PerspectiveVertical: 0
- PostCropVignetteAmount: 0
- ProcessVersion: 5.7
- RawFileName: IMGP9983.DNG
- RedHue: 0
- RedSaturation: 0
- Saturation: 0
- SaturationAdjustmentAqua: 0
- SaturationAdjustmentBlue: 0
- SaturationAdjustmentGreen: 0
- SaturationAdjustmentMagenta: 0
- SaturationAdjustmentOrange: 0
- SaturationAdjustmentPurple: 0
- SaturationAdjustmentRed: 0
- SaturationAdjustmentYellow: 0
- ShadowTint: 0
- Shadows: 0
- SharpenDetail: 0
- SharpenEdgeMasking: 0
- SharpenRadius: +0.5
- Sharpness: 0
- SplitToningBalance: 0
- SplitToningHighlightHue: 0
- SplitToningHighlightSaturation: 0
- SplitToningShadowHue: 0
- SplitToningShadowSaturation: 0
- Temperature: 3750
- Tint: +20
- ToneCurve: 0, 0, 32, 22, 64, 56, 128, 128, 192, 196, 255, 255
- ToneCurveName: Medium Contrast
- Version: 6.4
- Vibrance: 0
- VignetteAmount: 0
- XMP-dc
- XMP-xmp
- CreatorTool: 645D Ver 1.00
- ModifyDate: 2011:04:29 10:59:35+04:00
- Rating: 0
- XMP-xmpMM
- Просмотров: 278
- Рейтинг: голосов еще нет
- Отзывов: отключены