- Раздел: Город
- Дата съёмки: 08.05.2011 18:12
- Дата загрузки фото: 09.05.2011 07:33
- Оригинальная фотография: 2000 x 1334 (1,1 Мб)
- Технические характеристики:
- Фотоаппарат: Canon EOS 5D
- Выдержка: 1/400
- Гиперфокальное расстояние: inf m
- Диафрагма: 5,0
- Светочувствительность: 50
- Фокусное расстояние: 16,0 mm (35 mm equivalent: 32,0 mm)
- Экспокоррекция: -1
- Полный EXIF
- Composite
- Aperture: 5,0
- CircleOfConfusion: 0,014 mm
- FOV: 58,0 deg
- FocalLength35efl: 16,0 mm (35 mm equivalent: 32,0 mm)
- HyperfocalDistance: inf m
- ScaleFactor35efl: 2,2
- ShutterSpeed: 1/400
- ExifIFD
- ApertureValue: 5,0
- CreateDate: 2011:05:08 18:12:45
- CustomRendered: Normal
- DateTimeOriginal: 2011:05:08 18:12:45
- ExifImageHeight: 1334
- ExifImageWidth: 2000
- ExposureCompensation: -1
- ExposureMode: Auto
- ExposureProgram: Aperture-priority AE
- ExposureTime: 1/400
- FNumber: 5,0
- Flash: Off, Did not fire
- FocalLength: 16,0 mm
- ISO: 50
- MaxApertureValue: 2,8
- MeteringMode: Unknown
- SceneCaptureType: Standard
- ShutterSpeedValue: 1/400
- WhiteBalance: Auto
- ICC-header
- ICC-meas
- ICC-view
- IFD0
- Make: Canon
- Model: Canon EOS 5D
- ModifyDate: 2011:05:09 07:30:24
- Orientation: Horizontal (normal)
- Software: ACD Systems Digital Imaging
- IFD1
- IPTC
- DateCreated: 2011:05:08
- System
- XMP-aux
- Firmware: 1.1.1
- FlashCompensation: 0
- ImageNumber: 1
- Lens: EF16-35mm f/2.8L II USM
- LensID: 246
- LensInfo: 16-35mm f/?
- SerialNumber: 310100689
- XMP-crs
- AlreadyApplied: True
- BlueHue: 0
- BlueSaturation: 0
- Brightness: +50
- CameraProfile: Camera Standard
- ChromaticAberrationB: 0
- ChromaticAberrationR: 0
- Clarity: 0
- ColorNoiseReduction: 5
- ColorNoiseReductionDetail: 50
- Contrast: +40
- ConvertToGrayscale: False
- CropAngle: 1.2938
- CropBottom: 1
- CropConstrainToWarp: 0
- CropHeight: 2818
- CropLeft: 0.023629
- CropRight: 0.976299
- CropTop: 0
- CropUnit: pixels
- CropWidth: 4226
- Defringe: 0
- Exposure: 0.00
- FillLight: 0
- GrainAmount: 0
- GreenHue: 0
- GreenSaturation: 0
- HasCrop: True
- HasSettings: True
- HighlightRecovery: 18
- HueAdjustmentAqua: 0
- HueAdjustmentBlue: 0
- HueAdjustmentGreen: 0
- HueAdjustmentMagenta: 0
- HueAdjustmentOrange: 0
- HueAdjustmentPurple: 0
- HueAdjustmentRed: 0
- HueAdjustmentYellow: 0
- LensManualDistortionAmount: 0
- LensProfileEnable: 0
- LensProfileSetup: LensDefaults
- LuminanceAdjustmentAqua: 0
- LuminanceAdjustmentBlue: -45
- LuminanceAdjustmentGreen: 0
- LuminanceAdjustmentMagenta: 0
- LuminanceAdjustmentOrange: 0
- LuminanceAdjustmentPurple: 0
- LuminanceAdjustmentRed: 0
- LuminanceAdjustmentYellow: 0
- LuminanceSmoothing: 0
- ParametricDarks: 0
- ParametricHighlightSplit: 75
- ParametricHighlights: 0
- ParametricLights: 0
- ParametricMidtoneSplit: 50
- ParametricShadowSplit: 25
- ParametricShadows: 0
- PerspectiveHorizontal: 0
- PerspectiveRotate: 0.0
- PerspectiveScale: 100
- PerspectiveVertical: 0
- PostCropVignetteAmount: 0
- ProcessVersion: 5.7
- RedHue: 0
- RedSaturation: 0
- Saturation: 0
- SaturationAdjustmentAqua: 0
- SaturationAdjustmentBlue: 0
- SaturationAdjustmentGreen: 0
- SaturationAdjustmentMagenta: 0
- SaturationAdjustmentOrange: 0
- SaturationAdjustmentPurple: 0
- SaturationAdjustmentRed: 0
- SaturationAdjustmentYellow: 0
- ShadowTint: 0
- Shadows: 5
- SharpenDetail: 25
- SharpenEdgeMasking: 0
- SharpenRadius: +1.0
- Sharpness: 0
- SplitToningBalance: 0
- SplitToningHighlightHue: 0
- SplitToningHighlightSaturation: 0
- SplitToningShadowHue: 0
- SplitToningShadowSaturation: 0
- Temperature: 5200
- Tint: +7
- ToneCurve: 0, 0, 32, 22, 64, 56, 128, 128, 192, 196, 255, 255
- ToneCurveName: Medium Contrast
- Version: 6.4
- Vibrance: 0
- VignetteAmount: +49
- VignetteMidpoint: 50
- WhiteBalance: As Shot
- XMP-exif
- DateTimeDigitized: 2011:05:08 18:12:45+3:00
- DateTimeOriginal: 2011:05:08 18:12:45+3:00
- FlashFired: False
- FlashFunction: False
- FlashMode: Off
- FlashRedEyeMode: False
- FlashReturn: No return detection
- XMP-tiff
- XMP-x
- XMP-xmp
- ModifyDate: 2011:05:09 06:13:42.0+3:00
- Просмотров: 157
- Рейтинг: голосов еще нет
- Отзывов: отключены