- Раздел: Портрет
- Дата съёмки: 01.12.2011 18:14
- Дата загрузки фото: 02.12.2011 09:58
- Оригинальная фотография: 3888 x 2592 (2,4 Мб)
- Технические характеристики:
- Фотоаппарат: Canon EOS 400D DIGITAL
- Выдержка: 1/25
- Гиперфокальное расстояние: inf m
- Диафрагма: 2,0
- Светочувствительность: 1600
- Фокусное расстояние: 58,0 mm (35 mm equivalent: 58,0 mm)
- Экспокоррекция: +2/3
- Полный EXIF
- Adobe
- ColorTransform: YCbCr
- Composite
- Aperture: 2,0
- CircleOfConfusion: 0,019 mm
- FOV: 34,0 deg
- FocalLength35efl: 58,0 mm (35 mm equivalent: 58,0 mm)
- GPSLatitude: 0 deg 0' 0,00" N
- GPSLatitudeRef: North
- GPSLongitude: 0 deg 0' 0,00" E
- GPSLongitudeRef: East
- GPSPosition: 0 deg 0' 0,00" N, 0 deg 0' 0,00" E
- HyperfocalDistance: inf m
- ScaleFactor35efl: 1,6
- ShutterSpeed: 1/25
- ExifIFD
- ApertureValue: 2,0
- ColorSpace: Uncalibrated
- CreateDate: 2011:12:01 18:14:45
- CustomRendered: Normal
- DateTimeOriginal: 2011:12:01 18:14:45
- ExifImageHeight: 2592
- ExifImageWidth: 3888
- ExposureCompensation: +2/3
- ExposureMode: Auto
- ExposureProgram: Aperture-priority AE
- ExposureTime: 1/25
- FNumber: 2,0
- Flash: Off, Did not fire
- FocalLength: 58,0 mm
- ISO: 1600
- MaxApertureValue: 2,0
- MeteringMode: Multi-segment
- OwnerName: Drunk Pencil
- SceneCaptureType: Standard
- SerialNumber: 1681158349
- ShutterSpeedValue: 1/25
- WhiteBalance: Manual
- GPS
- GPSLatitude: 0 deg 0' 0,00"
- GPSLongitude: 0 deg 0' 0,00"
- GPSLongitudeRef: Unknown ()
- ICC-header
- IFD0
- Artist: Drunk Pencil
- ImageDescription: Адаптер M42 for Canon EOS EMF AF-Confirm (программируемый) + Гелиос 44-2 58мм f/2.0
- Make: Canon
- Model: Canon EOS 400D DIGITAL
- ModifyDate: 2011:12:01 21:06:03
- Orientation: Horizontal (normal)
- Software: Elements Organizer 9.0
- IFD1
- IPTC
- By-line: Drunk Pencil
- By-lineTitle: Conroe E4400 2GHz + GeForce 8600
- Caption-Abstract: Àäà ïòåð M42 for Canon EOS EMF AF-Confirm (ïðîãðà ììèðóåìûé) + Ãåëèîñ 44-2 58ìì f/2.0
- DateCreated: 2011:11:23
- Keywords: Г‚ ôîêóñå, Äâà ëèöà , ÊðóïГûé ïëà Г, Âûñîêîå ГЄГ Г·ГҐГ±ГІГўГ®, ГЌГ Г±ГІГї ËåìåøåâГ
- System
- XMP-aux
- Firmware: 1.1.1
- FlashCompensation: 0
- ImageNumber: 224
- LensID: 27
- XMP-crs
- AlreadyApplied: True
- BlueHue: 0
- BlueSaturation: 0
- Brightness: 0
- ChromaticAberrationB: 0
- ChromaticAberrationR: 0
- Clarity: 0
- ColorNoiseReduction: 100
- ColorNoiseReductionDetail: 50
- Contrast: 0
- ConvertToGrayscale: False
- Defringe: 0
- Exposure: +0.25
- FillLight: 0
- GrainAmount: 0
- GreenHue: 0
- GreenSaturation: 0
- HasCrop: False
- HasSettings: True
- HighlightRecovery: 6
- HueAdjustmentAqua: 0
- HueAdjustmentBlue: 0
- HueAdjustmentGreen: 0
- HueAdjustmentMagenta: 0
- HueAdjustmentOrange: 0
- HueAdjustmentPurple: 0
- HueAdjustmentRed: 0
- HueAdjustmentYellow: 0
- LensManualDistortionAmount: 0
- LensProfileEnable: 0
- LensProfileSetup: LensDefaults
- LuminanceAdjustmentAqua: 0
- LuminanceAdjustmentBlue: 0
- LuminanceAdjustmentGreen: 0
- LuminanceAdjustmentMagenta: 0
- LuminanceAdjustmentOrange: 0
- LuminanceAdjustmentPurple: 0
- LuminanceAdjustmentRed: 0
- LuminanceAdjustmentYellow: 0
- LuminanceNoiseReductionContrast: 0
- LuminanceNoiseReductionDetail: 50
- LuminanceSmoothing: 100
- ParametricDarks: 0
- ParametricHighlightSplit: 75
- ParametricHighlights: 0
- ParametricLights: 0
- ParametricMidtoneSplit: 50
- ParametricShadowSplit: 25
- ParametricShadows: 0
- PerspectiveHorizontal: 0
- PerspectiveRotate: 0.0
- PerspectiveScale: 100
- PerspectiveVertical: 0
- PostCropVignetteAmount: 0
- ProcessVersion: 5.7
- RawFileName: _MG_7006.CR2
- RedHue: 0
- RedSaturation: 0
- Saturation: 0
- SaturationAdjustmentAqua: 0
- SaturationAdjustmentBlue: 0
- SaturationAdjustmentGreen: 0
- SaturationAdjustmentMagenta: 0
- SaturationAdjustmentOrange: 0
- SaturationAdjustmentPurple: 0
- SaturationAdjustmentRed: 0
- SaturationAdjustmentYellow: 0
- ShadowTint: 0
- Shadows: 16
- SharpenDetail: 100
- SharpenEdgeMasking: 100
- SharpenRadius: +0.5
- Sharpness: 0
- SplitToningBalance: 0
- SplitToningHighlightHue: 0
- SplitToningHighlightSaturation: 0
- SplitToningShadowHue: 0
- SplitToningShadowSaturation: 0
- Temperature: 2350
- Tint: 0
- ToneCurve: 0, 0, 32, 22, 64, 56, 128, 128, 192, 196, 255, 255
- ToneCurveName: Medium Contrast
- Version: 6.4.1
- Vibrance: 0
- VignetteAmount: 0
- WhiteBalance: Custom
- XMP-dc
- Creator: Drunk Pencil
- Description: Адаптер M42 for Canon EOS EMF AF-Confirm (программируемый) + Гелиос 44-2 58мм f/2.0
- Format: image/jpeg
- Subject: В фокусе, Два лица, Крупный план, Высокое качество, Настя Лемешева
- XMP-exif
- DateTimeDigitized: 2011:12:01 18:14:45+03:00
- FlashFired: False
- FlashFunction: False
- FlashMode: Off
- FlashRedEyeMode: False
- FlashReturn: No return detection
- XMP-iptcCore
- CreatorAddress: Адаптер M42 for Canon EOS EMF AF-Confirm (программируемый) + Гелиос 44-2 58мм f/2.0
- CreatorCity: SPb
- CreatorCountry: Russia
- CreatorPostalCode: 195248
- CreatorWorkEmail: drunk_pen@mail.ru
- CreatorWorkTelephone: +79112876719
- XMP-tiff
- XMP-xmp
- CreateDate: 2009:07:23 17:53:04+04:00
- CreatorTool: Elements Organizer 9.0
- ModifyDate: 2011:12:01 21:06:03+03:00
- Rating: 1
- XMP-xmpMM