- Раздел: Путешествия
- Дата съёмки: 07.01.2012 14:13
- Дата загрузки фото: 03.02.2012 10:14
- Оригинальная фотография: 1264 x 1920 (1,7 Мб)
- Технические характеристики:
- Фотоаппарат: Canon EOS 60D
- Выдержка: 1/2000
- Гиперфокальное расстояние: inf m
- Диафрагма: 5,6
- Светочувствительность: 200
- Фокусное расстояние: 47,0 mm (35 mm equivalent: 188,0 mm)
- Полный EXIF
- Adobe
- ColorTransform: YCbCr
- Composite
- Aperture: 5,6
- CircleOfConfusion: 0,007 mm
- DOF: inf (0,00 m - inf)
- FOV: 10,0 deg
- FocalLength35efl: 47,0 mm (35 mm equivalent: 188,0 mm)
- HyperfocalDistance: inf m
- ScaleFactor35efl: 4,3
- ShutterSpeed: 1/2000
- ExifIFD
- ApertureValue: 5,6
- ColorSpace: sRGB
- CreateDate: 2012:01:07 14:13:10
- CustomRendered: Normal
- DateTimeOriginal: 2012:01:07 14:13:10
- ExifImageHeight: 1920
- ExifImageWidth: 1264
- ExposureCompensation: 0
- ExposureMode: Auto
- ExposureProgram: Aperture-priority AE
- ExposureTime: 1/2000
- FNumber: 5,6
- Flash: Off, Did not fire
- FocalLength: 47,0 mm
- ISO: 200
- LensInfo: 24-105mm f/?
- LensModel: EF24-105mm f/4L IS USM
- LensSerialNumber: 00001a0bd7
- MaxApertureValue: 4,0
- MeteringMode: Multi-segment
- RecommendedExposureIndex: 200
- SceneCaptureType: Standard
- SensitivityType: Recommended Exposure Index
- SerialNumber: 0780425294
- ShutterSpeedValue: 1/2000
- SubjectDistance: 4294967295 m
- WhiteBalance: Auto
- ICC-header
- ICC-meas
- ICC-view
- IFD0
- Artist: Aliko
- BitsPerSample: 8 8 8
- Copyright: aliko(c)ins
- ImageHeight: 2400
- ImageWidth: 1580
- Make: Canon
- Model: Canon EOS 60D
- ModifyDate: 2012:02:03 06:09:43
- Orientation: Horizontal (normal)
- PhotometricInterpretation: RGB
- SamplesPerPixel: 3
- IFD1
- IPTC
- By-line: Aliko
- CopyrightNotice: aliko(c)ins
- DateCreated: 2012:01:07
- System
- XMP-aux
- ApproximateFocusDistance: 4294967295
- Firmware: 1.1.0
- FlashCompensation: 0
- ImageNumber: 0
- Lens: EF24-105mm f/4L IS USM
- LensID: 237
- XMP-crs
- AlreadyApplied: True
- BlueHue: 0
- BlueSaturation: 0
- Brightness: +60
- ChromaticAberrationB: 0
- ChromaticAberrationR: 0
- Clarity: +26
- ColorNoiseReduction: 25
- ColorNoiseReductionDetail: 50
- Contrast: +38
- ConvertToGrayscale: False
- CropAngle: -1.163206
- CropBottom: 0.933141
- CropConstrainToWarp: 1
- CropLeft: 0.031948
- CropRight: 0.989783
- CropTop: 0.028883
- Defringe: 0
- Exposure: 0.00
- FillLight: 0
- GrainAmount: 0
- GreenHue: 0
- GreenSaturation: 0
- HasCrop: True
- HasSettings: True
- HighlightRecovery: 0
- HueAdjustmentAqua: 0
- HueAdjustmentBlue: 0
- HueAdjustmentGreen: 0
- HueAdjustmentMagenta: 0
- HueAdjustmentOrange: 0
- HueAdjustmentPurple: 0
- HueAdjustmentRed: 0
- HueAdjustmentYellow: 0
- LensManualDistortionAmount: 0
- LensProfileChromaticAberrationScale: 100
- LensProfileDistortionScale: 100
- LensProfileEnable: 1
- LensProfileFilename: Canon EOS-1Ds Mark III (Canon EF 24-105mm f4 L IS USM) - RAW.lcp
- LensProfileSetup: Custom
- LensProfileVignettingScale: 126
- LuminanceAdjustmentAqua: 0
- LuminanceAdjustmentBlue: 0
- LuminanceAdjustmentGreen: 0
- LuminanceAdjustmentMagenta: 0
- LuminanceAdjustmentOrange: 0
- LuminanceAdjustmentPurple: 0
- LuminanceAdjustmentRed: 0
- LuminanceAdjustmentYellow: 0
- LuminanceSmoothing: 0
- ParametricDarks: +17
- ParametricHighlightSplit: 75
- ParametricHighlights: +24
- ParametricLights: +6
- ParametricMidtoneSplit: 50
- ParametricShadowSplit: 25
- ParametricShadows: +18
- PerspectiveHorizontal: +8
- PerspectiveRotate: 0.0
- PerspectiveScale: 100
- PerspectiveVertical: -22
- PostCropVignetteAmount: 0
- ProcessVersion: 5.7
- RawFileName: IMG_6097.CR2
- RedHue: 0
- RedSaturation: 0
- Saturation: 0
- SaturationAdjustmentAqua: 0
- SaturationAdjustmentBlue: +28
- SaturationAdjustmentGreen: 0
- SaturationAdjustmentMagenta: 0
- SaturationAdjustmentOrange: 0
- SaturationAdjustmentPurple: 0
- SaturationAdjustmentRed: 0
- SaturationAdjustmentYellow: 0
- ShadowTint: 0
- Shadows: 5
- SharpenDetail: 25
- SharpenEdgeMasking: 0
- SharpenRadius: +1.0
- Sharpness: 25
- SplitToningBalance: 0
- SplitToningHighlightHue: 0
- SplitToningHighlightSaturation: 0
- SplitToningShadowHue: 0
- SplitToningShadowSaturation: 0
- Temperature: 4850
- Tint: +14
- ToneCurve: 0, 0, 32, 22, 64, 56, 128, 128, 192, 196, 255, 255
- ToneCurveName: Medium Contrast
- Version: 6.6
- Vibrance: +13
- VignetteAmount: 0
- WhiteBalance: As Shot
- XMP-dc
- Creator: Aliko
- Format: image/jpeg
- Rights: aliko(c)ins
- XMP-xmp
- CreateDate: 2012:01:07 14:13:10.50
- ModifyDate: 2012:02:03 06:09:43Z
- Rating: 0
- XMP-xmpMM
- Просмотров: 308
- Рейтинг: голосов еще нет
- Отзывов: 0