- Раздел: Тесты фототехники
- Дата съёмки: 10.06.2012 13:12
- Дата загрузки фото: 10.06.2012 20:59
- Оригинальная фотография: 3888 x 2592 (4,0 Мб)
- Технические характеристики:
- Фотоаппарат: Canon EOS 400D DIGITAL
- Выдержка: 1/800
- Гиперфокальное расстояние: inf m
- Диафрагма: 2,0
- Светочувствительность: 100
- Фокусное расстояние: 100,0 mm (35 mm equivalent: 100,0 mm)
- Экспокоррекция: +2/3
- Полный EXIF
- Adobe
- ColorTransform: YCbCr
- Composite
- Aperture: 2,0
- CircleOfConfusion: 0,019 mm
- FOV: 20,0 deg
- FocalLength35efl: 100,0 mm (35 mm equivalent: 100,0 mm)
- HyperfocalDistance: inf m
- ScaleFactor35efl: 1,6
- ShutterSpeed: 1/800
- ExifIFD
- ApertureValue: 2,0
- ColorSpace: Uncalibrated
- CreateDate: 2012:06:10 13:12:02
- CustomRendered: Normal
- DateTimeOriginal: 2012:06:10 13:12:02
- ExifImageHeight: 2592
- ExifImageWidth: 3888
- ExposureCompensation: +2/3
- ExposureMode: Auto
- ExposureProgram: Aperture-priority AE
- ExposureTime: 1/800
- FNumber: 2,0
- Flash: Off, Did not fire
- FocalLength: 100,0 mm
- ISO: 100
- LensInfo: 100mm f/?
- LensModel: EF100mm f/2 USM
- MaxApertureValue: 2,0
- MeteringMode: Multi-segment
- OwnerName: Drunk Pencil
- SceneCaptureType: Standard
- SerialNumber: 1681158349
- ShutterSpeedValue: 1/800
- WhiteBalance: Manual
- ICC-header
- IFD0
- Artist: Drunk Pencil
- ImageDescription: Мы с Ленкой на прогулке с Настей в нашем парке на большой детской площадке.
- Make: Canon
- Model: Canon EOS 400D DIGITAL
- ModifyDate: 2012:06:10 16:46:17
- Orientation: Horizontal (normal)
- Software: Elements Organizer 9.0
- IFD1
- IPTC
- By-line: Drunk Pencil
- By-lineTitle: Toshiba Satellite A660-1EN + 4Gb
- Caption-Abstract: ГЊГ» Г± ËåГêîé Гà ïðîãóëêå Г± ГЌГ Г±ГІГҐГ© Гў ГГ ГёГҐГ¬ ïà ðêå Гà áîëüøîé äåòñêîé ïëîùà äêå.
- DateCreated: 2011:11:23
- Keywords: ГЌГ Г±ГІГї
- System
- XMP-aux
- Firmware: 1.1.1
- FlashCompensation: 0
- ImageNumber: 64
- Lens: EF100mm f/2 USM
- LensID: 149
- XMP-crs
- AlreadyApplied: True
- BlueHue: 0
- BlueSaturation: 0
- Brightness: 0
- ChromaticAberrationB: 0
- ChromaticAberrationR: 0
- Clarity: 0
- ColorNoiseReduction: 100
- ColorNoiseReductionDetail: 50
- Contrast: 0
- ConvertToGrayscale: False
- Defringe: 0
- Exposure: 0.00
- FillLight: 0
- GrainAmount: 0
- GreenHue: 0
- GreenSaturation: 0
- HasCrop: False
- HasSettings: True
- HighlightRecovery: 26
- HueAdjustmentAqua: 0
- HueAdjustmentBlue: 0
- HueAdjustmentGreen: 0
- HueAdjustmentMagenta: 0
- HueAdjustmentOrange: 0
- HueAdjustmentPurple: 0
- HueAdjustmentRed: 0
- HueAdjustmentYellow: 0
- LensManualDistortionAmount: 0
- LensProfileEnable: 0
- LensProfileSetup: LensDefaults
- LuminanceAdjustmentAqua: 0
- LuminanceAdjustmentBlue: 0
- LuminanceAdjustmentGreen: 0
- LuminanceAdjustmentMagenta: 0
- LuminanceAdjustmentOrange: 0
- LuminanceAdjustmentPurple: 0
- LuminanceAdjustmentRed: 0
- LuminanceAdjustmentYellow: 0
- LuminanceNoiseReductionContrast: 0
- LuminanceNoiseReductionDetail: 50
- LuminanceSmoothing: 100
- ParametricDarks: 0
- ParametricHighlightSplit: 75
- ParametricHighlights: 0
- ParametricLights: 0
- ParametricMidtoneSplit: 50
- ParametricShadowSplit: 25
- ParametricShadows: 0
- PerspectiveHorizontal: 0
- PerspectiveRotate: 0.0
- PerspectiveScale: 100
- PerspectiveVertical: 0
- PostCropVignetteAmount: 0
- ProcessVersion: 5.7
- RawFileName: _MG_0932.CR2
- RedHue: 0
- RedSaturation: 0
- Saturation: 0
- SaturationAdjustmentAqua: 0
- SaturationAdjustmentBlue: 0
- SaturationAdjustmentGreen: 0
- SaturationAdjustmentMagenta: 0
- SaturationAdjustmentOrange: 0
- SaturationAdjustmentPurple: 0
- SaturationAdjustmentRed: 0
- SaturationAdjustmentYellow: 0
- ShadowTint: 0
- Shadows: 14
- SharpenDetail: 100
- SharpenEdgeMasking: 100
- SharpenRadius: +0.5
- Sharpness: 0
- SplitToningBalance: 0
- SplitToningHighlightHue: 0
- SplitToningHighlightSaturation: 0
- SplitToningShadowHue: 0
- SplitToningShadowSaturation: 0
- Temperature: 5250
- Tint: 0
- ToneCurve: 0, 0, 32, 22, 64, 56, 128, 128, 192, 196, 255, 255
- ToneCurveName: Medium Contrast
- Version: 6.4.1
- Vibrance: 0
- VignetteAmount: 0
- WhiteBalance: Custom
- XMP-dc
- Creator: Drunk Pencil
- Description: Мы с Ленкой на прогулке с Настей в нашем парке на большой детской площадке.
- Format: image/jpeg
- Subject: Настя
- XMP-exif
- DateTimeDigitized: 2012:06:10 13:12:02+03:00
- FlashFired: False
- FlashFunction: False
- FlashMode: Off
- FlashRedEyeMode: False
- FlashReturn: No return detection
- XMP-iptcCore
- CreatorCity: SPb
- CreatorCountry: Russia
- CreatorPostalCode: 195248
- CreatorWorkEmail: drunk_pen@mail.ru
- CreatorWorkTelephone: +79112876719
- XMP-tiff
- XMP-xmp
- CreateDate: 2009:07:23 17:53:04+04:00
- CreatorTool: Elements Organizer 9.0
- ModifyDate: 2012:06:10 16:46:17+03:00
- Rating: 1
- XMP-xmpMM
- Просмотров: 243
- Рейтинг: голосов еще нет
- Отзывов: 0