- Раздел: Автомобили
- Дата съёмки: 18.07.2009 15:31
- Дата загрузки фото: 13.09.2012 19:46
- Оригинальная фотография: 1872 x 1178 (611 Кб)
- Технические характеристики:
- Фотоаппарат: Canon PowerShot SX100 IS
- Выдержка: 1/800
- Гиперфокальное расстояние: inf m
- Диафрагма: 4,0
- Светочувствительность: 80
- Фокусное расстояние: 28,0 mm (35 mm equivalent: 308,0 mm)
- Полный EXIF
- Adobe
- ColorTransform: YCbCr
- Composite
- Aperture: 4,0
- CircleOfConfusion: 0,003 mm
- DOF: inf (0,00 m - inf)
- FOV: 6,0 deg
- FocalLength35efl: 28,0 mm (35 mm equivalent: 308,0 mm)
- HyperfocalDistance: inf m
- ScaleFactor35efl: 11,2
- ShutterSpeed: 1/800
- ExifIFD
- ApertureValue: 4,0
- ColorSpace: sRGB
- CreateDate: 2009:07:18 15:31:05
- CustomRendered: Normal
- DateTimeOriginal: 2009:07:18 15:31:05
- DigitalZoomRatio: 1
- ExifImageHeight: 1178
- ExifImageWidth: 1872
- ExposureCompensation: 0
- ExposureMode: Auto
- ExposureTime: 1/800
- FNumber: 4,0
- Flash: Off, Did not fire
- FocalLength: 28,1 mm
- ISO: 80
- MaxApertureValue: 4,0
- MeteringMode: Multi-segment
- SceneCaptureType: Standard
- SensingMethod: One-chip color area
- ShutterSpeedValue: 1/800
- SubjectDistance: 64,4 m
- WhiteBalance: Auto
- ICC-header
- ICC-meas
- ICC-view
- IFD0
- Make: Canon
- Model: Canon PowerShot SX100 IS
- ModifyDate: 2012:09:13 19:42:51
- Orientation: Horizontal (normal)
- IFD1
- IPTC
- DateCreated: 2009:07:18
- System
- XMP-aux
- Firmware: 1.00
- FlashCompensation: 0
- Lens: 6.0-60.0 mm
- LensID: 65535
- LensInfo: 6-60mm f/?
- XMP-crs
- AlreadyApplied: True
- BlueHue: 0
- BlueSaturation: 0
- Brightness: 0
- CameraProfile: Embedded
- ChromaticAberrationB: 0
- ChromaticAberrationR: 0
- Clarity: +36
- ColorNoiseReduction: 0
- Contrast: 0
- ConvertToGrayscale: False
- Defringe: 0
- Exposure: 0.00
- FillLight: 0
- GrainAmount: 0
- GreenHue: 0
- GreenSaturation: 0
- HasCrop: False
- HasSettings: True
- HighlightRecovery: 0
- HueAdjustmentAqua: 0
- HueAdjustmentBlue: 0
- HueAdjustmentGreen: 0
- HueAdjustmentMagenta: 0
- HueAdjustmentOrange: 0
- HueAdjustmentPurple: 0
- HueAdjustmentRed: 0
- HueAdjustmentYellow: 0
- IncrementalTemperature: 0
- IncrementalTint: 0
- LuminanceAdjustmentAqua: 0
- LuminanceAdjustmentBlue: 0
- LuminanceAdjustmentGreen: 0
- LuminanceAdjustmentMagenta: 0
- LuminanceAdjustmentOrange: 0
- LuminanceAdjustmentPurple: 0
- LuminanceAdjustmentRed: 0
- LuminanceAdjustmentYellow: 0
- LuminanceSmoothing: 0
- ParametricDarks: 0
- ParametricHighlightSplit: 75
- ParametricHighlights: 0
- ParametricLights: 0
- ParametricMidtoneSplit: 50
- ParametricShadowSplit: 25
- ParametricShadows: 0
- PostCropVignetteAmount: 0
- ProcessVersion: 5.7
- RawFileName: IMG_2282.JPG
- RedHue: 0
- RedSaturation: 0
- Saturation: 0
- SaturationAdjustmentAqua: 0
- SaturationAdjustmentBlue: 0
- SaturationAdjustmentGreen: 0
- SaturationAdjustmentMagenta: 0
- SaturationAdjustmentOrange: 0
- SaturationAdjustmentPurple: 0
- SaturationAdjustmentRed: 0
- SaturationAdjustmentYellow: 0
- ShadowTint: 0
- Shadows: 0
- SharpenDetail: 25
- SharpenEdgeMasking: 0
- SharpenRadius: +1.0
- Sharpness: 0
- SplitToningBalance: 0
- SplitToningHighlightHue: 0
- SplitToningHighlightSaturation: 0
- SplitToningShadowHue: 0
- SplitToningShadowSaturation: 0
- ToneCurve: 0, 0, 255, 255
- ToneCurveName: Linear
- Version: 6.0
- Vibrance: +44
- VignetteAmount: 0
- WhiteBalance: As Shot
- XMP-dc
- XMP-xmp
- CreateDate: 2009:07:18 15:31:05+04:00
- ModifyDate: 2012:09:13 19:42:51+04:00
- Rating: 0
- XMP-xmpMM
- Просмотров: 1597
- Рейтинг: голосов еще нет
- Отзывов: 2