- Раздел: Тесты фототехники
- Дата съёмки: 17.07.2012 21:30
- Дата загрузки фото: 27.08.2012 23:17
- Оригинальная фотография: 5504 x 4937 (2,6 Мб)
- Технические характеристики:
- Фотоаппарат: Hasselblad H4D
- Выдержка: 1/250
- Гиперфокальное расстояние: inf m
- Диафрагма: 11,0
- Светочувствительность: 100
- Фокусное расстояние: 120,0 mm
- Полный EXIF
- Adobe
- ColorTransform: YCbCr
- Composite
- Aperture: 11,0
- CircleOfConfusion: 0,031 mm
- FocalLength35efl: 120,0 mm
- HyperfocalDistance: inf m
- ScaleFactor35efl: 1,0
- ShutterSpeed: 1/250
- ExifIFD
- ApertureValue: 11,0
- ColorSpace: sRGB
- DateTimeOriginal: 2012:07:17 21:30:34
- ExifImageHeight: 4937
- ExifImageWidth: 5504
- ExposureProgram: Manual
- ExposureTime: 1/250
- FNumber: 11,0
- FocalLength: 120,0 mm
- ISO: 100
- LensModel: HC 120
- MeteringMode: Center-weighted average
- ShutterSpeedValue: 1/250
- ICC-header
- ICC-meas
- ICC-view
- IFD0
- Copyright: Hasselblad H4D
- Make: Hasselblad
- Model: Hasselblad H4D
- ModifyDate: 2012:08:27 23:16:38
- Orientation: Horizontal (normal)
- IFD1
- IPTC
- CopyrightNotice: Hasselblad H4D
- DateCreated: 2012:07:17
- System
- XMP-aux
- ApproximateFocusDistance: 1,05
- Lens: HC 120
- XMP-crs
- AlreadyApplied: True
- AutoLateralCA: 0
- Blacks2012: 0
- BlueHue: 0
- BlueSaturation: 0
- CameraProfile: Camera Standard
- Clarity2012: 0
- ColorNoiseReduction: 25
- ColorNoiseReductionDetail: 50
- Contrast2012: -33
- ConvertToGrayscale: False
- DefringeGreenAmount: 0
- DefringeGreenHueHi: 60
- DefringeGreenHueLo: 40
- DefringePurpleAmount: 0
- DefringePurpleHueHi: 70
- DefringePurpleHueLo: 30
- Exposure2012: 0.00
- GrainAmount: 0
- GreenHue: 0
- GreenSaturation: 0
- HasCrop: False
- HasSettings: True
- Highlights2012: -2
- HueAdjustmentAqua: 0
- HueAdjustmentBlue: 0
- HueAdjustmentGreen: 0
- HueAdjustmentMagenta: 0
- HueAdjustmentOrange: 0
- HueAdjustmentPurple: 0
- HueAdjustmentRed: 0
- HueAdjustmentYellow: 0
- LensManualDistortionAmount: 0
- LensProfileEnable: 0
- LensProfileSetup: LensDefaults
- LuminanceAdjustmentAqua: 0
- LuminanceAdjustmentBlue: 0
- LuminanceAdjustmentGreen: 0
- LuminanceAdjustmentMagenta: 0
- LuminanceAdjustmentOrange: 0
- LuminanceAdjustmentPurple: 0
- LuminanceAdjustmentRed: 0
- LuminanceAdjustmentYellow: 0
- LuminanceSmoothing: 0
- ParametricDarks: 0
- ParametricHighlightSplit: 75
- ParametricHighlights: 0
- ParametricLights: 0
- ParametricMidtoneSplit: 50
- ParametricShadowSplit: 25
- ParametricShadows: 0
- PerspectiveHorizontal: 0
- PerspectiveRotate: 0.0
- PerspectiveScale: 100
- PerspectiveVertical: 0
- PostCropVignetteAmount: 0
- ProcessVersion: 6.7
- RawFileName: port.3FR
- RedHue: 0
- RedSaturation: 0
- Saturation: 0
- SaturationAdjustmentAqua: 0
- SaturationAdjustmentBlue: 0
- SaturationAdjustmentGreen: 0
- SaturationAdjustmentMagenta: 0
- SaturationAdjustmentOrange: 0
- SaturationAdjustmentPurple: 0
- SaturationAdjustmentRed: 0
- SaturationAdjustmentYellow: 0
- ShadowTint: 0
- Shadows2012: 0
- SharpenDetail: 25
- SharpenEdgeMasking: 0
- SharpenRadius: +1.0
- Sharpness: 25
- SplitToningBalance: 0
- SplitToningHighlightHue: 0
- SplitToningHighlightSaturation: 0
- SplitToningShadowHue: 0
- SplitToningShadowSaturation: 0
- Temperature: 6550
- Tint: +16
- ToneCurveName2012: Linear
- ToneCurvePV2012: 0, 0, 255, 255
- ToneCurvePV2012Blue: 0, 0, 255, 255
- ToneCurvePV2012Green: 0, 0, 255, 255
- ToneCurvePV2012Red: 0, 0, 255, 255
- Version: 7.1
- Vibrance: 0
- VignetteAmount: 0
- WhiteBalance: Custom
- Whites2012: 0
- XMP-dc
- Format: image/jpeg
- Rights: Hasselblad H4D
- XMP-xmp
- CreateDate: 2012:07:17 21:30:34
- CreatorTool: 361:39:513:36:0:26:16:0:0.0.0
- ModifyDate: 2012:08:27 23:16:38+04:00
- Rating: 0
- XMP-xmpMM
- Просмотров: 929
- Рейтинг: голосов еще нет
- Отзывов: отключены