- Раздел: Работа
- Дата съёмки: 31.08.2012 14:54
- Дата загрузки фото: 16.09.2012 14:15
- Оригинальная фотография: 4256 x 2832 (5,4 Мб)
- Технические характеристики:
- Фотоаппарат: Nikon D700
- Выдержка: 1/60
- Гиперфокальное расстояние: inf m
- Диафрагма: 5,6
- Светочувствительность: 400
- Фокусное расстояние: 85,0 mm (35 mm equivalent: 85,0 mm)
- Экспокоррекция: +1/3
- Полный EXIF
- Adobe
- ColorTransform: YCbCr
- Composite
- Aperture: 5,6
- CircleOfConfusion: 0,030 mm
- FOV: 23,0 deg
- FocalLength35efl: 85,0 mm (35 mm equivalent: 85,0 mm)
- HyperfocalDistance: inf m
- ScaleFactor35efl: 1,0
- ShutterSpeed: 1/60
- ExifIFD
- ApertureValue: 5,6
- CFAPattern: [Red,Green][Green,Blue]
- ColorSpace: sRGB
- Contrast: Normal
- CreateDate: 2012:08:31 14:54:31
- CustomRendered: Normal
- DateTimeOriginal: 2012:08:31 14:54:31
- DigitalZoomRatio: 1
- ExifImageHeight: 2832
- ExifImageWidth: 4256
- ExposureCompensation: +1/3
- ExposureMode: Auto
- ExposureProgram: Program AE
- ExposureTime: 1/60
- FNumber: 5,6
- Flash: On, Return detected
- FocalLength: 85,0 mm
- FocalLengthIn35mmFormat: 85 mm
- GainControl: Low gain up
- ISO: 400
- LensInfo: 85mm f/1.4
- LensModel: 85.0 mm f/1.4
- LightSource: Unknown
- MaxApertureValue: 1,4
- MeteringMode: Multi-segment
- Saturation: Normal
- SceneCaptureType: Standard
- SceneType: Directly photographed
- SensingMethod: One-chip color area
- SerialNumber: 2179962
- Sharpness: Hard
- ShutterSpeedValue: 1/60
- SubjectDistanceRange: Unknown
- WhiteBalance: Auto
- ICC-header
- ICC-meas
- ICC-view
- IFD0
- Artist: O Bukhvalova
- Make: NIKON CORPORATION
- Model: NIKON D700
- ModifyDate: 2012:09:16 13:59:25
- Orientation: Horizontal (normal)
- IFD1
- IPTC
- By-line: O Bukhvalova
- DateCreated: 2012:08:31
- System
- XMP-aux
- ApproximateFocusDistance: 2
- ImageNumber: 76183
- Lens: 85.0 mm f/1.4
- LensID: 74
- XMP-crs
- AlreadyApplied: True
- AutoLateralCA: 0
- Blacks2012: 0
- BlueHue: 0
- BlueSaturation: 0
- CameraProfile: Camera Standard v4
- Clarity2012: +3
- ColorNoiseReduction: 25
- ColorNoiseReductionDetail: 50
- Contrast2012: +10
- ConvertToGrayscale: False
- DefringeGreenAmount: 0
- DefringeGreenHueHi: 60
- DefringeGreenHueLo: 40
- DefringePurpleAmount: 0
- DefringePurpleHueHi: 70
- DefringePurpleHueLo: 30
- Exposure2012: -0.15
- GrainAmount: 0
- GreenHue: 0
- GreenSaturation: 0
- HasCrop: False
- HasSettings: True
- Highlights2012: 0
- HueAdjustmentAqua: 0
- HueAdjustmentBlue: 0
- HueAdjustmentGreen: 0
- HueAdjustmentMagenta: 0
- HueAdjustmentOrange: 0
- HueAdjustmentPurple: 0
- HueAdjustmentRed: 0
- HueAdjustmentYellow: 0
- LensManualDistortionAmount: 0
- LensProfileEnable: 0
- LensProfileSetup: LensDefaults
- LuminanceAdjustmentAqua: 0
- LuminanceAdjustmentBlue: 0
- LuminanceAdjustmentGreen: 0
- LuminanceAdjustmentMagenta: 0
- LuminanceAdjustmentOrange: 0
- LuminanceAdjustmentPurple: 0
- LuminanceAdjustmentRed: 0
- LuminanceAdjustmentYellow: 0
- LuminanceSmoothing: 0
- ParametricDarks: 0
- ParametricHighlightSplit: 75
- ParametricHighlights: 0
- ParametricLights: 0
- ParametricMidtoneSplit: 50
- ParametricShadowSplit: 25
- ParametricShadows: 0
- PerspectiveHorizontal: 0
- PerspectiveRotate: 0.0
- PerspectiveScale: 100
- PerspectiveVertical: 0
- PostCropVignetteAmount: 0
- ProcessVersion: 6.7
- RawFileName: DSC_6085.NEF
- RedHue: 0
- RedSaturation: 0
- Saturation: 0
- SaturationAdjustmentAqua: 0
- SaturationAdjustmentBlue: 0
- SaturationAdjustmentGreen: 0
- SaturationAdjustmentMagenta: 0
- SaturationAdjustmentOrange: 0
- SaturationAdjustmentPurple: 0
- SaturationAdjustmentRed: 0
- SaturationAdjustmentYellow: 0
- ShadowTint: 0
- Shadows2012: 0
- SharpenDetail: 25
- SharpenEdgeMasking: 0
- SharpenRadius: +1.0
- Sharpness: 25
- SplitToningBalance: 0
- SplitToningHighlightHue: 0
- SplitToningHighlightSaturation: 0
- SplitToningShadowHue: 0
- SplitToningShadowSaturation: 0
- Temperature: 4900
- Tint: -3
- ToneCurveName2012: Linear
- ToneCurvePV2012: 0, 0, 255, 255
- ToneCurvePV2012Blue: 0, 0, 255, 255
- ToneCurvePV2012Green: 0, 0, 255, 255
- ToneCurvePV2012Red: 0, 0, 255, 255
- Version: 7.1
- Vibrance: +21
- VignetteAmount: 0
- WhiteBalance: Custom
- Whites2012: 0
- XMP-dc
- Creator: O Bukhvalova
- Format: image/jpeg
- XMP-xmp
- ModifyDate: 2012:09:16 13:59:25+04:00
- Rating: 0
- XMP-xmpMM
- Просмотров: 247
- Рейтинг: голосов еще нет
- Отзывов: отключены