- Раздел: Путешествия
- Дата съёмки: 11.07.2013 14:41
- Дата загрузки фото: 16.08.2013 13:28
- Оригинальная фотография: 2549 x 3824 (2,8 Мб)
- Технические характеристики:
- Фотоаппарат: Nikon D90
- Выдержка: 1/320
- Гиперфокальное расстояние: inf m
- Диафрагма: 3,5
- Светочувствительность: 1600
- Фокусное расстояние: 18,0 mm (35 mm equivalent: 18,0 mm)
- Полный EXIF
- Adobe
- ColorTransform: YCbCr
- Composite
- Aperture: 3,5
- CircleOfConfusion: 0,020 mm
- DOF: inf (0,00 m - inf)
- FOV: 90,0 deg
- Flash: Auto, Did not fire
- FocalLength35efl: 18,0 mm (35 mm equivalent: 18,0 mm)
- HyperfocalDistance: inf m
- LensID: AF-S DX VR Zoom-Nikkor 18-105mm f/3.5-5.6G ED
- ScaleFactor35efl: 1,5
- ShutterSpeed: 1/320
- ExifIFD
- ApertureValue: 3,5
- CFAPattern: [Green,Blue][Red,Green]
- Contrast: Normal
- CreateDate: 2013:07:11 14:41:29
- CustomRendered: Normal
- DateTimeOriginal: 2013:07:11 14:41:29
- DigitalZoomRatio: 1
- ExposureCompensation: 0
- ExposureMode: Auto
- ExposureProgram: Not Defined
- ExposureTime: 1/320
- FNumber: 3,5
- FocalLength: 18,0 mm
- FocalLengthIn35mmFormat: 27 mm
- GainControl: High gain up
- ISO: 1600
- LensInfo: 18-105mm f/3.5-5.6
- LensModel: 18.0-105.0 mm f/3.5-5.6
- LightSource: Unknown
- MaxApertureValue: 3,5
- MeteringMode: Multi-segment
- Saturation: Normal
- SceneCaptureType: Standard
- SceneType: Directly photographed
- SensingMethod: One-chip color area
- SensitivityType: Unknown
- SerialNumber: 6620826
- Sharpness: Normal
- ShutterSpeedValue: 1/320
- SubjectDistance: 4294967295 m
- SubjectDistanceRange: Unknown
- WhiteBalance: Auto
- ICC-header
- ICC-meas
- ICC-view
- IFD0
- Make: NIKON CORPORATION
- Model: NIKON D90
- ModifyDate: 2013:07:29 17:48:24
- Software: Ver.1.00
- IFD1
- System
- XMP-aux
- ApproximateFocusDistance: 4294967295
- ImageNumber: 8361
- Lens: 18.0-105.0 mm f/3.5-5.6
- LensID: 158
- XMP-crs
- AlreadyApplied: True
- BlueHue: 0
- BlueSaturation: 0
- Brightness: +46
- ChromaticAberrationB: 0
- ChromaticAberrationR: 0
- Clarity: +10
- ColorNoiseReduction: 25
- ColorNoiseReductionDetail: 50
- ColorTemperature: 5178
- Contrast: +25
- ConvertToGrayscale: False
- CropAngle: 3.65329
- CropBottom: 0.989426
- CropConstrainToWarp: 0
- CropHeight: 2549
- CropLeft: 0.073958
- CropRight: 0.926042
- CropTop: 0.010574
- CropUnit: pixels
- CropWidth: 3824
- Defringe: 0
- Exposure: 0.00
- FillLight: 0
- GrainAmount: 0
- GreenHue: 0
- GreenSaturation: 0
- HasCrop: True
- HasSettings: True
- HighlightRecovery: 0
- HueAdjustmentAqua: 0
- HueAdjustmentBlue: 0
- HueAdjustmentGreen: 0
- HueAdjustmentMagenta: 0
- HueAdjustmentOrange: 0
- HueAdjustmentPurple: 0
- HueAdjustmentRed: 0
- HueAdjustmentYellow: 0
- LensManualDistortionAmount: 0
- LensProfileEnable: 0
- LensProfileSetup: LensDefaults
- LuminanceAdjustmentAqua: 0
- LuminanceAdjustmentBlue: 0
- LuminanceAdjustmentGreen: 0
- LuminanceAdjustmentMagenta: 0
- LuminanceAdjustmentOrange: 0
- LuminanceAdjustmentPurple: 0
- LuminanceAdjustmentRed: 0
- LuminanceAdjustmentYellow: 0
- LuminanceNoiseReductionContrast: 0
- LuminanceNoiseReductionDetail: 50
- LuminanceSmoothing: 29
- ParametricDarks: 0
- ParametricHighlightSplit: 75
- ParametricHighlights: +14
- ParametricLights: 0
- ParametricMidtoneSplit: 50
- ParametricShadowSplit: 25
- ParametricShadows: -9
- PerspectiveHorizontal: 0
- PerspectiveRotate: 0.0
- PerspectiveScale: 100
- PerspectiveVertical: 0
- PostCropVignetteAmount: 0
- ProcessVersion: 5.7
- RedHue: 0
- RedSaturation: 0
- Saturation: 0
- SaturationAdjustmentAqua: 0
- SaturationAdjustmentBlue: +21
- SaturationAdjustmentGreen: +43
- SaturationAdjustmentMagenta: 0
- SaturationAdjustmentOrange: 0
- SaturationAdjustmentPurple: 0
- SaturationAdjustmentRed: 0
- SaturationAdjustmentYellow: 0
- ShadowTint: 0
- Shadows: 5
- SharpenDetail: 40
- SharpenEdgeMasking: 90
- SharpenRadius: +1.0
- Sharpness: 70
- SplitToningBalance: 0
- SplitToningHighlightHue: 0
- SplitToningHighlightSaturation: 0
- SplitToningShadowHue: 0
- SplitToningShadowSaturation: 0
- Tint: -7
- ToneCurve: 0, 0, 32, 22, 64, 56, 128, 128, 192, 196, 255, 255
- ToneCurveName: Medium Contrast
- Version: 6.3
- Vibrance: +5
- VignetteAmount: 0
- WhiteBalance: Custom
- XMP-exif
- DateTimeDigitized: 2013:07:11 14:41:29.00+04:00
- DateTimeOriginal: 2013:07:11 14:41:29.00+04:00
- ExifImageHeight: 3824
- ExifImageWidth: 2549
- FlashFired: False
- FlashFunction: False
- FlashMode: Auto
- FlashRedEyeMode: False
- FlashReturn: No return detection
- XMP-tiff
- ImageHeight: 3824
- ImageWidth: 2549
- XMP-xmp
- CreateDate: 2013:07:11 14:41:29.00+04:00
- ModifyDate: 2013:07:29 17:48:24+04:00
- Просмотров: 112
- Рейтинг: голосов еще нет
- Отзывов: 0