- Раздел: Другое, разное
- Дата съёмки: 05.01.2014 13:52
- Дата загрузки фото: 08.01.2014 21:52
- Оригинальная фотография: 2400 x 1570 (3,3 Мб)
- Технические характеристики:
- Фотоаппарат: Canon EOS 5D Mark III
- Выдержка: 1/500
- Гиперфокальное расстояние: inf m
- Диафрагма: 3,2
- Светочувствительность: 400
- Фокусное расстояние: 35,0 mm (35 mm equivalent: 70,0 mm)
- Экспокоррекция: +2/3
- Полный EXIF
- Adobe
- ColorTransform: YCbCr
- Composite
- Aperture: 3,2
- CircleOfConfusion: 0,012 mm
- FOV: 28,0 deg
- FocalLength35efl: 35,0 mm (35 mm equivalent: 70,0 mm)
- HyperfocalDistance: inf m
- LensID: Canon EF 35mm f/1.4L
- ScaleFactor35efl: 2,4
- ShutterSpeed: 1/500
- ExifIFD
- ApertureValue: 3,2
- ColorSpace: sRGB
- CreateDate: 2014:01:05 13:52:33
- CustomRendered: Normal
- DateTimeOriginal: 2014:01:05 13:52:33
- ExifImageHeight: 1570
- ExifImageWidth: 2400
- ExposureCompensation: +2/3
- ExposureMode: Auto
- ExposureProgram: Aperture-priority AE
- ExposureTime: 1/500
- FNumber: 3,2
- Flash: Off, Did not fire
- FocalLength: 35,0 mm
- ISO: 400
- LensInfo: 35mm f/?
- LensModel: EF35mm f/1.4L USM
- LensSerialNumber: 0000000000
- MaxApertureValue: 1,4
- MeteringMode: Multi-segment
- RecommendedExposureIndex: 400
- SceneCaptureType: Standard
- SensitivityType: Recommended Exposure Index
- SerialNumber: 053024002875
- ShutterSpeedValue: 1/500
- WhiteBalance: Auto
- ICC-header
- ICC-meas
- ICC-view
- IFD0
- Artist: aliko
- Copyright: zavains@yahoo.com
- Make: Canon
- Model: Canon EOS 5D Mark III
- ModifyDate: 2014:01:08 16:08:38
- Orientation: Horizontal (normal)
- IFD1
- IPTC
- By-line: aliko
- CopyrightNotice: zavains@yahoo.com
- DateCreated: 2014:01:05
- System
- XMP-aux
- ApproximateFocusDistance: 4294967295
- Firmware: 1.2.3
- FlashCompensation: 0
- ImageNumber: 0
- Lens: EF35mm f/1.4L USM
- LensID: 180
- XMP-crs
- AlreadyApplied: True
- AutoLateralCA: 1
- AutoWhiteVersion: 134348800
- Blacks2012: -12
- BlueHue: 0
- BlueSaturation: 0
- CameraProfile: Camera Neutral
- Clarity2012: +12
- ColorNoiseReduction: 25
- ColorNoiseReductionDetail: 50
- ColorNoiseReductionSmoothness: 50
- ColorTemperature: 6100
- Contrast2012: -4
- ConvertToGrayscale: False
- CropAngle: 0
- CropBottom: 0.961859
- CropConstrainToWarp: 1
- CropLeft: 0.029388
- CropRight: 0.997617
- CropTop: 0.011919
- DefringeGreenAmount: 0
- DefringeGreenHueHi: 60
- DefringeGreenHueLo: 40
- DefringePurpleAmount: 0
- DefringePurpleHueHi: 60
- DefringePurpleHueLo: 40
- Exposure2012: +0.10
- GrainAmount: 0
- GreenHue: 0
- GreenSaturation: 0
- HasCrop: True
- HasSettings: True
- Highlights2012: -3
- HueAdjustmentAqua: 0
- HueAdjustmentBlue: 0
- HueAdjustmentGreen: 0
- HueAdjustmentMagenta: 0
- HueAdjustmentOrange: 0
- HueAdjustmentPurple: 0
- HueAdjustmentRed: 0
- HueAdjustmentYellow: 0
- LensManualDistortionAmount: 0
- LensProfileChromaticAberrationScale: 100
- LensProfileDistortionScale: 100
- LensProfileEnable: 1
- LensProfileFilename: Canon EOS 5D Mark II (Canon EF 35mm f1.4L USM) - RAW.lcp
- LensProfileSetup: Custom
- LensProfileVignettingScale: 119
- LuminanceAdjustmentAqua: 0
- LuminanceAdjustmentBlue: 0
- LuminanceAdjustmentGreen: 0
- LuminanceAdjustmentMagenta: 0
- LuminanceAdjustmentOrange: 0
- LuminanceAdjustmentPurple: 0
- LuminanceAdjustmentRed: 0
- LuminanceAdjustmentYellow: 0
- LuminanceSmoothing: 0
- ParametricDarks: 0
- ParametricHighlightSplit: 75
- ParametricHighlights: 0
- ParametricLights: 0
- ParametricMidtoneSplit: 50
- ParametricShadowSplit: 25
- ParametricShadows: 0
- PerspectiveAspect: 0
- PerspectiveHorizontal: 0
- PerspectiveRotate: 0.0
- PerspectiveScale: 100
- PerspectiveUpright: 1
- PerspectiveVertical: 0
- PostCropVignetteAmount: 0
- ProcessVersion: 6.7
- RawFileName: IMG_6784.CR2
- RedHue: 0
- RedSaturation: 0
- Saturation: 0
- SaturationAdjustmentAqua: 0
- SaturationAdjustmentBlue: 0
- SaturationAdjustmentGreen: 0
- SaturationAdjustmentMagenta: 0
- SaturationAdjustmentOrange: 0
- SaturationAdjustmentPurple: 0
- SaturationAdjustmentRed: 0
- SaturationAdjustmentYellow: 0
- ShadowTint: 0
- Shadows2012: +12
- SharpenDetail: 25
- SharpenEdgeMasking: 0
- SharpenRadius: +1.0
- Sharpness: 25
- SplitToningBalance: 0
- SplitToningHighlightHue: 0
- SplitToningHighlightSaturation: 0
- SplitToningShadowHue: 0
- SplitToningShadowSaturation: 0
- Tint: -4
- ToneCurveName2012: Linear
- ToneCurvePV2012: 0, 0, 255, 255
- ToneCurvePV2012Blue: 0, 0, 255, 255
- ToneCurvePV2012Green: 0, 0, 255, 255
- ToneCurvePV2012Red: 0, 0, 255, 255
- Version: 8.2
- Vibrance: +6
- VignetteAmount: +20
- VignetteMidpoint: 50
- WhiteBalance: As Shot
- Whites2012: -9
- XMP-dc
- Creator: aliko
- Format: image/jpeg
- Rights: zavains@yahoo.com
- XMP-xmp
- ModifyDate: 2014:01:08 16:08:38Z
- Rating: 0
- XMP-xmpMM
- Просмотров: 164
- Рейтинг: голосов еще нет
- Отзывов: 0