- Раздел: Другое, разное
- Дата съёмки: 01.03.2014 17:52
- Дата загрузки фото: 01.03.2014 16:44
- Оригинальная фотография: 3821 x 2388 (3,2 Мб)
- Технические характеристики:
- Фотоаппарат: Sony NEX-6
- Выдержка: 1/60
- Гиперфокальное расстояние: inf m
- Диафрагма: 13,0
- Светочувствительность: 100
- Фокусное расстояние: 35,0 mm (35 mm equivalent: 35,0 mm)
- Полный EXIF
- Adobe
- ColorTransform: YCbCr
- Composite
- Aperture: 13,0
- CircleOfConfusion: 0,020 mm
- FOV: 54,0 deg
- FocalLength35efl: 35,0 mm (35 mm equivalent: 35,0 mm)
- HyperfocalDistance: inf m
- ScaleFactor35efl: 1,5
- ShutterSpeed: 1/60
- ExifIFD
- ApertureValue: 13,0
- BrightnessValue: 4,94296875
- ColorSpace: sRGB
- Contrast: Normal
- CreateDate: 2014:03:01 17:52:25
- CustomRendered: Normal
- DateTimeOriginal: 2014:03:01 17:52:25
- DigitalZoomRatio: 1
- ExposureCompensation: 0
- ExposureMode: Auto
- ExposureProgram: Aperture-priority AE
- ExposureTime: 1/60
- FNumber: 13,0
- Flash: On, Return detected
- FocalLength: 35,0 mm
- FocalLengthIn35mmFormat: 52 mm
- ISO: 100
- LensInfo: 35mm f/1.8
- LensModel: E 35mm F1.8 OSS
- LightSource: Unknown
- MaxApertureValue: 1,8
- MeteringMode: Multi-segment
- RecommendedExposureIndex: 100
- Saturation: Normal
- SceneCaptureType: Standard
- SceneType: Directly photographed
- SensitivityType: Recommended Exposure Index
- Sharpness: Normal
- ShutterSpeedValue: 1/60
- WhiteBalance: Auto
- ICC-header
- ICC-meas
- ICC-view
- IFD0
- Make: SONY
- Model: NEX-6
- ModifyDate: 2014:03:01 18:43:11
- IFD1
- IPTC
- DateCreated: 2014:03:01
- System
- XMP-aux
- Lens: E 35mm F1.8 OSS
- LensDistortInfo: 1046584103/1073741824 31326523/1073741824 3239745/1073741824 -7435595/1073741824
- XMP-crs
- AlreadyApplied: True
- AutoLateralCA: 1
- AutoWhiteVersion: 134348800
- Blacks2012: +28
- BlueHue: 0
- BlueSaturation: 0
- CircularGradientBasedCorrectionsCorrectionActive: true
- CircularGradientBasedCorrectionsCorrectionAmount: 1.000000
- CircularGradientBasedCorrectionsCorrectionMasksAngle: 0.000000
- CircularGradientBasedCorrectionsCorrectionMasksBottom: 0.390209
- CircularGradientBasedCorrectionsCorrectionMasksFeather: +50
- CircularGradientBasedCorrectionsCorrectionMasksFlipped: true
- CircularGradientBasedCorrectionsCorrectionMasksLeft: 0.448233
- CircularGradientBasedCorrectionsCorrectionMasksMaskValue: 1.000000
- CircularGradientBasedCorrectionsCorrectionMasksMidpoint: +50
- CircularGradientBasedCorrectionsCorrectionMasksRight: 0.511330
- CircularGradientBasedCorrectionsCorrectionMasksRoundness: 0
- CircularGradientBasedCorrectionsCorrectionMasksTop: 0.170877
- CircularGradientBasedCorrectionsCorrectionMasksVersion: +2
- CircularGradientBasedCorrectionsCorrectionMasksWhat: Mask/CircularGradient
- CircularGradientBasedCorrectionsLocalBrightness: 0.000000
- CircularGradientBasedCorrectionsLocalClarity2012: -1.000000
- CircularGradientBasedCorrectionsLocalContrast2012: 0.000000
- CircularGradientBasedCorrectionsLocalDefringe: 0.000000
- CircularGradientBasedCorrectionsLocalExposure2012: 0.000000
- CircularGradientBasedCorrectionsLocalHighlights2012: 0.000000
- CircularGradientBasedCorrectionsLocalLuminanceNoise: 1.000000
- CircularGradientBasedCorrectionsLocalMoire: 0.000000
- CircularGradientBasedCorrectionsLocalSaturation: 0.000000
- CircularGradientBasedCorrectionsLocalShadows2012: 0.000000
- CircularGradientBasedCorrectionsLocalSharpness: -1.000000
- CircularGradientBasedCorrectionsLocalTemperature: 0.000000
- CircularGradientBasedCorrectionsLocalTint: 0.000000
- CircularGradientBasedCorrectionsLocalToningHue: 0.000000
- CircularGradientBasedCorrectionsLocalToningSaturation: 0.000000
- CircularGradientBasedCorrectionsWhat: Correction
- Clarity2012: +26
- ColorNoiseReduction: 25
- ColorNoiseReductionDetail: 50
- ColorNoiseReductionSmoothness: 50
- ColorTemperature: 6300
- Contrast2012: 0
- ConvertToGrayscale: False
- CropAngle: 0
- CropBottom: 0.924458
- CropConstrainToWarp: 0
- CropLeft: 0.132675
- CropRight: 0.91054
- CropTop: 0.192827
- DefringeGreenAmount: 0
- DefringeGreenHueHi: 60
- DefringeGreenHueLo: 40
- DefringePurpleAmount: 0
- DefringePurpleHueHi: 70
- DefringePurpleHueLo: 30
- Exposure2012: 0.00
- GrainAmount: 0
- GreenHue: 0
- GreenSaturation: 0
- HasCrop: True
- HasSettings: True
- Highlights2012: 0
- HueAdjustmentAqua: +100
- HueAdjustmentBlue: +100
- HueAdjustmentGreen: 0
- HueAdjustmentMagenta: 0
- HueAdjustmentOrange: 0
- HueAdjustmentPurple: 0
- HueAdjustmentRed: 0
- HueAdjustmentYellow: 0
- LensManualDistortionAmount: 0
- LensProfileChromaticAberrationScale: 100
- LensProfileDistortionScale: 100
- LensProfileEnable: 1
- LensProfileFilename: SONY (Sony E 35mm F1.8 OSS) - RAW.lcp
- LensProfileSetup: Custom
- LensProfileVignettingScale: 100
- LuminanceAdjustmentAqua: 0
- LuminanceAdjustmentBlue: -13
- LuminanceAdjustmentGreen: 0
- LuminanceAdjustmentMagenta: 0
- LuminanceAdjustmentOrange: 0
- LuminanceAdjustmentPurple: 0
- LuminanceAdjustmentRed: 0
- LuminanceAdjustmentYellow: +36
- LuminanceSmoothing: 0
- ParametricDarks: +21
- ParametricHighlightSplit: 75
- ParametricHighlights: 0
- ParametricLights: 0
- ParametricMidtoneSplit: 50
- ParametricShadowSplit: 25
- ParametricShadows: 0
- PerspectiveAspect: 0
- PerspectiveHorizontal: 0
- PerspectiveRotate: 0.0
- PerspectiveScale: 100
- PerspectiveUpright: 0
- PerspectiveVertical: 0
- PostCropVignetteAmount: 0
- ProcessVersion: 6.7
- RedHue: 0
- RedSaturation: 0
- Saturation: 0
- SaturationAdjustmentAqua: 0
- SaturationAdjustmentBlue: -100
- SaturationAdjustmentGreen: 0
- SaturationAdjustmentMagenta: 0
- SaturationAdjustmentOrange: 0
- SaturationAdjustmentPurple: 0
- SaturationAdjustmentRed: 0
- SaturationAdjustmentYellow: +37
- ShadowTint: 0
- Shadows2012: +26
- SharpenDetail: 25
- SharpenEdgeMasking: 0
- SharpenRadius: +1.0
- Sharpness: 13
- SplitToningBalance: 0
- SplitToningHighlightHue: 0
- SplitToningHighlightSaturation: 0
- SplitToningShadowHue: 0
- SplitToningShadowSaturation: 0
- Tint: +20
- ToneCurveName2012: Linear
- ToneCurvePV2012: 0, 0, 255, 255
- ToneCurvePV2012Blue: 0, 0, 255, 255
- ToneCurvePV2012Green: 0, 0, 255, 255
- ToneCurvePV2012Red: 0, 0, 255, 255
- Version: 8.3
- Vibrance: 0
- VignetteAmount: 0
- WhiteBalance: Custom
- Whites2012: 0
- XMP-dc
- XMP-xmp
- ModifyDate: 2014:03:01 18:43:11+06:00
- XMP-xmpMM
- Просмотров: 468
- Рейтинг: голосов еще нет
- Отзывов: 0