- Раздел: Город
- Дата съёмки: 05.05.2009 01:02
- Дата загрузки фото: 05.05.2009 22:21
- Оригинальная фотография: 1000 x 564 (320 Кб)
- Технические характеристики:
- Фотоаппарат: Sony DSLR-A700
- Выдержка: 1/4000
- Гиперфокальное расстояние: 3,59 m
- Диафрагма: 8,0
- Светочувствительность: 160
- Фокусное расстояние: 24,0 mm (35 mm equivalent: 36,0 mm)
- Полный EXIF
- Adobe
- ColorTransform: YCbCr
- Composite
- Aperture: 8,0
- CircleOfConfusion: 0,020 mm
- FOV: 53,0 deg
- FocalLength35efl: 24,0 mm (35 mm equivalent: 36,0 mm)
- HyperfocalDistance: 3,59 m
- ScaleFactor35efl: 1,5
- ShutterSpeed: 1/4000
- ExifIFD
- ApertureValue: 8,0
- BrightnessValue: 12,25
- ColorSpace: sRGB
- Contrast: High
- CreateDate: 2009:05:03 20:00:00
- CustomRendered: Normal
- DateTimeOriginal: 2009:05:03 20:00:00
- DigitalZoomRatio: 0
- ExifImageHeight: 564
- ExifImageWidth: 1000
- ExposureCompensation: 0
- ExposureMode: Auto
- ExposureProgram: Aperture-priority AE
- ExposureTime: 1/4000
- FNumber: 8,0
- Flash: Off
- FocalLength: 24,0 mm
- FocalLengthIn35mmFormat: 36 mm
- ISO: 160
- LightSource: Flash
- MaxApertureValue: 2,8
- MeteringMode: Center-weighted average
- Saturation: High
- SceneCaptureType: Standard
- SceneType: Directly photographed
- Sharpness: Soft
- ShutterSpeedValue: 1/4000
- WhiteBalance: Manual
- ICC-header
- ICC-meas
- ICC-view
- IFD0
- ImageDescription: SONY DSC
- Make: SONY
- Model: DSLR-A700
- ModifyDate: 2009:05:05 01:02:39
- Orientation: Horizontal (normal)
- IFD1
- IPTC
- Caption-Abstract: SONY DSC
- XMP-crs
- AlreadyApplied: True
- BlueHue: 0
- BlueSaturation: 0
- Brightness: +55
- CameraProfile: ACR 4.4
- ChromaticAberrationB: 0
- ChromaticAberrationR: 0
- Clarity: -100
- ColorNoiseReduction: 25
- Contrast: +100
- ConvertToGrayscale: True
- CropAngle: 0.930496
- CropBottom: 0.775804
- CropHeight: 2148
- CropLeft: 0.10474
- CropRight: 0.988243
- CropTop: 0
- CropUnit: 0
- CropWidth: 3810
- Defringe: 1
- Exposure: +0.17
- FillLight: 76
- GrayMixerAqua: -20
- GrayMixerBlue: +5
- GrayMixerGreen: -23
- GrayMixerMagenta: +6
- GrayMixerOrange: -13
- GrayMixerPurple: +13
- GrayMixerRed: -4
- GrayMixerYellow: -17
- GreenHue: 0
- GreenSaturation: 0
- HasCrop: True
- HasSettings: True
- HighlightRecovery: 30
- LuminanceSmoothing: 0
- ParametricDarks: 0
- ParametricHighlightSplit: 75
- ParametricHighlights: 0
- ParametricLights: 0
- ParametricMidtoneSplit: 50
- ParametricShadowSplit: 25
- ParametricShadows: 0
- PostCropVignetteAmount: 0
- RedHue: 0
- RedSaturation: 0
- ShadowTint: 0
- Shadows: 100
- SharpenDetail: 25
- SharpenEdgeMasking: 0
- SharpenRadius: +1.0
- Sharpness: 25
- SplitToningBalance: -20
- SplitToningHighlightHue: 61
- SplitToningHighlightSaturation: 86
- SplitToningShadowHue: 231
- SplitToningShadowSaturation: 26
- Temperature: 6239
- Tint: +1
- ToneCurve: 0, 0, 32, 22, 64, 56, 128, 128, 192, 196, 255, 255
- ToneCurveName: Medium Contrast
- Version: 5.3
- VignetteAmount: 0
- WhiteBalance: Custom
- XMP-dc
- Description: SONY DSC
- Format: image/jpeg
- XMP-exif
- DateTimeDigitized: 2009:05:03 20:00:00+04:00
- DateTimeOriginal: 2009:05:03 20:00:00+04:00
- FlashFired: False
- FlashFunction: False
- FlashMode: Off
- FlashRedEyeMode: False
- FlashReturn: No return detection
- XMP-tiff
- ImageHeight: 2148
- ImageWidth: 3810
- XMP-xmp
- CreateDate: 2009:05:05 01:02:39+04:00
- ModifyDate: 2009:05:05 01:02:39+04:00
- XMP-xmpMM
- DerivedFrom: